BEGIN:VCALENDAR
VERSION:2.0
PRODID:-//Lancashire and South Cumbria Training Hub - ECPv6.15.20//NONSGML v1.0//EN
CALSCALE:GREGORIAN
METHOD:PUBLISH
X-ORIGINAL-URL:https://lscthub.co.uk
X-WR-CALDESC:Events for Lancashire and South Cumbria Training Hub
REFRESH-INTERVAL;VALUE=DURATION:PT1H
X-Robots-Tag:noindex
X-PUBLISHED-TTL:PT1H
BEGIN:VTIMEZONE
TZID:Europe/London
BEGIN:DAYLIGHT
TZOFFSETFROM:+0000
TZOFFSETTO:+0100
TZNAME:BST
DTSTART:20220327T010000
END:DAYLIGHT
BEGIN:STANDARD
TZOFFSETFROM:+0100
TZOFFSETTO:+0000
TZNAME:GMT
DTSTART:20221030T010000
END:STANDARD
BEGIN:DAYLIGHT
TZOFFSETFROM:+0000
TZOFFSETTO:+0100
TZNAME:BST
DTSTART:20230326T010000
END:DAYLIGHT
BEGIN:STANDARD
TZOFFSETFROM:+0100
TZOFFSETTO:+0000
TZNAME:GMT
DTSTART:20231029T010000
END:STANDARD
BEGIN:DAYLIGHT
TZOFFSETFROM:+0000
TZOFFSETTO:+0100
TZNAME:BST
DTSTART:20240331T010000
END:DAYLIGHT
BEGIN:STANDARD
TZOFFSETFROM:+0100
TZOFFSETTO:+0000
TZNAME:GMT
DTSTART:20241027T010000
END:STANDARD
END:VTIMEZONE
BEGIN:VEVENT
DTSTART;TZID=Europe/London:20231219T120000
DTEND;TZID=Europe/London:20231219T123000
DTSTAMP:20260423T015810
CREATED:20231207T095606Z
LAST-MODIFIED:20231207T095606Z
UID:38773-1702987200-1702989000@lscthub.co.uk
SUMMARY:Non-Medical Prescribing (NMP): Education & Training Session
DESCRIPTION:Topic: Antimicrobial resistance \nPresenter(s): Kate Ward and Suzanne Penrose (Medicines Optimisation Pharmacists) \nThe ICB NMP Leads and L&SC PCTH are pleased to share with you a 12-month Education and Training programme. The programme is to support Non-Medical Prescribers in key topic/therapeutic areas and encourage peer discussions and networking. \nThe bitesize education and training sessions will be held for 30 minutes via Microsoft Teams\, every third Tuesday of the month between 12noon and 12.30pm. \nThe following link can be used to access the online sessions and a timetable of sessions programmed in for the first six months can be found (see doc) \nTo access the sessions please: Click here to join the meeting \nNon-Medical Prescribing Education and Training Sessions Timetable
URL:https://lscthub.co.uk/events/non-medical-prescribing-nmp-education-training-session/
CATEGORIES:General Events
END:VEVENT
BEGIN:VEVENT
DTSTART;TZID=Europe/London:20231219T140000
DTEND;TZID=Europe/London:20231219T143000
DTSTAMP:20260423T015810
CREATED:20230908T114234Z
LAST-MODIFIED:20230908T114234Z
UID:36221-1702994400-1702996200@lscthub.co.uk
SUMMARY:Primary Care Drop-in session - Workforce development support
DESCRIPTION:For PCN and Practice Managers/Clinical Directors/GPs/all PCN and practice staff who support the recruitment and retention of their teams \nHave a question about ARRS roles? Need support with workforce planning or staff development? Looking for opportunities to share your job vacancies? Interested in job matching services and linking in with local job seekers? Your local PCN Workforce Development Managers are here to help!
URL:https://lscthub.co.uk/events/primary-care-drop-in-session-workforce-development-support-5/
CATEGORIES:General Events
END:VEVENT
END:VCALENDAR