BEGIN:VCALENDAR
VERSION:2.0
PRODID:-//Lancashire and South Cumbria Training Hub - ECPv6.15.20//NONSGML v1.0//EN
CALSCALE:GREGORIAN
METHOD:PUBLISH
X-WR-CALNAME:Lancashire and South Cumbria Training Hub
X-ORIGINAL-URL:https://lscthub.co.uk
X-WR-CALDESC:Events for Lancashire and South Cumbria Training Hub
REFRESH-INTERVAL;VALUE=DURATION:PT1H
X-Robots-Tag:noindex
X-PUBLISHED-TTL:PT1H
BEGIN:VTIMEZONE
TZID:Europe/London
BEGIN:DAYLIGHT
TZOFFSETFROM:+0000
TZOFFSETTO:+0100
TZNAME:BST
DTSTART:20220327T010000
END:DAYLIGHT
BEGIN:STANDARD
TZOFFSETFROM:+0100
TZOFFSETTO:+0000
TZNAME:GMT
DTSTART:20221030T010000
END:STANDARD
BEGIN:DAYLIGHT
TZOFFSETFROM:+0000
TZOFFSETTO:+0100
TZNAME:BST
DTSTART:20230326T010000
END:DAYLIGHT
BEGIN:STANDARD
TZOFFSETFROM:+0100
TZOFFSETTO:+0000
TZNAME:GMT
DTSTART:20231029T010000
END:STANDARD
BEGIN:DAYLIGHT
TZOFFSETFROM:+0000
TZOFFSETTO:+0100
TZNAME:BST
DTSTART:20240331T010000
END:DAYLIGHT
BEGIN:STANDARD
TZOFFSETFROM:+0100
TZOFFSETTO:+0000
TZNAME:GMT
DTSTART:20241027T010000
END:STANDARD
END:VTIMEZONE
BEGIN:VEVENT
DTSTART;TZID=Europe/London:20231213T100000
DTEND;TZID=Europe/London:20231213T103000
DTSTAMP:20260423T114444
CREATED:20231115T115512Z
LAST-MODIFIED:20231115T115512Z
UID:38272-1702461600-1702463400@lscthub.co.uk
SUMMARY:Preceptorship Workshop
DESCRIPTION:The workshop offers: \n\nan in-depth look at the national preceptorship programme\nan explanation of the roles\, responsibilities and skills of the preceptor\nguidance on how preceptors can support preceptees in practice\nan explanation on how to complete the required documentation\nthe development of peer preceptorship support networks\n\nPlaces are limited\, and so if you have booked a place on this event\, please ensure you attend. \nPreceptorship Workshops Flyer \nIf you are no longer able to attend\, please cancel your place on Eventbrite. If you are struggling with booking or cancelling a place\, please contact us on mbpcc.lscthub@nhs.net
URL:https://lscthub.co.uk/events/preceptorship-workshop-3/
CATEGORIES:General Events
END:VEVENT
BEGIN:VEVENT
DTSTART;TZID=Europe/London:20231213T100000
DTEND;TZID=Europe/London:20231213T113000
DTSTAMP:20260423T114444
CREATED:20231116T154530Z
LAST-MODIFIED:20231116T154530Z
UID:38442-1702461600-1702467000@lscthub.co.uk
SUMMARY:NW Eliminating Bullying and Harassment Event
DESCRIPTION:Respecting our People – what more can we do to eliminate bullying and harassment behaviours within our organisations? \n  \nThe North West NHSE People Experience Team are joining with the National NHSE Civility and Respect Team to bring you an event to revisit our focus on developing civil and respectful environments by eliminating bullying and harassment behaviours. \n  \n The aim of the event will be to: \n·       Share the results of the North West Bullying and Harassment Deep Dive\, identify future steps our organisations and systems can take. \n·       Hear from organisations who have made improvements to reduce bullying and harassment behaviours. \n·       Raise awareness of the Civility and Respect Programme resources and gain early insight into how the Civility and Respect Toolkit is being refreshed for 2024. \n  \nThe event is being held on Wednesday 13th December 2023\, from 10am – 11:30am via MS Teams – please register via this link\, block out the time in your calendar\, and an invite will be sent closer to the event date. \n  \nThis event is open to everybody who has a role or an interest in further developing civil and respectful cultures within their organisation\, and we would welcome you joining us to contribute to and help progress this work in the North West.
URL:https://lscthub.co.uk/events/nw-eliminating-bullying-and-harassment-event/
CATEGORIES:General Events
END:VEVENT
BEGIN:VEVENT
DTSTART;TZID=Europe/London:20231213T120000
DTEND;TZID=Europe/London:20231213T130000
DTSTAMP:20260423T114444
CREATED:20231124T181809Z
LAST-MODIFIED:20231124T181809Z
UID:38620-1702468800-1702472400@lscthub.co.uk
SUMMARY:National AHP Preceptorship and Foundation Support Programme Q&A Session
DESCRIPTION:We are delighted to invite you to join the National AHP Preceptorship and Foundation Support Programme to launch the publication of the NHS England AHP Preceptorship Standards and Framework. \nThe AHP Preceptorship Standards and Framework are aimed at AHPs working across England\, providing evidence based resources to support inclusive access to high quality preceptorship across a range of career transitions.\nThese events are aimed at all those with an interest in AHP Preceptorship\nNHS England\nAllied Health Professions (AHP) Preceptorship\nStandards and Framework Publication Launch \nAHP Preceptorship Standards and Framework Launch Events Poster \nIf you have any queries\, please contact via england.ahp-preceptorship@nhs.net
URL:https://lscthub.co.uk/events/national-ahp-preceptorship-and-foundation-support-programme-qa-session/
CATEGORIES:General Events
END:VEVENT
END:VCALENDAR