BEGIN:VCALENDAR
VERSION:2.0
PRODID:-//Lancashire and South Cumbria Training Hub - ECPv6.15.20//NONSGML v1.0//EN
CALSCALE:GREGORIAN
METHOD:PUBLISH
X-WR-CALNAME:Lancashire and South Cumbria Training Hub
X-ORIGINAL-URL:https://lscthub.co.uk
X-WR-CALDESC:Events for Lancashire and South Cumbria Training Hub
REFRESH-INTERVAL;VALUE=DURATION:PT1H
X-Robots-Tag:noindex
X-PUBLISHED-TTL:PT1H
BEGIN:VTIMEZONE
TZID:Europe/London
BEGIN:DAYLIGHT
TZOFFSETFROM:+0000
TZOFFSETTO:+0100
TZNAME:BST
DTSTART:20220327T010000
END:DAYLIGHT
BEGIN:STANDARD
TZOFFSETFROM:+0100
TZOFFSETTO:+0000
TZNAME:GMT
DTSTART:20221030T010000
END:STANDARD
BEGIN:DAYLIGHT
TZOFFSETFROM:+0000
TZOFFSETTO:+0100
TZNAME:BST
DTSTART:20230326T010000
END:DAYLIGHT
BEGIN:STANDARD
TZOFFSETFROM:+0100
TZOFFSETTO:+0000
TZNAME:GMT
DTSTART:20231029T010000
END:STANDARD
BEGIN:DAYLIGHT
TZOFFSETFROM:+0000
TZOFFSETTO:+0100
TZNAME:BST
DTSTART:20240331T010000
END:DAYLIGHT
BEGIN:STANDARD
TZOFFSETFROM:+0100
TZOFFSETTO:+0000
TZNAME:GMT
DTSTART:20241027T010000
END:STANDARD
END:VTIMEZONE
BEGIN:VTIMEZONE
TZID:UTC
BEGIN:STANDARD
TZOFFSETFROM:+0000
TZOFFSETTO:+0000
TZNAME:UTC
DTSTART:20220101T000000
END:STANDARD
END:VTIMEZONE
BEGIN:VEVENT
DTSTART;VALUE=DATE:20231212
DTEND;VALUE=DATE:20231213
DTSTAMP:20260423T114856
CREATED:20231026T145720Z
LAST-MODIFIED:20231026T145720Z
UID:37602-1702339200-1702425599@lscthub.co.uk
SUMMARY:Health Coaching – Face to Face Morecambe Day 2
DESCRIPTION:Follow this link for further 2-Day Core Skills Health Coaching Courses that we are offering free of charge to all Lancs & S Cumbria colleagues in November & December 2023\, who have not already attended a 2-Day HC Course previously. \nThe 2-day face to face programme is designed to support practitioners from all health\, care\, community and voluntary sectors to learn how to use health coaching effectively in their current roles when speaking to patients/clients. \nHealth Coaching will give you the opportunity to build on the many skills you already possess and learn how a health coaching approach can very usefully support your work. \nPlease fill out the application form in full (stating your chosen co-hort dates) and send to workforcetraining@activelancashire.org.uk \, so that we can register you on your chosen dates. (Please note registrations are on a first come\, first serve basis) \nOnce registered\, you will receive a confirmation e-mail. \nOnce all places have been filled on a course\, a follow-up e-mail will be sent to you. This will provide you with further course details/materials in preparation for your course.
URL:https://lscthub.co.uk/events/health-coaching-face-to-face-morecambe-day-2/
CATEGORIES:General Events
END:VEVENT
BEGIN:VEVENT
DTSTART;TZID=UTC:20231212T123000
DTEND;TZID=UTC:20231212T140000
DTSTAMP:20260423T114856
CREATED:20230526T082414Z
LAST-MODIFIED:20230526T082738Z
UID:33129-1702384200-1702389600@lscthub.co.uk
SUMMARY:Learning Disability Awareness and AHC’s: A Whole Practice Approach
DESCRIPTION:Who should attend: \nAny staff member who is involved in and/or has an interest in supporting people with learning disabilities (PWLD) to have annual health checks. \nDescription of training: \n\nTraining sessions will cover what a learning disability is/is not\, and the characteristics seen within different levels of LD\nOverview of LD inclusion tool to identify patients\, when and how to use\nOverview of LeDeR – purpose and statistics of preventable deaths in PWLD\nImportance of Annual Health Checks and common health issues in PWLD\nMental Capacity in relation to healthcare for PWLD\nBarriers to accessing equitable healthcare for PWLD\nAHC and health action plans – what should be considered\, how to develop an effective HAP\nEffective strategies to support successful AHC’s\nService aims and objectives of the Health Facilitation Team to support GP practices\nLearning Disability Champion proposal\nVideo’s from PWLD – explanation of their experiences of health checks\n\n  \nPlease ensure you have access to a camera and microphone to join the meeting.
URL:https://lscthub.co.uk/events/learning-disability-awareness-and-ahcs-a-whole-practice-approach-22/
CATEGORIES:General Events
END:VEVENT
BEGIN:VEVENT
DTSTART;TZID=Europe/London:20231212T123000
DTEND;TZID=Europe/London:20231212T153000
DTSTAMP:20260423T114856
CREATED:20231106T180449Z
LAST-MODIFIED:20231106T180449Z
UID:37927-1702384200-1702395000@lscthub.co.uk
SUMMARY:Mentor-Coach Development Training and Support Workshop
DESCRIPTION:The focus of this training is on introducing the principles and practices of a coaching approach which may be applied to your mentoring practice. The training will help you to understand what we mean by a coaching approach and introduce some of the key skills that it involves. It may also be seen as a taster to help you decide whether you would like to complete an ILM programme. \n  \nIf you have booked a place on this event\, please ensure you attend. \nIf you are no longer able to attend\, please cancel your place on Eventbrite. If you are struggling with booking or cancelling a place\, please contact us on mbpcc.lscthub@nhs.net \nBy signing up you agree for your information to be stored and shared by the Training Hub and with the Training Provider\, NHSE and HEE\, for the delivery of this training\, monitoring\, reporting and certification purposes only
URL:https://lscthub.co.uk/events/mentor-coach-development-training-and-support-workshop-2/
CATEGORIES:General Events
END:VEVENT
BEGIN:VEVENT
DTSTART;TZID=Europe/London:20231212T140000
DTEND;TZID=Europe/London:20231212T150000
DTSTAMP:20260423T114856
CREATED:20231124T181809Z
LAST-MODIFIED:20231124T181809Z
UID:38618-1702389600-1702393200@lscthub.co.uk
SUMMARY:National AHP Preceptorship and Foundation Support Programme Q&A Session
DESCRIPTION:We are delighted to invite you to join the National AHP Preceptorship and Foundation Support Programme to launch the publication of the NHS England AHP Preceptorship Standards and Framework. \nThe AHP Preceptorship Standards and Framework are aimed at AHPs working across England\, providing evidence based resources to support inclusive access to high quality preceptorship across a range of career transitions.\nThese events are aimed at all those with an interest in AHP Preceptorship\nNHS England\nAllied Health Professions (AHP) Preceptorship\nStandards and Framework Publication Launch \nAHP Preceptorship Standards and Framework Launch Events Poster \nIf you have any queries\, please contact via england.ahp-preceptorship@nhs.net
URL:https://lscthub.co.uk/events/national-ahp-preceptorship-and-foundation-support-programme-qa-session-2/
CATEGORIES:General Events
END:VEVENT
BEGIN:VEVENT
DTSTART;TZID=Europe/London:20231212T140000
DTEND;TZID=Europe/London:20231212T151500
DTSTAMP:20260423T114856
CREATED:20231121T095514Z
LAST-MODIFIED:20231121T095529Z
UID:38516-1702389600-1702394100@lscthub.co.uk
SUMMARY:Celebrating Preceptorship in Primary Care
DESCRIPTION:The National Preceptorship Programme for Nursing would like to extend an invitation to our Primary Care colleagues across the northwest to attend the ‘Celebrating Preceptorship in Primary Care’ Event on Tuesday 12th December at 2pm. \n\n\nAt this event the National Preceptorship Programme team will explore how preceptorship for nurses can be delivered in primary care settings.\nExamples of best practice from across our communities of practice will be shared\, including presentations from organisations who have been awarded the Interim Quality Mark. If you are working in primary care and involved in supporting and developing preceptorship within your organisation\, please do join. \nAn agenda will be sent out to attendees prior to the event. For more information about the National Preceptorship Programme please see the website at: https://workforceskills.nhs.uk/projects/nhse-i-national-preceptorship-programme-2022/ \n\n\nYou can register your place via this link – Celebrating Preceptorship in Primary Care Tickets\, Tue 12 Dec 2023 at 14:00 | Eventbrite
URL:https://lscthub.co.uk/events/celebrating-preceptorship-in-primary-care/
CATEGORIES:General Events
END:VEVENT
END:VCALENDAR