BEGIN:VCALENDAR
VERSION:2.0
PRODID:-//Lancashire and South Cumbria Training Hub - ECPv6.15.20//NONSGML v1.0//EN
CALSCALE:GREGORIAN
METHOD:PUBLISH
X-ORIGINAL-URL:https://lscthub.co.uk
X-WR-CALDESC:Events for Lancashire and South Cumbria Training Hub
REFRESH-INTERVAL;VALUE=DURATION:PT1H
X-Robots-Tag:noindex
X-PUBLISHED-TTL:PT1H
BEGIN:VTIMEZONE
TZID:Europe/London
BEGIN:DAYLIGHT
TZOFFSETFROM:+0000
TZOFFSETTO:+0100
TZNAME:BST
DTSTART:20220327T010000
END:DAYLIGHT
BEGIN:STANDARD
TZOFFSETFROM:+0100
TZOFFSETTO:+0000
TZNAME:GMT
DTSTART:20221030T010000
END:STANDARD
BEGIN:DAYLIGHT
TZOFFSETFROM:+0000
TZOFFSETTO:+0100
TZNAME:BST
DTSTART:20230326T010000
END:DAYLIGHT
BEGIN:STANDARD
TZOFFSETFROM:+0100
TZOFFSETTO:+0000
TZNAME:GMT
DTSTART:20231029T010000
END:STANDARD
BEGIN:DAYLIGHT
TZOFFSETFROM:+0000
TZOFFSETTO:+0100
TZNAME:BST
DTSTART:20240331T010000
END:DAYLIGHT
BEGIN:STANDARD
TZOFFSETFROM:+0100
TZOFFSETTO:+0000
TZNAME:GMT
DTSTART:20241027T010000
END:STANDARD
END:VTIMEZONE
BEGIN:VEVENT
DTSTART;TZID=Europe/London:20231211T100000
DTEND;TZID=Europe/London:20231211T103000
DTSTAMP:20260423T015807
CREATED:20231115T115119Z
LAST-MODIFIED:20231116T112323Z
UID:38264-1702288800-1702290600@lscthub.co.uk
SUMMARY:Preceptorship Webinar
DESCRIPTION:The webinar will include: \n\nIntroduction to the L&SC PCTH Legacy Mentor\nNational Preceptorship Programme and Principles\nInformation about the Preceptorship Programme\nPreceptorship Programme for Preceptees\nDevelopment and training of Preceptors\nQuestions and answers\n\nThis webinar will be recorded. Please let us know if this causes a problem for you. \nIf you have booked a place on this event\, please ensure you attend. \nWebinar Preceptorship Flyer (2) \nIf you are no longer able to attend\, please cancel your place on Eventbrite. If you are struggling with booking or cancelling a place\, please contact us on mbpcc.lscthub@nhs.net
URL:https://lscthub.co.uk/events/preceptorship-webinar-4/
CATEGORIES:General Events
END:VEVENT
END:VCALENDAR