BEGIN:VCALENDAR
VERSION:2.0
PRODID:-//Lancashire and South Cumbria Training Hub - ECPv6.15.20//NONSGML v1.0//EN
CALSCALE:GREGORIAN
METHOD:PUBLISH
X-ORIGINAL-URL:https://lscthub.co.uk
X-WR-CALDESC:Events for Lancashire and South Cumbria Training Hub
REFRESH-INTERVAL;VALUE=DURATION:PT1H
X-Robots-Tag:noindex
X-PUBLISHED-TTL:PT1H
BEGIN:VTIMEZONE
TZID:UTC
BEGIN:STANDARD
TZOFFSETFROM:+0000
TZOFFSETTO:+0000
TZNAME:UTC
DTSTART:20220101T000000
END:STANDARD
END:VTIMEZONE
BEGIN:VTIMEZONE
TZID:Europe/London
BEGIN:DAYLIGHT
TZOFFSETFROM:+0000
TZOFFSETTO:+0100
TZNAME:BST
DTSTART:20220327T010000
END:DAYLIGHT
BEGIN:STANDARD
TZOFFSETFROM:+0100
TZOFFSETTO:+0000
TZNAME:GMT
DTSTART:20221030T010000
END:STANDARD
BEGIN:DAYLIGHT
TZOFFSETFROM:+0000
TZOFFSETTO:+0100
TZNAME:BST
DTSTART:20230326T010000
END:DAYLIGHT
BEGIN:STANDARD
TZOFFSETFROM:+0100
TZOFFSETTO:+0000
TZNAME:GMT
DTSTART:20231029T010000
END:STANDARD
BEGIN:DAYLIGHT
TZOFFSETFROM:+0000
TZOFFSETTO:+0100
TZNAME:BST
DTSTART:20240331T010000
END:DAYLIGHT
BEGIN:STANDARD
TZOFFSETFROM:+0100
TZOFFSETTO:+0000
TZNAME:GMT
DTSTART:20241027T010000
END:STANDARD
END:VTIMEZONE
BEGIN:VEVENT
DTSTART;TZID=UTC:20231206T093000
DTEND;TZID=UTC:20231206T100000
DTSTAMP:20260423T015822
CREATED:20230222T230619Z
LAST-MODIFIED:20230919T105531Z
UID:30560-1701855000-1701856800@lscthub.co.uk
SUMMARY:Interviewing skills training
DESCRIPTION:This one hour session looks at interview techniques to get the most out of recruitment​​ \nThis is a fully interactive session- please ensure you have a camera and microphone \nYou will receive a certificate post training for your attendance. Places are limited\, if you have booked a place\, please ensure you attend.If you are no longer able to attend\, please cancel your place via Eventbrite. \nIf you are struggling with booking or cancelling your place\, please contact us on mbpcc.lscthub@nhs.net
URL:https://lscthub.co.uk/events/interviewing-skills-training-5/
CATEGORIES:General Events
END:VEVENT
BEGIN:VEVENT
DTSTART;TZID=UTC:20231206T120000
DTEND;TZID=UTC:20231206T123000
DTSTAMP:20260423T015822
CREATED:20230222T230646Z
LAST-MODIFIED:20230919T105524Z
UID:30561-1701864000-1701865800@lscthub.co.uk
SUMMARY:Interviewing skills training
DESCRIPTION:This one hour session looks at interview techniques to get the most out of recruitment​​ \nThis is a fully interactive session- please ensure you have a camera and microphone \nYou will receive a certificate post training for your attendance. Places are limited\, if you have booked a place\, please ensure you attend.If you are no longer able to attend\, please cancel your place via Eventbrite. \nIf you are struggling with booking or cancelling your place\, please contact us on mbpcc.lscthub@nhs.net
URL:https://lscthub.co.uk/events/interviewing-skills-training-6/
CATEGORIES:General Events
END:VEVENT
BEGIN:VEVENT
DTSTART;TZID=Europe/London:20231206T123000
DTEND;TZID=Europe/London:20231206T140000
DTSTAMP:20260423T015822
CREATED:20231124T182419Z
LAST-MODIFIED:20231124T182419Z
UID:38637-1701865800-1701871200@lscthub.co.uk
SUMMARY:Navigating through Modern General Practice 'how to' and the GP Improvement Programme
DESCRIPTION:*REGISTRATION FOR THE WEBINAR ON 5TH DECEMBER WILL CLOSE AT 12PM ON 1ST DECEMBER. JOINING LINKS WILL BE SENT 24-48 HOURS BEFORE THE WEBINAR*\n\nA Modern General Practice model is a way of organising work in general practice to help enable practices to provide fair and safe care\, while also supporting the sustainability of services and an improved experience for both patients and staff. \nThe model involves practices: \n\nhaving a full understanding of demand and available capacity;\nproviding easy to use access routes to patients;\ncollecting consistent information from the patient at the point of contact;\nusing this information to give the most appropriate help to patients based on need; and\nimproving management of non-patient facing workload to help release capacity.\n\n\nNavigating through the ‘How to’ guides and the GPIP offers\n\nThis webinar helps you identify where to focus your improvement\, where and how to start\, what to expect and how to make the most of our improvement programme offers including self-navigation tools\, resources and webinars.
URL:https://lscthub.co.uk/events/navigating-through-modern-general-practice-how-to-and-the-gp-improvement-programme-4/
CATEGORIES:General Events
END:VEVENT
BEGIN:VEVENT
DTSTART;TZID=Europe/London:20231206T133000
DTEND;TZID=Europe/London:20231206T140000
DTSTAMP:20260423T015822
CREATED:20231115T115030Z
LAST-MODIFIED:20231116T112332Z
UID:38262-1701869400-1701871200@lscthub.co.uk
SUMMARY:Preceptorship Webinar
DESCRIPTION:The webinar will include: \n\nIntroduction to the L&SC PCTH Legacy Mentor\nNational Preceptorship Programme and Principles\nInformation about the Preceptorship Programme\nPreceptorship Programme for Preceptees\nDevelopment and training of Preceptors\nQuestions and answers\n\nThis webinar will be recorded. Please let us know if this causes a problem for you. \nIf you have booked a place on this event\, please ensure you attend. \nWebinar Preceptorship Flyer (2)
URL:https://lscthub.co.uk/events/preceptorship-webinar-3/
CATEGORIES:General Events
END:VEVENT
END:VCALENDAR