BEGIN:VCALENDAR
VERSION:2.0
PRODID:-//Lancashire and South Cumbria Training Hub - ECPv6.15.20//NONSGML v1.0//EN
CALSCALE:GREGORIAN
METHOD:PUBLISH
X-ORIGINAL-URL:https://lscthub.co.uk
X-WR-CALDESC:Events for Lancashire and South Cumbria Training Hub
REFRESH-INTERVAL;VALUE=DURATION:PT1H
X-Robots-Tag:noindex
X-PUBLISHED-TTL:PT1H
BEGIN:VTIMEZONE
TZID:Europe/London
BEGIN:DAYLIGHT
TZOFFSETFROM:+0000
TZOFFSETTO:+0100
TZNAME:BST
DTSTART:20220327T010000
END:DAYLIGHT
BEGIN:STANDARD
TZOFFSETFROM:+0100
TZOFFSETTO:+0000
TZNAME:GMT
DTSTART:20221030T010000
END:STANDARD
BEGIN:DAYLIGHT
TZOFFSETFROM:+0000
TZOFFSETTO:+0100
TZNAME:BST
DTSTART:20230326T010000
END:DAYLIGHT
BEGIN:STANDARD
TZOFFSETFROM:+0100
TZOFFSETTO:+0000
TZNAME:GMT
DTSTART:20231029T010000
END:STANDARD
BEGIN:DAYLIGHT
TZOFFSETFROM:+0000
TZOFFSETTO:+0100
TZNAME:BST
DTSTART:20240331T010000
END:DAYLIGHT
BEGIN:STANDARD
TZOFFSETFROM:+0100
TZOFFSETTO:+0000
TZNAME:GMT
DTSTART:20241027T010000
END:STANDARD
END:VTIMEZONE
BEGIN:VEVENT
DTSTART;TZID=Europe/London:20231201T110000
DTEND;TZID=Europe/London:20231201T120000
DTSTAMP:20260423T015815
CREATED:20231124T181804Z
LAST-MODIFIED:20231124T181804Z
UID:38615-1701428400-1701432000@lscthub.co.uk
SUMMARY:National AHP Preceptorship and Foundation Support Programme Webinars
DESCRIPTION:We are delighted to invite you to join the National AHP Preceptorship and Foundation Support Programme to launch the publication of the NHS England AHP Preceptorship Standards and Framework. \nThe AHP Preceptorship Standards and Framework are aimed at AHPs working across England\, providing evidence based resources to support inclusive access to high quality preceptorship across a range of career transitions.\nThese events are aimed at all those with an interest in AHP Preceptorship\nNHS England\nAllied Health Professions (AHP) Preceptorship\nStandards and Framework Publication Launch \nAHP Preceptorship Standards and Framework Launch Events Poster \nIf you have any queries\, please contact via england.ahp-preceptorship@nhs.net
URL:https://lscthub.co.uk/events/national-ahp-preceptorship-and-foundation-support-programme-webinars-3/
CATEGORIES:General Events
END:VEVENT
END:VCALENDAR