BEGIN:VCALENDAR
VERSION:2.0
PRODID:-//Lancashire and South Cumbria Training Hub - ECPv6.15.20//NONSGML v1.0//EN
CALSCALE:GREGORIAN
METHOD:PUBLISH
X-WR-CALNAME:Lancashire and South Cumbria Training Hub
X-ORIGINAL-URL:https://lscthub.co.uk
X-WR-CALDESC:Events for Lancashire and South Cumbria Training Hub
REFRESH-INTERVAL;VALUE=DURATION:PT1H
X-Robots-Tag:noindex
X-PUBLISHED-TTL:PT1H
BEGIN:VTIMEZONE
TZID:Europe/London
BEGIN:DAYLIGHT
TZOFFSETFROM:+0000
TZOFFSETTO:+0100
TZNAME:BST
DTSTART:20220327T010000
END:DAYLIGHT
BEGIN:STANDARD
TZOFFSETFROM:+0100
TZOFFSETTO:+0000
TZNAME:GMT
DTSTART:20221030T010000
END:STANDARD
BEGIN:DAYLIGHT
TZOFFSETFROM:+0000
TZOFFSETTO:+0100
TZNAME:BST
DTSTART:20230326T010000
END:DAYLIGHT
BEGIN:STANDARD
TZOFFSETFROM:+0100
TZOFFSETTO:+0000
TZNAME:GMT
DTSTART:20231029T010000
END:STANDARD
BEGIN:DAYLIGHT
TZOFFSETFROM:+0000
TZOFFSETTO:+0100
TZNAME:BST
DTSTART:20240331T010000
END:DAYLIGHT
BEGIN:STANDARD
TZOFFSETFROM:+0100
TZOFFSETTO:+0000
TZNAME:GMT
DTSTART:20241027T010000
END:STANDARD
END:VTIMEZONE
BEGIN:VTIMEZONE
TZID:UTC
BEGIN:STANDARD
TZOFFSETFROM:+0000
TZOFFSETTO:+0000
TZNAME:UTC
DTSTART:20220101T000000
END:STANDARD
END:VTIMEZONE
BEGIN:VEVENT
DTSTART;TZID=Europe/London:20231129T110000
DTEND;TZID=Europe/London:20231129T120000
DTSTAMP:20260423T051949
CREATED:20231124T180939Z
LAST-MODIFIED:20231124T180939Z
UID:38609-1701255600-1701259200@lscthub.co.uk
SUMMARY:ACP Clinical Supervision Session
DESCRIPTION:This training event will enable you to reflect on and further develop your knowledge and skills necessary to your role as a clinical supervisor. \nFocus: red flags – Gynae and urology case studies with Carrie Locker
URL:https://lscthub.co.uk/events/acp-clinical-supervision-session-5/
CATEGORIES:General Events
END:VEVENT
BEGIN:VEVENT
DTSTART;TZID=UTC:20231129T123000
DTEND;TZID=UTC:20231129T130000
DTSTAMP:20260423T051949
CREATED:20230222T225347Z
LAST-MODIFIED:20230919T105434Z
UID:30547-1701261000-1701262800@lscthub.co.uk
SUMMARY:How to perform an effective appraisal
DESCRIPTION:This one hour session looks at the key points to performing an effective appraisal \nThis is a fully interactive session- please ensure you have a camera and microphone \nYou will receive a certificate post training for your attendance. Places are limited\, if you have booked a place\, please ensure you attend.If you are no longer able to attend\, please cancel your place via Eventbrite. \nIf you are struggling with booking or cancelling your place\, please contact us on mbpcc.lscthub@nhs.net
URL:https://lscthub.co.uk/events/how-to-perform-an-effective-appraisal-5/
CATEGORIES:General Events
END:VEVENT
BEGIN:VEVENT
DTSTART;TZID=Europe/London:20231129T130000
DTEND;TZID=Europe/London:20231129T133000
DTSTAMP:20260423T051949
CREATED:20231106T181855Z
LAST-MODIFIED:20231106T181855Z
UID:37936-1701262800-1701264600@lscthub.co.uk
SUMMARY:Safeguarding tips for winter
DESCRIPTION:Safeguarding tips for winter is a thirty minute webinar by Bridgett Welch\, Specialist Safeguarding Practitioner for Adults and Children\, NHS Lancashire and South Cumbria Integrated Care Board \nThe webinar is open to all Primary Care staff \nPlease note this session will be recorded. \nIf you have booked a place on this event\, please ensure you attend. \nIf you are no longer able to attend\, please cancel your place on Eventbrite. If you are struggling with booking or cancelling a place\, please contact us on mbpcc.lscthub@nhs.net
URL:https://lscthub.co.uk/events/safeguarding-tips-for-winter/
CATEGORIES:General Events
END:VEVENT
BEGIN:VEVENT
DTSTART;TZID=Europe/London:20231129T130000
DTEND;TZID=Europe/London:20231129T140000
DTSTAMP:20260423T051949
CREATED:20231106T182006Z
LAST-MODIFIED:20231106T182006Z
UID:37938-1701262800-1701266400@lscthub.co.uk
SUMMARY:Neurodiversity Matters series: Neurodivergence Acceptance for Students\, Midwives and Midwifery Support Workers
DESCRIPTION:Emilie and Ruby will be presenting work undertaken so far\, including award-winning i-Learn modules\, research undertaken and the development of resources such as an exciting new neurodivergence acceptance toolkit\, being prepared for dissemination within HEIs in the Spring of 2024. \nDuring this webinar\, they will discuss details of collaborative projects between the education department of the RCM\, experts in their fields and wider stakeholder groups\, representing a range of different neurodivergence and intersectionality with the global majority and LGBTQ+ communities
URL:https://lscthub.co.uk/events/neurodiversity-matters-series-neurodivergence-acceptance-for-students-midwives-and-midwifery-support-workers/
CATEGORIES:General Events
END:VEVENT
BEGIN:VEVENT
DTSTART;TZID=Europe/London:20231129T130000
DTEND;TZID=Europe/London:20231129T140000
DTSTAMP:20260423T051949
CREATED:20231124T182133Z
LAST-MODIFIED:20231124T182133Z
UID:38631-1701262800-1701266400@lscthub.co.uk
SUMMARY:Joint Health and Wellbeing Coach and Care Coordinator share and learn
DESCRIPTION:This will be a joint webinar for Health and Wellbeing Coaches and Care Coordinators\, which will focus on Rheumatoid Arthritis (RA).  Rheumatoid arthritis is a long-term condition that causes pain\, swelling and stiffness in the joints. The hands\, feet and wrists are commonly affected\, but it can also cause problems in other parts of the body.  Attendees will find out more about rheumatoid arthritis and how best to support people living with the condition. \nWe will be joined by Ailsa Bosworth\, National Patient Champion from the National Rheumatoid Arthritis Society. (NRAS) who will be sharing knowledge and best practice around supporting people with this long-term condition. As a person with lived experience of the condition\, Ailsa will highlight the common issues faced by people and dispel some common misconceptions\, including how rheumatoid arthritis differs from other forms of arthritis. Ailsa will also be sharing some free resources\, developed by NRAS\, which can be used to help develop attendees understanding of RA\, as well as information about referral pathways for additional support for patients.   \nRegistration for this event closes at 9am 29 November. Joining instructions will be sent via email to all registrants the morning of the webinar \nWe look forward to seeing you there \nQuestions about this event?\nName: Emma Buxton \nEmail:england.supportedselfmanagment@nhs.net
URL:https://lscthub.co.uk/events/joint-health-and-wellbeing-coach-and-care-coordinator-share-and-learn/
CATEGORIES:General Events,Health & Wellbeing
END:VEVENT
BEGIN:VEVENT
DTSTART;TZID=Europe/London:20231129T140000
DTEND;TZID=Europe/London:20231129T150000
DTSTAMP:20260423T051949
CREATED:20230914T152601Z
LAST-MODIFIED:20230914T152601Z
UID:36320-1701266400-1701270000@lscthub.co.uk
SUMMARY:Routine Enquiry in Domestic Abuse Bite Size Training
DESCRIPTION:
URL:https://lscthub.co.uk/events/routine-enquiry-in-domestic-abuse-bite-size-training-5/
CATEGORIES:General Events
END:VEVENT
BEGIN:VEVENT
DTSTART;TZID=UTC:20231129T150000
DTEND;TZID=UTC:20231129T153000
DTSTAMP:20260423T051949
CREATED:20230222T225437Z
LAST-MODIFIED:20230919T105440Z
UID:30548-1701270000-1701271800@lscthub.co.uk
SUMMARY:How to perform an effective appraisal
DESCRIPTION:This one hour session looks at the key points to performing an effective appraisal \nThis is a fully interactive session- please ensure you have a camera and microphone \nYou will receive a certificate post training for your attendance. Places are limited\, if you have booked a place\, please ensure you attend.If you are no longer able to attend\, please cancel your place via Eventbrite. \nIf you are struggling with booking or cancelling your place\, please contact us on mbpcc.lscthub@nhs.net
URL:https://lscthub.co.uk/events/how-to-perform-an-effective-appraisal-6/
CATEGORIES:General Events
END:VEVENT
END:VCALENDAR