BEGIN:VCALENDAR
VERSION:2.0
PRODID:-//Lancashire and South Cumbria Training Hub - ECPv6.15.20//NONSGML v1.0//EN
CALSCALE:GREGORIAN
METHOD:PUBLISH
X-WR-CALNAME:Lancashire and South Cumbria Training Hub
X-ORIGINAL-URL:https://lscthub.co.uk
X-WR-CALDESC:Events for Lancashire and South Cumbria Training Hub
REFRESH-INTERVAL;VALUE=DURATION:PT1H
X-Robots-Tag:noindex
X-PUBLISHED-TTL:PT1H
BEGIN:VTIMEZONE
TZID:UTC
BEGIN:STANDARD
TZOFFSETFROM:+0000
TZOFFSETTO:+0000
TZNAME:UTC
DTSTART:20220101T000000
END:STANDARD
END:VTIMEZONE
BEGIN:VTIMEZONE
TZID:Europe/London
BEGIN:DAYLIGHT
TZOFFSETFROM:+0000
TZOFFSETTO:+0100
TZNAME:BST
DTSTART:20220327T010000
END:DAYLIGHT
BEGIN:STANDARD
TZOFFSETFROM:+0100
TZOFFSETTO:+0000
TZNAME:GMT
DTSTART:20221030T010000
END:STANDARD
BEGIN:DAYLIGHT
TZOFFSETFROM:+0000
TZOFFSETTO:+0100
TZNAME:BST
DTSTART:20230326T010000
END:DAYLIGHT
BEGIN:STANDARD
TZOFFSETFROM:+0100
TZOFFSETTO:+0000
TZNAME:GMT
DTSTART:20231029T010000
END:STANDARD
BEGIN:DAYLIGHT
TZOFFSETFROM:+0000
TZOFFSETTO:+0100
TZNAME:BST
DTSTART:20240331T010000
END:DAYLIGHT
BEGIN:STANDARD
TZOFFSETFROM:+0100
TZOFFSETTO:+0000
TZNAME:GMT
DTSTART:20241027T010000
END:STANDARD
END:VTIMEZONE
BEGIN:VEVENT
DTSTART;TZID=UTC:20231128T093000
DTEND;TZID=UTC:20231128T100000
DTSTAMP:20260423T015550
CREATED:20230222T222858Z
LAST-MODIFIED:20230919T105421Z
UID:30545-1701163800-1701165600@lscthub.co.uk
SUMMARY:How to perform an effective appraisal
DESCRIPTION:This one hour session looks at the key points to performing an effective appraisal \nThis is a fully interactive session- please ensure you have a camera and microphone \nYou will receive a certificate post training for your attendance. Places are limited\, if you have booked a place\, please ensure you attend.If you are no longer able to attend\, please cancel your place via Eventbrite. \nIf you are struggling with booking or cancelling your place\, please contact us on mbpcc.lscthub@nhs.net
URL:https://lscthub.co.uk/events/how-to-perform-an-effective-appraisal-3/
CATEGORIES:General Events
END:VEVENT
BEGIN:VEVENT
DTSTART;TZID=Europe/London:20231128T123000
DTEND;TZID=Europe/London:20231128T133000
DTSTAMP:20260423T015550
CREATED:20231003T092746Z
LAST-MODIFIED:20231003T092746Z
UID:36772-1701174600-1701178200@lscthub.co.uk
SUMMARY:Ease winter pressures for families\, children and young people
DESCRIPTION:Hear from teams who have harnessed group care to proactively address winter pressures amongst families with young children and children living with asthma.
URL:https://lscthub.co.uk/events/ease-winter-pressures-for-families-children-and-young-people/
CATEGORIES:General Events
END:VEVENT
BEGIN:VEVENT
DTSTART;TZID=Europe/London:20231128T130000
DTEND;TZID=Europe/London:20231128T140000
DTSTAMP:20260423T015550
CREATED:20231121T101031Z
LAST-MODIFIED:20231121T101031Z
UID:38536-1701176400-1701180000@lscthub.co.uk
SUMMARY:Making A Difference: Become a Peer Leader
DESCRIPTION:This is event will not be recorded.\nIf you have any queries or the joining link does not arrive within 72 hours of registering please contact – england.pldp@nhs.net \nPlease note we will be closing this booking option at 12.00pm on the 28th November- If you are unable to attend and  would still like the opportunity to access the slides after the event\, please do register via the form: https://forms.office.com/pages/responsepage.aspx?id=kp4VA8ZyI0umSq9Q55CtvzXdiSiTTW5DsUACRC7TKRFUNjZUR0VLVjdDMDQ1UkhTQ1Q4MktYMk9WQyQlQCN0PWcu
URL:https://lscthub.co.uk/events/making-a-difference-become-a-peer-leader/
CATEGORIES:General Events
END:VEVENT
BEGIN:VEVENT
DTSTART;TZID=UTC:20231128T150000
DTEND;TZID=UTC:20231128T153000
DTSTAMP:20260423T015550
CREATED:20230222T223004Z
LAST-MODIFIED:20230919T105428Z
UID:30546-1701183600-1701185400@lscthub.co.uk
SUMMARY:How to perform an effective appraisal
DESCRIPTION:This one hour session looks at the key points to performing an effective appraisal \nThis is a fully interactive session- please ensure you have a camera and microphone \nYou will receive a certificate post training for your attendance. Places are limited\, if you have booked a place\, please ensure you attend.If you are no longer able to attend\, please cancel your place via Eventbrite. \nIf you are struggling with booking or cancelling your place\, please contact us on mbpcc.lscthub@nhs.net
URL:https://lscthub.co.uk/events/how-to-perform-an-effective-appraisal-4/
CATEGORIES:General Events
END:VEVENT
BEGIN:VEVENT
DTSTART;TZID=Europe/London:20231128T150000
DTEND;TZID=Europe/London:20231128T160000
DTSTAMP:20260423T015550
CREATED:20231124T181801Z
LAST-MODIFIED:20231124T181801Z
UID:38613-1701183600-1701187200@lscthub.co.uk
SUMMARY:National AHP Preceptorship and Foundation Support Programme Webinars
DESCRIPTION:We are delighted to invite you to join the National AHP Preceptorship and Foundation Support Programme to launch the publication of the NHS England AHP Preceptorship Standards and Framework. \nThe AHP Preceptorship Standards and Framework are aimed at AHPs working across England\, providing evidence based resources to support inclusive access to high quality preceptorship across a range of career transitions.\nThese events are aimed at all those with an interest in AHP Preceptorship\nNHS England\nAllied Health Professions (AHP) Preceptorship\nStandards and Framework Publication Launch \nAHP Preceptorship Standards and Framework Launch Events Poster \nIf you have any queries\, please contact via england.ahp-preceptorship@nhs.net
URL:https://lscthub.co.uk/events/national-ahp-preceptorship-and-foundation-support-programme-webinars-2/
CATEGORIES:General Events
END:VEVENT
END:VCALENDAR