BEGIN:VCALENDAR
VERSION:2.0
PRODID:-//Lancashire and South Cumbria Training Hub - ECPv6.15.20//NONSGML v1.0//EN
CALSCALE:GREGORIAN
METHOD:PUBLISH
X-WR-CALNAME:Lancashire and South Cumbria Training Hub
X-ORIGINAL-URL:https://lscthub.co.uk
X-WR-CALDESC:Events for Lancashire and South Cumbria Training Hub
REFRESH-INTERVAL;VALUE=DURATION:PT1H
X-Robots-Tag:noindex
X-PUBLISHED-TTL:PT1H
BEGIN:VTIMEZONE
TZID:Europe/London
BEGIN:DAYLIGHT
TZOFFSETFROM:+0000
TZOFFSETTO:+0100
TZNAME:BST
DTSTART:20220327T010000
END:DAYLIGHT
BEGIN:STANDARD
TZOFFSETFROM:+0100
TZOFFSETTO:+0000
TZNAME:GMT
DTSTART:20221030T010000
END:STANDARD
BEGIN:DAYLIGHT
TZOFFSETFROM:+0000
TZOFFSETTO:+0100
TZNAME:BST
DTSTART:20230326T010000
END:DAYLIGHT
BEGIN:STANDARD
TZOFFSETFROM:+0100
TZOFFSETTO:+0000
TZNAME:GMT
DTSTART:20231029T010000
END:STANDARD
BEGIN:DAYLIGHT
TZOFFSETFROM:+0000
TZOFFSETTO:+0100
TZNAME:BST
DTSTART:20240331T010000
END:DAYLIGHT
BEGIN:STANDARD
TZOFFSETFROM:+0100
TZOFFSETTO:+0000
TZNAME:GMT
DTSTART:20241027T010000
END:STANDARD
END:VTIMEZONE
BEGIN:VEVENT
DTSTART;TZID=Europe/London:20231122T093000
DTEND;TZID=Europe/London:20231122T100000
DTSTAMP:20260423T101308
CREATED:20230908T114202Z
LAST-MODIFIED:20230908T114202Z
UID:36220-1700645400-1700647200@lscthub.co.uk
SUMMARY:Primary Care Drop-in session - Workforce development support
DESCRIPTION:For PCN and Practice Managers/Clinical Directors/GPs/all PCN and practice staff who support the recruitment and retention of their teams \nHave a question about ARRS roles? Need support with workforce planning or staff development? Looking for opportunities to share your job vacancies? Interested in job matching services and linking in with local job seekers? Your local PCN Workforce Development Managers are here to help!
URL:https://lscthub.co.uk/events/primary-care-drop-in-session-workforce-development-support-4/
CATEGORIES:General Events
END:VEVENT
BEGIN:VEVENT
DTSTART;TZID=Europe/London:20231122T093000
DTEND;TZID=Europe/London:20231122T120000
DTSTAMP:20260423T101308
CREATED:20231004T145738Z
LAST-MODIFIED:20231004T145738Z
UID:36904-1700645400-1700654400@lscthub.co.uk
SUMMARY:PAM (Patient Activation Measure) Workshop
DESCRIPTION:What is the Patient Activation Measure (PAM) \nPAM Training Application Form 2023
URL:https://lscthub.co.uk/events/pam-patient-activation-measure-workshop-2/
CATEGORIES:General Events
END:VEVENT
END:VCALENDAR