BEGIN:VCALENDAR
VERSION:2.0
PRODID:-//Lancashire and South Cumbria Training Hub - ECPv6.15.20//NONSGML v1.0//EN
CALSCALE:GREGORIAN
METHOD:PUBLISH
X-WR-CALNAME:Lancashire and South Cumbria Training Hub
X-ORIGINAL-URL:https://lscthub.co.uk
X-WR-CALDESC:Events for Lancashire and South Cumbria Training Hub
REFRESH-INTERVAL;VALUE=DURATION:PT1H
X-Robots-Tag:noindex
X-PUBLISHED-TTL:PT1H
BEGIN:VTIMEZONE
TZID:Europe/London
BEGIN:DAYLIGHT
TZOFFSETFROM:+0000
TZOFFSETTO:+0100
TZNAME:BST
DTSTART:20220327T010000
END:DAYLIGHT
BEGIN:STANDARD
TZOFFSETFROM:+0100
TZOFFSETTO:+0000
TZNAME:GMT
DTSTART:20221030T010000
END:STANDARD
BEGIN:DAYLIGHT
TZOFFSETFROM:+0000
TZOFFSETTO:+0100
TZNAME:BST
DTSTART:20230326T010000
END:DAYLIGHT
BEGIN:STANDARD
TZOFFSETFROM:+0100
TZOFFSETTO:+0000
TZNAME:GMT
DTSTART:20231029T010000
END:STANDARD
BEGIN:DAYLIGHT
TZOFFSETFROM:+0000
TZOFFSETTO:+0100
TZNAME:BST
DTSTART:20240331T010000
END:DAYLIGHT
BEGIN:STANDARD
TZOFFSETFROM:+0100
TZOFFSETTO:+0000
TZNAME:GMT
DTSTART:20241027T010000
END:STANDARD
END:VTIMEZONE
BEGIN:VEVENT
DTSTART;TZID=Europe/London:20231117T090000
DTEND;TZID=Europe/London:20231117T120000
DTSTAMP:20260423T101325
CREATED:20231011T142154Z
LAST-MODIFIED:20231011T142154Z
UID:37193-1700211600-1700222400@lscthub.co.uk
SUMMARY:Collaborative Masterclass – Hewitt Review: leveraging opportunities within Intergrated Care Systems
DESCRIPTION:About the Event\nBy commissioning the Hewitt Review\, the government has shown commitment towards empowering ICSs and local leaders to work together to ‘improve outcomes for their populations’. This event will consider the developments within the ICS landscape 6 months on and how systems are driving forward change and integration. \nSystem Leaders will give a 10 minute presentation setting the context for their system / perspective and we will then host a roundtable discussion based on 4 questions and questions from the audience. The event aims provide a safe\, reflective space for recognised leaders to share their stories of what they have learnt as they try to lead across systems and improve population health outcomes\, transform health and care services\, reduce health inequalities and create the best value for public funds. \nLearning Outcomes\nBy the end of the masterclass you will: \n\nHave more knowledge and understanding of the issues and the challenges\nGained clarification of the cultural and leadership shift necessary for change\nBe able to reflect on the different stories from different leaders/systems and translate that learning for\nyour own role\n\nBook your place
URL:https://lscthub.co.uk/events/collaborative-masterclass-hewitt-review-leveraging-opportunities-within-intergrated-care-systems/
CATEGORIES:General Events
END:VEVENT
END:VCALENDAR