BEGIN:VCALENDAR
VERSION:2.0
PRODID:-//Lancashire and South Cumbria Training Hub - ECPv6.15.20//NONSGML v1.0//EN
CALSCALE:GREGORIAN
METHOD:PUBLISH
X-WR-CALNAME:Lancashire and South Cumbria Training Hub
X-ORIGINAL-URL:https://lscthub.co.uk
X-WR-CALDESC:Events for Lancashire and South Cumbria Training Hub
REFRESH-INTERVAL;VALUE=DURATION:PT1H
X-Robots-Tag:noindex
X-PUBLISHED-TTL:PT1H
BEGIN:VTIMEZONE
TZID:Europe/London
BEGIN:DAYLIGHT
TZOFFSETFROM:+0000
TZOFFSETTO:+0100
TZNAME:BST
DTSTART:20220327T010000
END:DAYLIGHT
BEGIN:STANDARD
TZOFFSETFROM:+0100
TZOFFSETTO:+0000
TZNAME:GMT
DTSTART:20221030T010000
END:STANDARD
BEGIN:DAYLIGHT
TZOFFSETFROM:+0000
TZOFFSETTO:+0100
TZNAME:BST
DTSTART:20230326T010000
END:DAYLIGHT
BEGIN:STANDARD
TZOFFSETFROM:+0100
TZOFFSETTO:+0000
TZNAME:GMT
DTSTART:20231029T010000
END:STANDARD
BEGIN:DAYLIGHT
TZOFFSETFROM:+0000
TZOFFSETTO:+0100
TZNAME:BST
DTSTART:20240331T010000
END:DAYLIGHT
BEGIN:STANDARD
TZOFFSETFROM:+0100
TZOFFSETTO:+0000
TZNAME:GMT
DTSTART:20241027T010000
END:STANDARD
END:VTIMEZONE
BEGIN:VEVENT
DTSTART;TZID=Europe/London:20231116T093000
DTEND;TZID=Europe/London:20231116T163000
DTSTAMP:20260423T082746
CREATED:20230907T082416Z
LAST-MODIFIED:20230907T082416Z
UID:36165-1700127000-1700152200@lscthub.co.uk
SUMMARY:Correspondence Management Workshop - Level 3
DESCRIPTION:Workshop Objective \nThis aims to equip operational administrative staff to safely and efficiently take actions where appropriate\, and which may include forwarding correspondence to another member of the team\, or passing letters to a GP for action if a clinical decision is required. It is a more advanced task than document processing or coding alone. \nIt requires support staff to have the requisite skills and confidence to consistently make safe and informed decisions about how to code a letter and its contents in the patient record\, how to use an approved protocol for deciding which letters need to be sent to a GP and with what level of urgency\, and when to ask for help. \n  \nAIM – Level 3 \nBy the end of this workshop delegates will have both consolidated their learning from previous workshops and also grown their understanding of the importance\, for patient safety \,of both working to protocols and learning from experience. Delegates will not only have time to learn\, share and reflect but will also develop a personal action plan and some simple templates \nLevel 3 incorporates an online assessment for each candidate taken in their own time at the practice. \nThe topics that will be covered include; \n\nWelcome\, introductions and objectives\nWhat are we doing now ?\nWhat is the required change ?\nWhat is our route map ?\nHow to do this safely?\nManaging potential risk – a 5 stage approach\nThe importance of Clinical Governance\nGP Champion\nMedico-legal considerations\nHow to work effectively and efficiently\nThe importance of protocols\nWhat are they ?\nWhat makes a good\, safe\, effective protocol ?\nKnowing your limitations\nReviewing a simple protocol\nThe Importance of the audit cycle/feedback cycle\nWho is responsible for what ?\nCompliance with CQC’s 5 key questions\nLearning from experience and the the PDSA cycle\nAction Plan\n\n  \nWHO SHOULD ATTEND? \nNon-Clinical Primary Care Staff \n  \nWHAT DO I NEED? \n\nMS TEAMS (join on the app or online)\nPen/Paper\nPreferably a camera and mic to participate\n\n  \nHOW LONG IS THE COURSE? \nFull day (9:30-16:30) Virtual \n  \nHOW TO JOIN? \nYou will receive an email a couple of days prior to the event with all training materials and a link to join the MS Teams training session.
URL:https://lscthub.co.uk/events/correspondence-management-workshop-level-3-3/
CATEGORIES:General Events
END:VEVENT
BEGIN:VEVENT
DTSTART;TZID=Europe/London:20231116T123000
DTEND;TZID=Europe/London:20231116T133000
DTSTAMP:20260423T082746
CREATED:20231011T141858Z
LAST-MODIFIED:20231011T141858Z
UID:37175-1700137800-1700141400@lscthub.co.uk
SUMMARY:Leading Anchor Organisations Workshop 3: The best job for the person – inclusive workforce and employment interventions
DESCRIPTION:Thursday 30th November 12:30pm – 13:30pm: Book your place \nLed by Tom Lloyd Goodwin – Director of Policy and Practice at CLES \nPublic land should be more than just a commodity. Wherever possible\, it should be used to drive social\, economic and environmental value and address the wider determinants of health. Nevertheless\, land usage and disposal in an NHS context is heavily centralised which presents challenges for the progressive use of land and estates – particularly surplus land. Can we develop local progressive estates strategies? Some places are doing it? What is the art of the possible here?
URL:https://lscthub.co.uk/events/leading-anchor-organisations-workshop-3-the-best-job-for-the-person-inclusive-workforce-and-employment-interventions/
CATEGORIES:General Events
END:VEVENT
BEGIN:VEVENT
DTSTART;TZID=Europe/London:20231116T173000
DTEND;TZID=Europe/London:20231116T183000
DTSTAMP:20260423T082746
CREATED:20231019T081022Z
LAST-MODIFIED:20231019T081022Z
UID:37328-1700155800-1700159400@lscthub.co.uk
SUMMARY:Palliative and end of life education sessions - Recognising dying and advance care planning
DESCRIPTION:St Catherine’s community team have planned some evening education sessions on palliative and end of life care which will be delivered on a rolling programme via MS teams. The next two sessions will cover recognising dying and advance care planning and symptom management at end of life. All are welcome but the sessions will be particularly aimed at GPs and ACPs. \nYou are welcome to just attend on the teams link below but please email janette.sherrington@stcatherines.co.uk if you would like to register for a CPD certificate and to receive a calendar invite. \nDr K Baron Palliative Medicine Consultant
URL:https://lscthub.co.uk/events/palliative-and-end-of-life-education-sessions-recognising-dying-and-advance-care-planning/
CATEGORIES:General Events
END:VEVENT
END:VCALENDAR