BEGIN:VCALENDAR
VERSION:2.0
PRODID:-//Lancashire and South Cumbria Training Hub - ECPv6.15.20//NONSGML v1.0//EN
CALSCALE:GREGORIAN
METHOD:PUBLISH
X-ORIGINAL-URL:https://lscthub.co.uk
X-WR-CALDESC:Events for Lancashire and South Cumbria Training Hub
REFRESH-INTERVAL;VALUE=DURATION:PT1H
X-Robots-Tag:noindex
X-PUBLISHED-TTL:PT1H
BEGIN:VTIMEZONE
TZID:Europe/London
BEGIN:DAYLIGHT
TZOFFSETFROM:+0000
TZOFFSETTO:+0100
TZNAME:BST
DTSTART:20220327T010000
END:DAYLIGHT
BEGIN:STANDARD
TZOFFSETFROM:+0100
TZOFFSETTO:+0000
TZNAME:GMT
DTSTART:20221030T010000
END:STANDARD
BEGIN:DAYLIGHT
TZOFFSETFROM:+0000
TZOFFSETTO:+0100
TZNAME:BST
DTSTART:20230326T010000
END:DAYLIGHT
BEGIN:STANDARD
TZOFFSETFROM:+0100
TZOFFSETTO:+0000
TZNAME:GMT
DTSTART:20231029T010000
END:STANDARD
BEGIN:DAYLIGHT
TZOFFSETFROM:+0000
TZOFFSETTO:+0100
TZNAME:BST
DTSTART:20240331T010000
END:DAYLIGHT
BEGIN:STANDARD
TZOFFSETFROM:+0100
TZOFFSETTO:+0000
TZNAME:GMT
DTSTART:20241027T010000
END:STANDARD
END:VTIMEZONE
BEGIN:VTIMEZONE
TZID:UTC
BEGIN:STANDARD
TZOFFSETFROM:+0000
TZOFFSETTO:+0000
TZNAME:UTC
DTSTART:20220101T000000
END:STANDARD
END:VTIMEZONE
BEGIN:VEVENT
DTSTART;VALUE=DATE:20231113
DTEND;VALUE=DATE:20231115
DTSTAMP:20260423T133827
CREATED:20231026T145241Z
LAST-MODIFIED:20231026T145241Z
UID:37588-1699833600-1700006399@lscthub.co.uk
SUMMARY:Health Coaching – Face to Face
DESCRIPTION:Follow this link for further 2-Day Core Skills Health Coaching Courses that we are offering free of charge to all Lancs & S Cumbria colleagues in November & December 2023\, who have not already attended a 2-Day HC Course previously. \n\nThe 2-day face to face programme is designed to support practitioners from all health\, care\, community and voluntary sectors to learn how to use health coaching effectively in their current roles when speaking to patients/clients. \nHealth Coaching will give you the opportunity to build on the many skills you already possess and learn how a health coaching approach can very usefully support your work. \n\nPlease fill out the application form in full (stating your chosen co-hort dates) and send to workforcetraining@activelancashire.org.uk \, so that we can register you on your chosen dates. (Please note registrations are on a first come\, first serve basis) \nOnce registered\, you will receive a confirmation e-mail. \nOnce all places have been filled on a course\, a follow-up e-mail will be sent to you. This will provide you with further course details/materials in preparation for your course.
URL:https://lscthub.co.uk/events/health-coaching-face-to-face/
CATEGORIES:General Events
END:VEVENT
BEGIN:VEVENT
DTSTART;TZID=UTC:20231114T093000
DTEND;TZID=UTC:20231114T103000
DTSTAMP:20260423T133827
CREATED:20230222T220416Z
LAST-MODIFIED:20230222T220416Z
UID:30533-1699954200-1699957800@lscthub.co.uk
SUMMARY:Conflict resolution and de-escalation
DESCRIPTION:This one hour session provides the tools to tackle conflict and to de-escalate situations in the workplace​ \nThis is a fully interactive session- please ensure you have a camera and microphone \nYou will receive a certificate post training for your attendance. Places are limited\, if you have booked a place\, please ensure you attend.If you are no longer able to attend\, please cancel your place via Eventbrite. \nIf you are struggling with booking or cancelling your place\, please contact us on mbpcc.lscthub@nhs.net
URL:https://lscthub.co.uk/events/conflict-resolution-and-de-escalation-3/
CATEGORIES:General Events
END:VEVENT
BEGIN:VEVENT
DTSTART;TZID=Europe/London:20231114T113000
DTEND;TZID=Europe/London:20231114T123000
DTSTAMP:20260423T133827
CREATED:20231025T135921Z
LAST-MODIFIED:20231025T135921Z
UID:37554-1699961400-1699965000@lscthub.co.uk
SUMMARY:Non-Medical Prescribing Webinar: Prescribing Data Reports – Art of the possible!
DESCRIPTION:Following the success of the first Non-Medical Prescribing (NMP) Webinar that was held in June this year\, NHSE are pleased to inform you that the ICB Non-Medical Prescribing Leads will be hosting a second webinar on 14th November between 11.30am – 12.30pm. \n  \nThe theme of the event will be: Prescribing Data Reports – Art of the possible! \nThe webinar will go through how a Non-Medical Prescriber can use their quarterly prescribing data reports to undertake reflective practice and identify gaps in knowledge\, as well as support personal development so that Non-Medical Prescribers can enhance the quality of their prescribing practice and make prescribing practices as safe as possible. \nThe event will include the following topics: \n\nPrescribing data reports: benefits and what the reports show.\nHow reports are screened and circulated.\n\n\nHow a non-medical prescriber can use the reports – with a focus on reflective practice.\nPrescribing Safely & Confidently – Hints and Tips.\n\nThe webinar is intended for Non-Medical Prescribers working in/employed by General Practice across Lancashire and South Cumbria\, but is also open to Practice Managers and Clinical Supervisors. \n  \nThe following link can be used to join the webinar on the 14th November 2023: Click here to join the meeting. Please note: Registration is not required. Attendees can join the meeting on the day by clicking on the above link
URL:https://lscthub.co.uk/events/non-medical-prescribing-webinar-prescribing-data-reports-art-of-the-possible/
CATEGORIES:General Events
END:VEVENT
BEGIN:VEVENT
DTSTART;TZID=UTC:20231114T120000
DTEND;TZID=UTC:20231114T130000
DTSTAMP:20260423T133827
CREATED:20230222T220455Z
LAST-MODIFIED:20230222T220455Z
UID:30534-1699963200-1699966800@lscthub.co.uk
SUMMARY:Conflict resolution and de-escalation
DESCRIPTION:This one hour session provides the tools to tackle conflict and to de-escalate situations in the workplace​ \nThis is a fully interactive session- please ensure you have a camera and microphone \nYou will receive a certificate post training for your attendance. Places are limited\, if you have booked a place\, please ensure you attend.If you are no longer able to attend\, please cancel your place via Eventbrite. \nIf you are struggling with booking or cancelling your place\, please contact us on mbpcc.lscthub@nhs.net
URL:https://lscthub.co.uk/events/conflict-resolution-and-de-escalation-4/
CATEGORIES:General Events
END:VEVENT
BEGIN:VEVENT
DTSTART;TZID=UTC:20231114T123000
DTEND;TZID=UTC:20231114T140000
DTSTAMP:20260423T133827
CREATED:20230526T082408Z
LAST-MODIFIED:20230526T082639Z
UID:33128-1699965000-1699970400@lscthub.co.uk
SUMMARY:Learning Disability Awareness and AHC’s: A Whole Practice Approach
DESCRIPTION:Who should attend: \nAny staff member who is involved in and/or has an interest in supporting people with learning disabilities (PWLD) to have annual health checks. \nDescription of training: \n\nTraining sessions will cover what a learning disability is/is not\, and the characteristics seen within different levels of LD\nOverview of LD inclusion tool to identify patients\, when and how to use\nOverview of LeDeR – purpose and statistics of preventable deaths in PWLD\nImportance of Annual Health Checks and common health issues in PWLD\nMental Capacity in relation to healthcare for PWLD\nBarriers to accessing equitable healthcare for PWLD\nAHC and health action plans – what should be considered\, how to develop an effective HAP\nEffective strategies to support successful AHC’s\nService aims and objectives of the Health Facilitation Team to support GP practices\nLearning Disability Champion proposal\nVideo’s from PWLD – explanation of their experiences of health checks\n\n  \nPlease ensure you have access to a camera and microphone to join the meeting.
URL:https://lscthub.co.uk/events/learning-disability-awareness-and-ahcs-a-whole-practice-approach-21/
CATEGORIES:General Events
END:VEVENT
END:VCALENDAR