BEGIN:VCALENDAR
VERSION:2.0
PRODID:-//Lancashire and South Cumbria Training Hub - ECPv6.15.20//NONSGML v1.0//EN
CALSCALE:GREGORIAN
METHOD:PUBLISH
X-WR-CALNAME:Lancashire and South Cumbria Training Hub
X-ORIGINAL-URL:https://lscthub.co.uk
X-WR-CALDESC:Events for Lancashire and South Cumbria Training Hub
REFRESH-INTERVAL;VALUE=DURATION:PT1H
X-Robots-Tag:noindex
X-PUBLISHED-TTL:PT1H
BEGIN:VTIMEZONE
TZID:Europe/London
BEGIN:DAYLIGHT
TZOFFSETFROM:+0000
TZOFFSETTO:+0100
TZNAME:BST
DTSTART:20220327T010000
END:DAYLIGHT
BEGIN:STANDARD
TZOFFSETFROM:+0100
TZOFFSETTO:+0000
TZNAME:GMT
DTSTART:20221030T010000
END:STANDARD
BEGIN:DAYLIGHT
TZOFFSETFROM:+0000
TZOFFSETTO:+0100
TZNAME:BST
DTSTART:20230326T010000
END:DAYLIGHT
BEGIN:STANDARD
TZOFFSETFROM:+0100
TZOFFSETTO:+0000
TZNAME:GMT
DTSTART:20231029T010000
END:STANDARD
BEGIN:DAYLIGHT
TZOFFSETFROM:+0000
TZOFFSETTO:+0100
TZNAME:BST
DTSTART:20240331T010000
END:DAYLIGHT
BEGIN:STANDARD
TZOFFSETFROM:+0100
TZOFFSETTO:+0000
TZNAME:GMT
DTSTART:20241027T010000
END:STANDARD
END:VTIMEZONE
BEGIN:VTIMEZONE
TZID:UTC
BEGIN:STANDARD
TZOFFSETFROM:+0000
TZOFFSETTO:+0000
TZNAME:UTC
DTSTART:20220101T000000
END:STANDARD
END:VTIMEZONE
BEGIN:VEVENT
DTSTART;TZID=Europe/London:20231109T093000
DTEND;TZID=Europe/London:20231109T163000
DTSTAMP:20260423T082811
CREATED:20230907T082310Z
LAST-MODIFIED:20230907T082310Z
UID:36163-1699522200-1699547400@lscthub.co.uk
SUMMARY:Correspondence Management Workshop - Level 2
DESCRIPTION:Workshop Objective \nThis aims to equip operational administrative staff to safely and efficiently take actions where appropriate\, and which may include forwarding correspondence to another member of the team\, or passing letters to a GP for action if a clinical decision is required. It is a more advanced task than document processing or coding alone. \nIt requires support staff to have the requisite skills and confidence to consistently make safe and informed decisions about how to code a letter and its contents in the patient record\, how to use an approved protocol for deciding which letters need to be sent to a GP and with what level of urgency\, and when to ask for help. \n  \nAIM – Level 2 \nBy the end of this workshop delegates will have an overview understanding of the Read coding\, and medical terminology needed to enable them to fully contribute to the safe\, practice application of “Correspondence Management”. \nDelegates will also receive a number of standard checklists and templates which they will then be able to adapt for their Practice. \nLevel 2 incorporates an online assessment for each candidate taken in their own time at the practice. \nThe topics that will be covered include; \n\nWelcome\, introductions and objectives\nRead Codes\nPurpose\nDefinition\nStructure\nEpisodicity\nCommon abbreviations\nCodes derived from Secondary Care\nMedical Terminology\nWord structure and building blocks\nMajor body systems and organs\nCommon tests & investigations\nAction Plan\n\n  \nWHO SHOULD ATTEND? \nNon-Clinical Primary Care Staff \n  \nWHAT DO I NEED? \n\nMS TEAMS (join on the app or online)\nPen/Paper\nPreferably a camera and mic to participate\n\n  \nHOW LONG IS THE COURSE? \nFull day (9:30-16:30) Virtual \n  \nHOW TO JOIN? \nYou will receive an email a couple of days prior to the event with all training materials and a link to join the MS Teams training session.
URL:https://lscthub.co.uk/events/correspondence-management-workshop-level-2-3/
CATEGORIES:General Events
END:VEVENT
BEGIN:VEVENT
DTSTART;TZID=UTC:20231109T100000
DTEND;TZID=UTC:20231109T130000
DTSTAMP:20260423T082811
CREATED:20230324T160933Z
LAST-MODIFIED:20230324T160933Z
UID:31465-1699524000-1699534800@lscthub.co.uk
SUMMARY:Clinical Skills Practice Workshop (Garstang)
DESCRIPTION:New for 2023 Lancashire and South Cumbria Training Hub are offering Clinical Skills Practice Workshops! Available throughout the year at different locations you will be able to experience a hands on approach with the support of a clinical educator! \n  \nTopics covered in the sessions are: \n\nVenepuncture\nObtaining a Manual Blood pressure\nInjection Technique\nCervical Sample Taking\n\n  \nThe workshops welcome General Practice Nurses\, Health Care Assistants\, Nursing Associates\, Trainee Nursing Associates\, Advanced Nurse Practitioners\, Student Nurses\, Student Nurse Paramedics\, Physician Associates… anyone with a clinical role within Primary Care that is already trained in the topics above. \nNew to practice and want to have some hands-on experience with a mannequin to gain skills and confidence or if you are an experienced practitioner and want to refresh your skills then this is the workshop for you! \n  \nWe have equipment available in the workshops to enable you to practice your skills and get hands on experience with the support of a friendly clinical educator plus a practical handbook to guide you through. \n– Please note that these workshops are not a formal training session and the purpose is to support delegates in building on knowledge and skills already learnt from previous formal training. \nDelegates must join the session from the start time and leave once they feel they have gained enough from the workshop: there is no requirement to stay for the full 3 hours. In addition\, delegates may attend to access one of the pieces of equipment or all of them! This is a great opportunity to get hands on and have a play with the mannequins to help improve your practice! \nIf you have any additional needs or requirements to attend these sessions\, then please contact the training hub on mbpcc.lscthub@nhs.net \n  \nPlease ensure you bring your own lunch/snacks if required.
URL:https://lscthub.co.uk/events/clinical-skills-practice-workshop-garstang-2/
LOCATION:Garstang Medical Practice\, Kepple lane\, Garstang\, PR3 1PB
CATEGORIES:General Events
END:VEVENT
BEGIN:VEVENT
DTSTART;TZID=Europe/London:20231109T120000
DTEND;TZID=Europe/London:20231109T140000
DTSTAMP:20260423T082811
CREATED:20231011T142755Z
LAST-MODIFIED:20231011T142755Z
UID:37212-1699531200-1699538400@lscthub.co.uk
SUMMARY:What matters to you? Children and Young people's social prescribing
DESCRIPTION:What matters to you? Children and Young people’s social prescribing – This webinar will focus on personalised care and share positive case studies.
URL:https://lscthub.co.uk/events/what-matters-to-you-children-and-young-peoples-social-prescribing/
CATEGORIES:General Events
END:VEVENT
END:VCALENDAR