BEGIN:VCALENDAR
VERSION:2.0
PRODID:-//Lancashire and South Cumbria Training Hub - ECPv6.15.20//NONSGML v1.0//EN
CALSCALE:GREGORIAN
METHOD:PUBLISH
X-WR-CALNAME:Lancashire and South Cumbria Training Hub
X-ORIGINAL-URL:https://lscthub.co.uk
X-WR-CALDESC:Events for Lancashire and South Cumbria Training Hub
REFRESH-INTERVAL;VALUE=DURATION:PT1H
X-Robots-Tag:noindex
X-PUBLISHED-TTL:PT1H
BEGIN:VTIMEZONE
TZID:Europe/London
BEGIN:DAYLIGHT
TZOFFSETFROM:+0000
TZOFFSETTO:+0100
TZNAME:BST
DTSTART:20220327T010000
END:DAYLIGHT
BEGIN:STANDARD
TZOFFSETFROM:+0100
TZOFFSETTO:+0000
TZNAME:GMT
DTSTART:20221030T010000
END:STANDARD
BEGIN:DAYLIGHT
TZOFFSETFROM:+0000
TZOFFSETTO:+0100
TZNAME:BST
DTSTART:20230326T010000
END:DAYLIGHT
BEGIN:STANDARD
TZOFFSETFROM:+0100
TZOFFSETTO:+0000
TZNAME:GMT
DTSTART:20231029T010000
END:STANDARD
BEGIN:DAYLIGHT
TZOFFSETFROM:+0000
TZOFFSETTO:+0100
TZNAME:BST
DTSTART:20240331T010000
END:DAYLIGHT
BEGIN:STANDARD
TZOFFSETFROM:+0100
TZOFFSETTO:+0000
TZNAME:GMT
DTSTART:20241027T010000
END:STANDARD
END:VTIMEZONE
BEGIN:VEVENT
DTSTART;VALUE=DATE:20231102
DTEND;VALUE=DATE:20231103
DTSTAMP:20260423T082824
CREATED:20231011T142038Z
LAST-MODIFIED:20231011T142038Z
UID:37191-1698883200-1698969599@lscthub.co.uk
SUMMARY:Coaching and Mentoring Essential
DESCRIPTION:Network Learning Events are designed to be interactive and provide coaches and mentors with access to CPD\, focusing on current\, topical issues to enhance knowledge\, skills\, effectiveness and overall coaching and mentoring practice. \nOur Network Learning Events also provide dedicated space for networking with your peers and allowing you to meet and engage with a supportive network of like-minded individuals sharing best practice across the region. Through this you help to influence the current and future agenda in your locality/organisation and support the development of a coaching and mentoring culture across the North West.
URL:https://lscthub.co.uk/events/coaching-and-mentoring-essential/
CATEGORIES:General Events
END:VEVENT
BEGIN:VEVENT
DTSTART;TZID=Europe/London:20231102T093000
DTEND;TZID=Europe/London:20231102T130000
DTSTAMP:20260423T082824
CREATED:20230907T082144Z
LAST-MODIFIED:20230907T082144Z
UID:36159-1698917400-1698930000@lscthub.co.uk
SUMMARY:Correspondence Management Workshop - Level 1
DESCRIPTION:Workshop Objective \nThis aims to equip operational administrative staff to safely and efficiently take actions where appropriate\, and which may include forwarding correspondence to another member of the team\, or passing letters to a GP for action if a clinical decision is required. It is a more advanced task than document processing or coding alone. \nIt requires support staff to have the requisite skills and confidence to consistently make safe and informed decisions about how to code a letter and its contents in the patient record\, how to use an approved protocol for deciding which letters need to be sent to a GP and with what level of urgency\, and when to ask for help. \n  \nAIM – Level 1 \nBy the end of this workshop delegates will have an overview and a clear understanding of the operational value and importance of “Correspondence Management”. Both for improving the patient journey and for helping their Practice to manage workload more effectively and efficiently. \nThis level promotes a shared understanding and awareness of the potential positive impact of “Correspondence Management” on General Practice. \nThe topics that will be covered include; \n\nWelcome\, introductions and objectives\nWhere are we now ?\nWhat is “Correspondence Management” ?\nWhat are its benefits ?\nHow does it work ?\nWhat may be some of the barriers to introducing this change?\nWhat is Clinical Governance and why it is important?\nHow to ensure work and information is progressed in a Safe\, Efficient and Timely manner\nHow “Correspondence Management” improves the Patient experience\nThe importance of understanding Read Codes & medical terminology\nHow to recognise clinically relevant information within correspondence\nHow to process and action a letter to completion or forward to correct recipient\nThe importance of – Audit – feedback tools– Significant event reviews\nAction Plan\n\n  \nWHO SHOULD ATTEND? \nNon-Clinical Primary Care Staff \n  \nWHAT DO I NEED? \n\nMS TEAMS (join on the app or online)\nPen/Paper\nPreferably a camera and mic to participate\n\n  \nHOW LONG IS THE COURSE? \nFull day (9:30-16:30) Virtual \n  \nHOW TO JOIN? \nYou will receive an email a couple of days prior to the event with all training materials and a link to join the MS Teams training session.
URL:https://lscthub.co.uk/events/correspondence-management-workshop-level-1-3/
CATEGORIES:General Events
END:VEVENT
END:VCALENDAR