BEGIN:VCALENDAR
VERSION:2.0
PRODID:-//Lancashire and South Cumbria Training Hub - ECPv6.15.20//NONSGML v1.0//EN
CALSCALE:GREGORIAN
METHOD:PUBLISH
X-WR-CALNAME:Lancashire and South Cumbria Training Hub
X-ORIGINAL-URL:https://lscthub.co.uk
X-WR-CALDESC:Events for Lancashire and South Cumbria Training Hub
REFRESH-INTERVAL;VALUE=DURATION:PT1H
X-Robots-Tag:noindex
X-PUBLISHED-TTL:PT1H
BEGIN:VTIMEZONE
TZID:UTC
BEGIN:STANDARD
TZOFFSETFROM:+0000
TZOFFSETTO:+0000
TZNAME:UTC
DTSTART:20220101T000000
END:STANDARD
END:VTIMEZONE
BEGIN:VEVENT
DTSTART;TZID=UTC:20231031T093000
DTEND;TZID=UTC:20231031T103000
DTSTAMP:20260423T114414
CREATED:20230222T215132Z
LAST-MODIFIED:20230222T215132Z
UID:30523-1698744600-1698748200@lscthub.co.uk
SUMMARY:Teamwork makes dreamwork
DESCRIPTION:This one-hour session looks at how to build a cohesive team including trust\, effective communication\, delegation and teamworking principles​ \nThis is a fully interactive session- please ensure you have a camera and microphone \nYou will receive a certificate post training for your attendance. Places are limited\, if you have booked a place\, please ensure you attend.If you are no longer able to attend\, please cancel your place via Eventbrite. \nIf you are struggling with booking or cancelling your place\, please contact us on mbpcc.lscthub@nhs.net
URL:https://lscthub.co.uk/events/teamwork-makes-dreamwork-5/
CATEGORIES:General Events
END:VEVENT
BEGIN:VEVENT
DTSTART;TZID=UTC:20231031T150000
DTEND;TZID=UTC:20231031T160000
DTSTAMP:20260423T114414
CREATED:20230222T215207Z
LAST-MODIFIED:20230222T215207Z
UID:30524-1698764400-1698768000@lscthub.co.uk
SUMMARY:Teamwork makes dreamwork
DESCRIPTION:This one-hour session looks at how to build a cohesive team including trust\, effective communication\, delegation and teamworking principles​ \nThis is a fully interactive session- please ensure you have a camera and microphone \nYou will receive a certificate post training for your attendance. Places are limited\, if you have booked a place\, please ensure you attend.If you are no longer able to attend\, please cancel your place via Eventbrite. \nIf you are struggling with booking or cancelling your place\, please contact us on mbpcc.lscthub@nhs.net
URL:https://lscthub.co.uk/events/teamwork-makes-dreamwork-6/
CATEGORIES:General Events
END:VEVENT
END:VCALENDAR