BEGIN:VCALENDAR
VERSION:2.0
PRODID:-//Lancashire and South Cumbria Training Hub - ECPv6.15.20//NONSGML v1.0//EN
CALSCALE:GREGORIAN
METHOD:PUBLISH
X-WR-CALNAME:Lancashire and South Cumbria Training Hub
X-ORIGINAL-URL:https://lscthub.co.uk
X-WR-CALDESC:Events for Lancashire and South Cumbria Training Hub
REFRESH-INTERVAL;VALUE=DURATION:PT1H
X-Robots-Tag:noindex
X-PUBLISHED-TTL:PT1H
BEGIN:VTIMEZONE
TZID:UTC
BEGIN:STANDARD
TZOFFSETFROM:+0000
TZOFFSETTO:+0000
TZNAME:UTC
DTSTART:20220101T000000
END:STANDARD
END:VTIMEZONE
BEGIN:VEVENT
DTSTART;TZID=UTC:20231024T093000
DTEND;TZID=UTC:20231024T103000
DTSTAMP:20260423T195743
CREATED:20230222T214940Z
LAST-MODIFIED:20230222T214940Z
UID:30521-1698139800-1698143400@lscthub.co.uk
SUMMARY:Teamwork makes dreamwork
DESCRIPTION:This one-hour session looks at how to build a cohesive team including trust\, effective communication\, delegation and teamworking principles​ \nThis is a fully interactive session- please ensure you have a camera and microphone \nYou will receive a certificate post training for your attendance. Places are limited\, if you have booked a place\, please ensure you attend.If you are no longer able to attend\, please cancel your place via Eventbrite. \nIf you are struggling with booking or cancelling your place\, please contact us on mbpcc.lscthub@nhs.net
URL:https://lscthub.co.uk/events/teamwork-makes-dreamwork-3/
CATEGORIES:General Events
END:VEVENT
BEGIN:VEVENT
DTSTART;TZID=UTC:20231024T100000
DTEND;TZID=UTC:20231024T130000
DTSTAMP:20260423T195743
CREATED:20230306T113735Z
LAST-MODIFIED:20230306T113735Z
UID:30859-1698141600-1698152400@lscthub.co.uk
SUMMARY:Clinical Skills Practice Workshop Preston
DESCRIPTION:New for 2023 Lancashire and South Cumbria Training Hub are offering Clinical Skills Practice Workshops! Available throughout the year at different locations you will be able to experience a hands on approach with the support of a clinical educator! \n\nTopics covered in the sessions are: \n\nVenepuncture\nObtaining a Manual Blood pressure\nInjection Technique\nCervical Sample Taking\n\n\nThe workshops welcome General Practice Nurses\, Health Care Assistants\, Nursing Associates\, Trainee Nursing Associates\, Advanced Nurse Practitioners\, Student Nurses\, Student Nurse Paramedics\, Physician Associates… anyone with a clinical role within Primary Care that is already trained in the topics above. \nNew to practice and want to have some hands-on experience with a mannequin to gain skills and confidence or if you are an experienced practitioner and want to refresh your skills then this is the workshop for you! \n\nWe have equipment available in the workshops to enable you to practice your skills and get hands on experience with the support of a friendly clinical educator plus a practical handbook to guide you through. \n– Please note that these workshops are not a formal training session and the purpose is to support delegates in building on knowledge and skills already learnt from previous formal training. \nDelegates must join the session from the start time and leave once they feel they have gained enough from the workshop: there is no requirement to stay for the full 3 hours. In addition\, delegates may attend to access one of the pieces of equipment or all of them! This is a great opportunity to get hands on and have a play with the mannequins to help improve your practice! \nIf you have any additional needs or requirements to attend these sessions\, then please contact the training hub on mbpcc.lscthub@nhs.net
URL:https://lscthub.co.uk/events/clinical-skills-practice-workshop-preston-2/
LOCATION:Fatima Health Centre\, 228 Garstang Rd\, Fulwood\, Preston PR2 9RB\, Fatima Health Centre\, 228 Garstang Rd\, Fulwood\, Preston\, Lancashire\, PR2 9RB\, United Kingdom
CATEGORIES:General Events
END:VEVENT
BEGIN:VEVENT
DTSTART;TZID=UTC:20231024T130000
DTEND;TZID=UTC:20231024T140000
DTSTAMP:20260423T195743
CREATED:20230222T215043Z
LAST-MODIFIED:20230222T215043Z
UID:30522-1698152400-1698156000@lscthub.co.uk
SUMMARY:Teamwork makes dreamwork
DESCRIPTION:This one-hour session looks at how to build a cohesive team including trust\, effective communication\, delegation and teamworking principles​ \nThis is a fully interactive session- please ensure you have a camera and microphone \nYou will receive a certificate post training for your attendance. Places are limited\, if you have booked a place\, please ensure you attend.If you are no longer able to attend\, please cancel your place via Eventbrite. \nIf you are struggling with booking or cancelling your place\, please contact us on mbpcc.lscthub@nhs.net
URL:https://lscthub.co.uk/events/teamwork-makes-dreamwork-4/
CATEGORIES:General Events
END:VEVENT
END:VCALENDAR