BEGIN:VCALENDAR
VERSION:2.0
PRODID:-//Lancashire and South Cumbria Training Hub - ECPv6.15.20//NONSGML v1.0//EN
CALSCALE:GREGORIAN
METHOD:PUBLISH
X-ORIGINAL-URL:https://lscthub.co.uk
X-WR-CALDESC:Events for Lancashire and South Cumbria Training Hub
REFRESH-INTERVAL;VALUE=DURATION:PT1H
X-Robots-Tag:noindex
X-PUBLISHED-TTL:PT1H
BEGIN:VTIMEZONE
TZID:Europe/London
BEGIN:DAYLIGHT
TZOFFSETFROM:+0000
TZOFFSETTO:+0100
TZNAME:BST
DTSTART:20220327T010000
END:DAYLIGHT
BEGIN:STANDARD
TZOFFSETFROM:+0100
TZOFFSETTO:+0000
TZNAME:GMT
DTSTART:20221030T010000
END:STANDARD
BEGIN:DAYLIGHT
TZOFFSETFROM:+0000
TZOFFSETTO:+0100
TZNAME:BST
DTSTART:20230326T010000
END:DAYLIGHT
BEGIN:STANDARD
TZOFFSETFROM:+0100
TZOFFSETTO:+0000
TZNAME:GMT
DTSTART:20231029T010000
END:STANDARD
BEGIN:DAYLIGHT
TZOFFSETFROM:+0000
TZOFFSETTO:+0100
TZNAME:BST
DTSTART:20240331T010000
END:DAYLIGHT
BEGIN:STANDARD
TZOFFSETFROM:+0100
TZOFFSETTO:+0000
TZNAME:GMT
DTSTART:20241027T010000
END:STANDARD
END:VTIMEZONE
BEGIN:VTIMEZONE
TZID:UTC
BEGIN:STANDARD
TZOFFSETFROM:+0000
TZOFFSETTO:+0000
TZNAME:UTC
DTSTART:20220101T000000
END:STANDARD
END:VTIMEZONE
BEGIN:VEVENT
DTSTART;TZID=Europe/London:20231018T090000
DTEND;TZID=Europe/London:20231018T170000
DTSTAMP:20260423T132413
CREATED:20230920T094821Z
LAST-MODIFIED:20230920T095738Z
UID:36466-1697619600-1697648400@lscthub.co.uk
SUMMARY:Advanced Practice ICS - CPD Event - Prescribing Safety
DESCRIPTION:Our next Advanced Practice CPD Event will be on the 18th October 2023 and will focus on prescribing and patient safety.\nPlease see the days event plan below.\nThis will be delivered via teams\,. \nEvent Link https://teams.microsoft.com/l/meetup-join/19%3ameeting_ZWZlOTk3MDItZjljYS00ZTM2LTk2N2UtMzcwODQ4NmU2NTBi%40thread.v2/0?context=%7b%22Tid%22%3a%2290a86382-fc9f-459c-b91a-9852fb08b2cd%22%2c%22Oid%22%3a%222af31166-bf21-4140-a466-7ffc7eddbe12%22%7d \n\n\n\n\n \nAdvancing practice CPD Event 18th October 2023 \nVia Teams \n09.00 – 17.00 \n\n\n\nTopic\nTime\nSpeaker\n\n\nWelcome/Introductions \nIntroduction to Advanced Practice.\n09.00 – 09.10 \n(10 minutes)\nCaroline Ashworth \nTrust Lead for Advanced Practice LTHTR. \nConfirmed\n\n\nNHS England Update\n09.10 – 09.30 \n(20 min)\nAnnabella Gloster \nRegional Faculty Lead for Advancing PracticeNHS England – North West \nConfirmed\n\n\nPrescribing incidents & Prescribing safety\n09.30 – 10.30 \n(1 hour)\nSophie O’Dolan \nPharmacist\, Medication Safety Education LTHTR. \nConfirmed\n\n\nOxygen – Home oxygen prescribing and safety.\n10.30 – 11.30 \n(1 hour)\nCath Edwards ACP LTHTR. \nConfirmed\n\n\nComfort Break – Tea/Coffee (15 minutes)\n\n\nParkinson’s meds\n11.45 – 12.15 \n(30 min)\nElissa Hughes \nParkinson’s nurse \nand \nDhana Kovvuri Pharmacy. \nConfirmed\n\n\nAntibiotics\n12.15 – 13.15 \n(1 hour)\nSabina Bashir \nHighly Specialist Pharmacy LTHTR \nConfirmed\n\n\nLunch 13.15 – 13.45 (30 minutes)\n\n\nPalliative care \nSymptoms of end of life\, prescribing anticipatory medications safely. \nNon-pharmacological considerations\n13.45 – 14.15 \n(30 min)\nTomoko Lewis. \nPalliative Care ACP LTHTR \nConfirmed \n \n\n\nDiabetes/Insulin\n14.15 – 14.45 \n(30 min)\nFiona Walker \nAdvanced Practitioner Diabetes LTHTR \nConfirmed\n\n\nComfort Break – Tea/Coffee (15 minutes)\n\n\nAnticoagulation \nRisks and dangers.\n15.00 – 15.30 \n(30 min)\nSura Ali \nHighly Specialist Pharmacy LTHTR. \nAwaiting full confirmation\n\n\nRapid tranquiliser \nAnd \nCapacity assessment for RT\n15.30 – 16.00 \n(30 min)\nKin Wai (Alex) \nHighly Specialist Pharmacy LTHTR \nand \nAndrea Hardyman \nSafeguarding Practitioner LTHTR \nConfirmed\n\n\nFinish and Close\n16.00 – 16.15\nCaroline Ashworth
URL:https://lscthub.co.uk/events/advanced-practice-ics-cpd-event-prescribing-safety/
CATEGORIES:General Events
END:VEVENT
BEGIN:VEVENT
DTSTART;TZID=Europe/London:20231018T100000
DTEND;TZID=Europe/London:20231018T110000
DTSTAMP:20260423T132413
CREATED:20230914T135100Z
LAST-MODIFIED:20230914T135100Z
UID:36304-1697623200-1697626800@lscthub.co.uk
SUMMARY:Menopause and our Health & Social Care workforce - NW panel discussion
DESCRIPTION:With the arrival of the Women’s Health Strategy\, and a continued focus on all aspects of our physical\, psychological and practical wellbeing – Menopause continues to be a key topic of discussion for our health and care workforce\, and the services we provide for our communities. \nJoin this virtual discussion on World Menopause Day\, where the panel will share insights and learning from across the region\, to help raise awareness of the impacts of menopause\, and the developments for improving support and wellbeing for our workforce. \nThis event will be chaired by Sheni Ravji-Smith\, System OD & Wellbeing lead for NHS Greater Manchester Integrated Care\, and is joined by \n• Dr Cath Munro – GP and Member – British Menopause Society \n• Dr Paula Briggs – Chair of British Menopause Society\, and Consultant in Sexual and Reproductive Health\, Liverpool Women’s NHS Foundation Trust \n• Hayley Lever\, CEO of GM Moving \n• Dr Zoe Hodson – GP and lead of Manchester Menopause Hive \n• Dr Paula Cowan\, NW Regional Medical Director for Primary Care \nThis session is open to all health and social care colleagues from across the North West. \nThis event is presented by NHS Greater Manchester Integrated Care\, in partnership with our NHS Integrated Care Systems across the North West.
URL:https://lscthub.co.uk/events/menopause-and-our-health-social-care-workforce-nw-panel-discussion/
CATEGORIES:General Events
END:VEVENT
BEGIN:VEVENT
DTSTART;TZID=UTC:20231018T120000
DTEND;TZID=UTC:20231018T133000
DTSTAMP:20260423T132413
CREATED:20230821T104240Z
LAST-MODIFIED:20230821T104300Z
UID:35756-1697630400-1697635800@lscthub.co.uk
SUMMARY:Lancashire & South Cumbria Nurse & Allied Health Professionals Forum (L&SC PCTH)
DESCRIPTION:A collaborative meeting for all all Nurses and AHPs within Lancashire and South Cumbria to come together for a local update\, share best practice\, reflect as an area\, offer peer support\, and raise concerns \nWe will have updates from our Training Hub team\, locality teams and colleagues. Topics and guest speakers TBC! \nAll Nurses and AHPs within Lancashire and South Cumbria welcome. Please share within your networks! \n  \nPlease note this forum may be recorded. By signing up\, you are consenting to be present in this recording which will be shared. You have the option to use the chat box if you prefer\, but there will also be the opportunity throughout to get involved and ask questions virtually.
URL:https://lscthub.co.uk/events/35756/
CATEGORIES:General Events
END:VEVENT
BEGIN:VEVENT
DTSTART;TZID=Europe/London:20231018T123000
DTEND;TZID=Europe/London:20231018T140000
DTSTAMP:20260423T132413
CREATED:20230906T084415Z
LAST-MODIFIED:20230906T084415Z
UID:36125-1697632200-1697637600@lscthub.co.uk
SUMMARY:Getting Started Series: Group Consultations and Virtual Group Consultations
DESCRIPTION:Group and Virtual Group Consultations (An Introduction) \nThe ‘Getting Started’ series is designed to help you think through how you are going to approach any\nimprovement you want to make in practice. It consists of the Project Outline\, a generic overview for any\npotential improvement project and a series of project worksheets\, which follow the outline and are designed\nto guide you through how your project could work in practice about specific issues. Each worksheet has been developed by GPs and practice managers from the Primary Care Improvement Faculty\, focusing on topics that are relevant to day-to-day practice. \nAn example of a case study will be presented to show how you might introduce Group Consultations and\nVirtual Group Consultations in your practice. The webinar is for all primary care staff. We will consider new\nmodels of care\, the use of technology\, addressing demand and capacity issues and the promotion of peer\nsupport and self-care. \nIt is recommended that you familiarise yourself with the Getting Started Series: Project Outline document\,\nwhich can be accessed online through Primary Care Improvement Connect\, (follow the link to access documents: https://future.nhs.uk/PrimaryCareImprovementCONNECT/view?objectId=167252581). \nLearning outcomes\nBy the end of the webinar\, participants will be able to: \n\ndiscuss the role and use of Group Consultations and Virtual Group Consultations in General Practice.\ndescribe a roadmap for launching Group Consultations and Virtual Group Consultations using Quality Improvement tools.\ndraw on examples where Group Consultations and Virtual Group Consultations have been successfully used.\n\nThis webinar is for anyone in NHS general practices and Primary Care Networks. \nThe sessions are delivered by experienced Primary Care Transformation Team faculty members\, comprising practice-based clinicians and non-clinicians and improvement experts who have worked extensively with general practice and wider primary care. \nRegistration for each session will close two working days before the webinar or earlier if oversubscribed.  \nEnquiries: england.capabilitypct@nhs.net
URL:https://lscthub.co.uk/events/getting-started-series-group-consultations-and-virtual-group-consultations/
CATEGORIES:General Events
END:VEVENT
END:VCALENDAR