BEGIN:VCALENDAR
VERSION:2.0
PRODID:-//Lancashire and South Cumbria Training Hub - ECPv6.15.20//NONSGML v1.0//EN
CALSCALE:GREGORIAN
METHOD:PUBLISH
X-WR-CALNAME:Lancashire and South Cumbria Training Hub
X-ORIGINAL-URL:https://lscthub.co.uk
X-WR-CALDESC:Events for Lancashire and South Cumbria Training Hub
REFRESH-INTERVAL;VALUE=DURATION:PT1H
X-Robots-Tag:noindex
X-PUBLISHED-TTL:PT1H
BEGIN:VTIMEZONE
TZID:UTC
BEGIN:STANDARD
TZOFFSETFROM:+0000
TZOFFSETTO:+0000
TZNAME:UTC
DTSTART:20220101T000000
END:STANDARD
END:VTIMEZONE
BEGIN:VEVENT
DTSTART;TZID=UTC:20230927T120000
DTEND;TZID=UTC:20230927T130000
DTSTAMP:20260423T225913
CREATED:20221214T122433Z
LAST-MODIFIED:20221214T122433Z
UID:28163-1695816000-1695819600@lscthub.co.uk
SUMMARY:Learning Environment Educator Development and Update Workshops
DESCRIPTION:This workshop is for all Educators who support pre-registration learners\, Allied Health Professional\, Physician Associates\, General Practitioners\, NMC Assessors and Supervisors \n  \nThis is an interactive discussion on the learning environment\, HEE Quality Framework (2021)\, assessment and supervision process\, the learners and an overview of NMC standards and the requirements of the above professions. \n  \nYou will receive an email prior to the workshop with the required pre reading attached for this session. \n  \nYou can also find the pre-reading here: https://lscthub.co.uk/learning-environment-educator-development-workshop/ \n  \nIf you are no longer able to attend\, please cancel your place via Eventbrite. If you are struggling with booking or cancelling your place\, please contact us on mbpcc.lscthub@nhs.net \n  \nBy signing up you agree for your information to be stored and by the Training hub and shared with the Trainer\, NHSE and HEE\, for the delivery of this training\, monitoring\, reporting and certification purposes only.
URL:https://lscthub.co.uk/events/learning-environment-educator-development-and-update-workshops-16/
CATEGORIES:General Events
END:VEVENT
END:VCALENDAR