BEGIN:VCALENDAR
VERSION:2.0
PRODID:-//Lancashire and South Cumbria Training Hub - ECPv6.15.20//NONSGML v1.0//EN
CALSCALE:GREGORIAN
METHOD:PUBLISH
X-ORIGINAL-URL:https://lscthub.co.uk
X-WR-CALDESC:Events for Lancashire and South Cumbria Training Hub
REFRESH-INTERVAL;VALUE=DURATION:PT1H
X-Robots-Tag:noindex
X-PUBLISHED-TTL:PT1H
BEGIN:VTIMEZONE
TZID:UTC
BEGIN:STANDARD
TZOFFSETFROM:+0000
TZOFFSETTO:+0000
TZNAME:UTC
DTSTART:20220101T000000
END:STANDARD
END:VTIMEZONE
BEGIN:VTIMEZONE
TZID:Europe/London
BEGIN:DAYLIGHT
TZOFFSETFROM:+0000
TZOFFSETTO:+0100
TZNAME:BST
DTSTART:20220327T010000
END:DAYLIGHT
BEGIN:STANDARD
TZOFFSETFROM:+0100
TZOFFSETTO:+0000
TZNAME:GMT
DTSTART:20221030T010000
END:STANDARD
BEGIN:DAYLIGHT
TZOFFSETFROM:+0000
TZOFFSETTO:+0100
TZNAME:BST
DTSTART:20230326T010000
END:DAYLIGHT
BEGIN:STANDARD
TZOFFSETFROM:+0100
TZOFFSETTO:+0000
TZNAME:GMT
DTSTART:20231029T010000
END:STANDARD
BEGIN:DAYLIGHT
TZOFFSETFROM:+0000
TZOFFSETTO:+0100
TZNAME:BST
DTSTART:20240331T010000
END:DAYLIGHT
BEGIN:STANDARD
TZOFFSETFROM:+0100
TZOFFSETTO:+0000
TZNAME:GMT
DTSTART:20241027T010000
END:STANDARD
END:VTIMEZONE
BEGIN:VEVENT
DTSTART;TZID=UTC:20230926T123000
DTEND;TZID=UTC:20230926T133000
DTSTAMP:20260423T213737
CREATED:20230222T213906Z
LAST-MODIFIED:20230222T232404Z
UID:30509-1695731400-1695735000@lscthub.co.uk
SUMMARY:Self development session for GPNs
DESCRIPTION:This one hour session explores personality traits and focuses on self development using various techniques​ \nThis is a fully interactive session- please ensure you have a camera and microphone \nYou will receive a certificate post training for your attendance. Places are limited\, if you have booked a place\, please ensure you attend.If you are no longer able to attend\, please cancel your place via Eventbrite. \nIf you are struggling with booking or cancelling your place\, please contact us on mbpcc.lscthub@nhs.net
URL:https://lscthub.co.uk/events/self-development-session-for-gpns-5/
CATEGORIES:General Events
END:VEVENT
BEGIN:VEVENT
DTSTART;TZID=Europe/London:20230926T123000
DTEND;TZID=Europe/London:20230926T140000
DTSTAMP:20260423T213737
CREATED:20230906T083449Z
LAST-MODIFIED:20230906T083449Z
UID:36111-1695731400-1695736800@lscthub.co.uk
SUMMARY:2023/24 Safe\, reliable processes (Reliable Design) II
DESCRIPTION:Safe\, reliable processes I (Reliable Design) \nSafe\, reliable processes (reliable design) focusses on how we design reliable processes that lead to consistently good and safe care delivery.  This module will introduce the key concepts and principles behind reliable design and consider their relevance in and application to primary care\, using examples taken from clinical practice.  It will also explore the importance of understanding the reasons behind adverse events in order that harm can be prevented.  A step-by-step framework for putting these principles into practice will be introduced so that delegates can take away some practical actions to apply in their own context. \nLearning outcomes\nBy the end of the webinar\, participants will be able to: \n\ndescribe factors affecting safety and reliability in primary care\nutilise a robust framework that enables teams to build reliability into their processes\napply the learning gained to set out practical next steps to ensure processes are safe and reliable\n\nSafe\, reliable processes II (Reliable Design) \nThis module will enable you to improve the safety and effectiveness of your primary care processes to 95% by using the SAFE approach. This involves the identifying any errors (actual or potential)\, determining the nature of any contributing failures\, prioritising starting points\, and determining actions that could be taken to reduce the likelihood of errors occurring or causing harm.  Participants should have attended session I. \nLearning outcomes\nBy the end of the webinar\, participants will be able to: \n\nTo understand how reliable processes link to safe outcomes\nTo be able to complete a SAFE assessment of a standardised process\n\nThis webinar is for GPs\, Practice Managers\, Practice Nurses\, Clinical Pharmacists\, anyone in lead roles in NHS general practice and Primary Care Networks. \nThe sessions are delivered by experienced Primary Care Transformation Team faculty members\, comprising practice-based clinicians and non-clinicians and improvement experts who have worked extensively with general practice and wider primary care. \nRegistration for each session will close two working days before the webinar or earlier if oversubscribed.  \nEnquiries: england.capabilitypct@nhs.net
URL:https://lscthub.co.uk/events/2023-24-safe-reliable-processes-reliable-design-ii/
CATEGORIES:General Events
END:VEVENT
BEGIN:VEVENT
DTSTART;TZID=Europe/London:20230926T140000
DTEND;TZID=Europe/London:20230926T150000
DTSTAMP:20260423T213737
CREATED:20230914T151340Z
LAST-MODIFIED:20230914T151340Z
UID:36306-1695736800-1695740400@lscthub.co.uk
SUMMARY:Routine Enquiry in Domestic Abuse Bite Size Training
DESCRIPTION:
URL:https://lscthub.co.uk/events/routine-enquiry-in-domestic-abuse-bite-size-training/
CATEGORIES:General Events
END:VEVENT
BEGIN:VEVENT
DTSTART;TZID=UTC:20230926T150000
DTEND;TZID=UTC:20230926T160000
DTSTAMP:20260423T213737
CREATED:20230222T214037Z
LAST-MODIFIED:20230222T232358Z
UID:30508-1695740400-1695744000@lscthub.co.uk
SUMMARY:Self development session for GPNs
DESCRIPTION:This one hour session explores personality traits and focuses on self development using various techniques​ \nThis is a fully interactive session- please ensure you have a camera and microphone \nYou will receive a certificate post training for your attendance. Places are limited\, if you have booked a place\, please ensure you attend.If you are no longer able to attend\, please cancel your place via Eventbrite. \nIf you are struggling with booking or cancelling your place\, please contact us on mbpcc.lscthub@nhs.net
URL:https://lscthub.co.uk/events/self-development-session-for-gpns-6/
CATEGORIES:General Events
END:VEVENT
END:VCALENDAR