BEGIN:VCALENDAR
VERSION:2.0
PRODID:-//Lancashire and South Cumbria Training Hub - ECPv6.15.20//NONSGML v1.0//EN
CALSCALE:GREGORIAN
METHOD:PUBLISH
X-ORIGINAL-URL:https://lscthub.co.uk
X-WR-CALDESC:Events for Lancashire and South Cumbria Training Hub
REFRESH-INTERVAL;VALUE=DURATION:PT1H
X-Robots-Tag:noindex
X-PUBLISHED-TTL:PT1H
BEGIN:VTIMEZONE
TZID:Europe/London
BEGIN:DAYLIGHT
TZOFFSETFROM:+0000
TZOFFSETTO:+0100
TZNAME:BST
DTSTART:20220327T010000
END:DAYLIGHT
BEGIN:STANDARD
TZOFFSETFROM:+0100
TZOFFSETTO:+0000
TZNAME:GMT
DTSTART:20221030T010000
END:STANDARD
BEGIN:DAYLIGHT
TZOFFSETFROM:+0000
TZOFFSETTO:+0100
TZNAME:BST
DTSTART:20230326T010000
END:DAYLIGHT
BEGIN:STANDARD
TZOFFSETFROM:+0100
TZOFFSETTO:+0000
TZNAME:GMT
DTSTART:20231029T010000
END:STANDARD
BEGIN:DAYLIGHT
TZOFFSETFROM:+0000
TZOFFSETTO:+0100
TZNAME:BST
DTSTART:20240331T010000
END:DAYLIGHT
BEGIN:STANDARD
TZOFFSETFROM:+0100
TZOFFSETTO:+0000
TZNAME:GMT
DTSTART:20241027T010000
END:STANDARD
END:VTIMEZONE
BEGIN:VEVENT
DTSTART;TZID=Europe/London:20230922T140000
DTEND;TZID=Europe/London:20230922T160000
DTSTAMP:20260423T213653
CREATED:20230906T083120Z
LAST-MODIFIED:20230906T083120Z
UID:36105-1695391200-1695398400@lscthub.co.uk
SUMMARY:Briefing Webinar: Delivering a Net Zero NHS for a Healthier Future
DESCRIPTION:SBRI Healthcare\, an Accelerated Access Collaborative initiative\, in partnership with Greener NHS and the AHSN Network\, is delighted to announce a new competition; Competition 24: Delivering a Net Zero NHS for a Healthier Future. \nThe NHS became the world’s first health service to set net zero targets with the ‘delivering a net zero NHS’ report published in 2020\, and the first to embed net zero into legislation\, through the Health and Care Act 2022. Since June 2022\, every trust in England has put in place a Green Plan\, setting out their aims\, objectives and delivery plans for carbon reduction. \nSince 2010\, the NHS has reduced emissions by 30% and more transformation that reduces emissions whilst maintaining and improving the quality of patient care is required. Innovation has a significant role to play in supporting the NHS to reach net zero and investing in innovation now will accelerate action and ensure the best outcomes for patients. \nThe competition seeks applications that focus on clinical community engagement and transformation\, and business models for circularity. \nThe key aims of the Briefing Webinar are to: \n\nIntroduce the SBRI Healthcare programme and aims of the competition\n\n\nExplain in more detail what challenges the competition aims to address\, and provide a clearer view of the type of innovations encouraged to apply\n\n\nAllow applicants to better understand the role of the AHSNs\, how they are best placed to support projects\, and hear tips about implementation studies and evaluations\n\n\nAllow applicants to ask questions\n\nThe competition is a standalone competition aimed at early-stage innovations to accelerate the development of greener innovations towards a more sustainable healthcare system. \nThe competition is open to single organisations based in the UK or EU from the private\, public\, and third sectors\, including companies – large corporates and small and medium enterprises\, charities\, universities and NHS providers. Organisations based outside of the UK or EU with innovations in remit for this competition can apply as subcontractors of a lead UK/EU based organisation or via a UK or EU subsidiary. All innovations should demonstrate a clear benefit for the NHS. \nThe early-stage development contracts are for a maximum of 12 months and from £50\,000- £100\,000 (NET) per project. \nApplication will be open from 31st October – 22nd November 2023 on the competition page. \nTwitter: @SBRIHealthcare \nLinkedIn: /sbri-healthcare \nWebsite: sbrihealthcare.co.uk \nEmail: sbri@LGCGroup.com \nRegister for the newsletter
URL:https://lscthub.co.uk/events/briefing-webinar-delivering-a-net-zero-nhs-for-a-healthier-future/
CATEGORIES:General Events
END:VEVENT
END:VCALENDAR