BEGIN:VCALENDAR
VERSION:2.0
PRODID:-//Lancashire and South Cumbria Training Hub - ECPv6.15.20//NONSGML v1.0//EN
CALSCALE:GREGORIAN
METHOD:PUBLISH
X-ORIGINAL-URL:https://lscthub.co.uk
X-WR-CALDESC:Events for Lancashire and South Cumbria Training Hub
REFRESH-INTERVAL;VALUE=DURATION:PT1H
X-Robots-Tag:noindex
X-PUBLISHED-TTL:PT1H
BEGIN:VTIMEZONE
TZID:UTC
BEGIN:STANDARD
TZOFFSETFROM:+0000
TZOFFSETTO:+0000
TZNAME:UTC
DTSTART:20220101T000000
END:STANDARD
END:VTIMEZONE
BEGIN:VTIMEZONE
TZID:Europe/London
BEGIN:DAYLIGHT
TZOFFSETFROM:+0000
TZOFFSETTO:+0100
TZNAME:BST
DTSTART:20220327T010000
END:DAYLIGHT
BEGIN:STANDARD
TZOFFSETFROM:+0100
TZOFFSETTO:+0000
TZNAME:GMT
DTSTART:20221030T010000
END:STANDARD
BEGIN:DAYLIGHT
TZOFFSETFROM:+0000
TZOFFSETTO:+0100
TZNAME:BST
DTSTART:20230326T010000
END:DAYLIGHT
BEGIN:STANDARD
TZOFFSETFROM:+0100
TZOFFSETTO:+0000
TZNAME:GMT
DTSTART:20231029T010000
END:STANDARD
BEGIN:DAYLIGHT
TZOFFSETFROM:+0000
TZOFFSETTO:+0100
TZNAME:BST
DTSTART:20240331T010000
END:DAYLIGHT
BEGIN:STANDARD
TZOFFSETFROM:+0100
TZOFFSETTO:+0000
TZNAME:GMT
DTSTART:20241027T010000
END:STANDARD
END:VTIMEZONE
BEGIN:VEVENT
DTSTART;TZID=UTC:20230919T093000
DTEND;TZID=UTC:20230919T103000
DTSTAMP:20260423T213709
CREATED:20230222T213720Z
LAST-MODIFIED:20230222T213720Z
UID:30511-1695115800-1695119400@lscthub.co.uk
SUMMARY:Self development session for GPNs
DESCRIPTION:This one hour session explores personality traits and focuses on self development using various techniques​ \nThis is a fully interactive session- please ensure you have a camera and microphone \nYou will receive a certificate post training for your attendance. Places are limited\, if you have booked a place\, please ensure you attend.If you are no longer able to attend\, please cancel your place via Eventbrite. \nIf you are struggling with booking or cancelling your place\, please contact us on mbpcc.lscthub@nhs.net
URL:https://lscthub.co.uk/events/self-development-session-for-gpns-3/
CATEGORIES:General Events
END:VEVENT
BEGIN:VEVENT
DTSTART;TZID=UTC:20230919T120000
DTEND;TZID=UTC:20230919T130000
DTSTAMP:20260423T213709
CREATED:20230222T213841Z
LAST-MODIFIED:20230222T213841Z
UID:30510-1695124800-1695128400@lscthub.co.uk
SUMMARY:Self development session for GPNs
DESCRIPTION:This one hour session explores personality traits and focuses on self development using various techniques​ \nThis is a fully interactive session- please ensure you have a camera and microphone \nYou will receive a certificate post training for your attendance. Places are limited\, if you have booked a place\, please ensure you attend.If you are no longer able to attend\, please cancel your place via Eventbrite. \nIf you are struggling with booking or cancelling your place\, please contact us on mbpcc.lscthub@nhs.net
URL:https://lscthub.co.uk/events/self-development-session-for-gpns-4/
CATEGORIES:General Events
END:VEVENT
BEGIN:VEVENT
DTSTART;TZID=UTC:20230919T130000
DTEND;TZID=UTC:20230919T140000
DTSTAMP:20260423T213709
CREATED:20230817T135348Z
LAST-MODIFIED:20230817T135348Z
UID:35723-1695128400-1695132000@lscthub.co.uk
SUMMARY:Making a difference: Health Coaching
DESCRIPTION:The event will be recorded so if you are unable to stay\, you should still be able to access the recording following.\nPlease refrain from sharing the webinar link\, please direct people to register via this registration form.\n\nThis event will be one of the activities planned to coincide with the National ‘Health Coaching Awareness Week’ planned through 18-22nd September 2023. Follow @Pers_Care for updates on further activities planned and use #HealthCoaching throughout the week to share your experiences and insights. \nIf you have any queries or the joining link does not arrive within 72 hours of registering please contact – england.pldp@nhs.net
URL:https://lscthub.co.uk/events/making-a-difference-health-coaching/
CATEGORIES:General Events
END:VEVENT
BEGIN:VEVENT
DTSTART;TZID=Europe/London:20230919T130000
DTEND;TZID=Europe/London:20230919T140000
DTSTAMP:20260423T213709
CREATED:20230906T084225Z
LAST-MODIFIED:20230906T084225Z
UID:36120-1695128400-1695132000@lscthub.co.uk
SUMMARY:Making a difference: Health Coaching
DESCRIPTION:Thank you for registering for our next Making a difference webinar\, we really appreciate your continued support and enthusiasm to hear more about how working with people and communities really does make a difference to peoples lives. We look forward to seeing you at this event on Tuesday 19th September 1-2:30pm. \nThe event will be recorded so if you are unable to stay\, you should still be able to access the recording following.\nPlease refrain from sharing the webinar link\, please direct people to register via this registration form.\n\nThis event will be one of the activities planned to coincide with the National ‘Health Coaching Awareness Week’ planned through 18-22nd September 2023. Follow @Pers_Care for updates on further activities planned and use #HealthCoaching throughout the week to share your experiences and insights. \nIf you have any queries or the joining link does not arrive within 72 hours of registering please contact – england.pldp@nhs.net
URL:https://lscthub.co.uk/events/making-a-difference-health-coaching-2/
CATEGORIES:General Events
END:VEVENT
END:VCALENDAR