BEGIN:VCALENDAR
VERSION:2.0
PRODID:-//Lancashire and South Cumbria Training Hub - ECPv6.15.20//NONSGML v1.0//EN
CALSCALE:GREGORIAN
METHOD:PUBLISH
X-ORIGINAL-URL:https://lscthub.co.uk
X-WR-CALDESC:Events for Lancashire and South Cumbria Training Hub
REFRESH-INTERVAL;VALUE=DURATION:PT1H
X-Robots-Tag:noindex
X-PUBLISHED-TTL:PT1H
BEGIN:VTIMEZONE
TZID:UTC
BEGIN:STANDARD
TZOFFSETFROM:+0000
TZOFFSETTO:+0000
TZNAME:UTC
DTSTART:20220101T000000
END:STANDARD
END:VTIMEZONE
BEGIN:VEVENT
DTSTART;TZID=UTC:20230915T130000
DTEND;TZID=UTC:20230915T140000
DTSTAMP:20260423T213816
CREATED:20230719T092947Z
LAST-MODIFIED:20230719T093011Z
UID:34778-1694782800-1694786400@lscthub.co.uk
SUMMARY:#AskAboutAsthma: new and old inhaled toxins and children with asthma
DESCRIPTION:Join NHSE for a dedicated webinar on air pollution\, part of the #AskAboutAsthma campaign. This webinar is aimed at anyone interested in air pollution and how it affects children and young people with asthma. NHSE will hear from Jonathan Grigg on”New and old inhaled toxins and children with asthma”\, Global Action Plan on the work they are doing with Integrated Care Systems (ICSs) to improve area-wide air pollution and air pollution in and around schools and more. \nQuestions about this event?\nName: BCYP team \nEmail:england.cyptransformationLDN@nhs.net \nTelephone:07702416148
URL:https://lscthub.co.uk/events/askaboutasthma-new-and-old-inhaled-toxins-and-children-with-asthma/
CATEGORIES:General Events
END:VEVENT
END:VCALENDAR