BEGIN:VCALENDAR
VERSION:2.0
PRODID:-//Lancashire and South Cumbria Training Hub - ECPv6.15.20//NONSGML v1.0//EN
CALSCALE:GREGORIAN
METHOD:PUBLISH
X-WR-CALNAME:Lancashire and South Cumbria Training Hub
X-ORIGINAL-URL:https://lscthub.co.uk
X-WR-CALDESC:Events for Lancashire and South Cumbria Training Hub
REFRESH-INTERVAL;VALUE=DURATION:PT1H
X-Robots-Tag:noindex
X-PUBLISHED-TTL:PT1H
BEGIN:VTIMEZONE
TZID:UTC
BEGIN:STANDARD
TZOFFSETFROM:+0000
TZOFFSETTO:+0000
TZNAME:UTC
DTSTART:20220101T000000
END:STANDARD
END:VTIMEZONE
BEGIN:VEVENT
DTSTART;TZID=UTC:20230914T090000
DTEND;TZID=UTC:20230914T160000
DTSTAMP:20260423T195757
CREATED:20230719T092648Z
LAST-MODIFIED:20230719T092648Z
UID:34772-1694682000-1694707200@lscthub.co.uk
SUMMARY:#AskAboutAsthma one-day virtual conference
DESCRIPTION:#AskAboutAsthma is back this September for its seventh year\, and we want to invite you to be part of it. \nFor 2023\, the #AskAboutAsthma campaign will run from 11 – 17 September. This year’s theme is “Widening our view”. NHSE are shining a light on the wider factors of children and young people’s asthma care including housing\, mould and vaping. “Widening our view” also helps NHSE to raise the profile of asthma; reaching out to everyone who has asthma\, their friends\, families and the whole system that cares for them. \nThe #AskAboutAsthma campaign encourages children and young people\, their families\, and those involved in their care\, to ensure four simple and effective measures to help them control their asthma: \n\nGet an asthma action plan in place\nUnderstand how to use inhalers correctly\nSchedule an asthma review – every year and after every attack\nConsider air pollution and its impact on lung health\n\nThroughout the week there will be webinars\, podcasts\, blogs\, vlogs\, social media activity and a one-day virtual conference. Details of the one-day conference can be found below. \nOne-day virtual conference \nThis year’s one-day virtual conference will be held on Thursday 14 September. \nThere will be sessions on: \n\nInequalities in children and young people’s asthma care\nHousing damp and mould\nThe risks of vaping to children and young people with asthma\nClinical and national updates\n\nQuestions about this event?\nName: Jojo Taylor \nEmail:england.cyptransformationLDN@nhs.net \nTelephone:07702436030
URL:https://lscthub.co.uk/events/askaboutasthma-one-day-virtual-conference/
CATEGORIES:General Events
END:VEVENT
BEGIN:VEVENT
DTSTART;TZID=UTC:20230914T090000
DTEND;TZID=UTC:20230914T163000
DTSTAMP:20260423T195757
CREATED:20230816T084607Z
LAST-MODIFIED:20230816T084607Z
UID:35687-1694682000-1694709000@lscthub.co.uk
SUMMARY:North West Wider Workforce Clinical Supervision Course (Day 1)
DESCRIPTION:Please view the below flyer for full details \nNWWW Clinical Supervisors Sep 2023 Flier
URL:https://lscthub.co.uk/events/north-west-wider-workforce-clinical-supervision-course-day-1/
CATEGORIES:General Events
END:VEVENT
END:VCALENDAR