BEGIN:VCALENDAR
VERSION:2.0
PRODID:-//Lancashire and South Cumbria Training Hub - ECPv6.15.20//NONSGML v1.0//EN
CALSCALE:GREGORIAN
METHOD:PUBLISH
X-ORIGINAL-URL:https://lscthub.co.uk
X-WR-CALDESC:Events for Lancashire and South Cumbria Training Hub
REFRESH-INTERVAL;VALUE=DURATION:PT1H
X-Robots-Tag:noindex
X-PUBLISHED-TTL:PT1H
BEGIN:VTIMEZONE
TZID:UTC
BEGIN:STANDARD
TZOFFSETFROM:+0000
TZOFFSETTO:+0000
TZNAME:UTC
DTSTART:20220101T000000
END:STANDARD
END:VTIMEZONE
BEGIN:VTIMEZONE
TZID:Europe/London
BEGIN:DAYLIGHT
TZOFFSETFROM:+0000
TZOFFSETTO:+0100
TZNAME:BST
DTSTART:20220327T010000
END:DAYLIGHT
BEGIN:STANDARD
TZOFFSETFROM:+0100
TZOFFSETTO:+0000
TZNAME:GMT
DTSTART:20221030T010000
END:STANDARD
BEGIN:DAYLIGHT
TZOFFSETFROM:+0000
TZOFFSETTO:+0100
TZNAME:BST
DTSTART:20230326T010000
END:DAYLIGHT
BEGIN:STANDARD
TZOFFSETFROM:+0100
TZOFFSETTO:+0000
TZNAME:GMT
DTSTART:20231029T010000
END:STANDARD
BEGIN:DAYLIGHT
TZOFFSETFROM:+0000
TZOFFSETTO:+0100
TZNAME:BST
DTSTART:20240331T010000
END:DAYLIGHT
BEGIN:STANDARD
TZOFFSETFROM:+0100
TZOFFSETTO:+0000
TZNAME:GMT
DTSTART:20241027T010000
END:STANDARD
END:VTIMEZONE
BEGIN:VEVENT
DTSTART;TZID=UTC:20230913T130000
DTEND;TZID=UTC:20230913T140000
DTSTAMP:20260423T213738
CREATED:20230719T092250Z
LAST-MODIFIED:20230719T092818Z
UID:34766-1694610000-1694613600@lscthub.co.uk
SUMMARY:#AskAboutAsthma : how nurses are transforming CYP asthma
DESCRIPTION:Join NHSE for a dedicated webinar for nurses caring for children and young people with asthma\, part of the #AskAboutAsthma campaign. NHSE will hear about MART for CYP asthma\, learning from system-wide nurse led pilot work in North East London and more. \nQuestions about this event?\nName: BCYP team \nEmail:england.cyptransformationLDN@nhs.net \nTelephone:07595 090072
URL:https://lscthub.co.uk/events/askaboutasthma-how-nurses-are-transforming-cyp-asthma/
CATEGORIES:General Events
END:VEVENT
BEGIN:VEVENT
DTSTART;TZID=Europe/London:20230913T133000
DTEND;TZID=Europe/London:20230913T143000
DTSTAMP:20260423T213738
CREATED:20230906T084100Z
LAST-MODIFIED:20230906T084100Z
UID:36118-1694611800-1694615400@lscthub.co.uk
SUMMARY:TPP Safeguarding Webinar (Accelerating Patient Access)
DESCRIPTION:Date: Wednesday 13 September 2023 \nTime: 1:30pm to 2:30pm \nEnabling patient access to their primary care medical record – TPP Safeguarding Webinar \nChair: Helen Crowther (National Digital Primary Care Nurse Lead) \nJoin us for this NHS England webinar session. \nChair Helen Crowther (National Digital Primary Care Nurse Lead) NHSE will facilitate a discussion with Dr Tim Caroe – NHSE SE Medical Director Primary Care Transformation (The Lighthouse Medical Practice) on top tips for safeguarding access to records\, mythbusting\, answering questions and offering guidance and reassurance. \nAdditionally: \n\nRichard Bowron and Jemma Atkinson will discuss the end to end journey for full prospective access\nColin Osborn will discuss self-enablement and safeguarding advice in the TPP guide\n\nPlease note the link to join the webinar will be emailed to all delegates by 5 pm on 12 September. \nIf you any questions about this webinar\, please contact us by sending an email to: england.gprecordaccess@nhs.net with ‘TPP Webinar 13 September’ in the subject line. \nQuestions about this event?\nName: Accelerating Patient Access team \nEmail:england.gprecordaccess@nhs.net
URL:https://lscthub.co.uk/events/tpp-safeguarding-webinar-accelerating-patient-access/
CATEGORIES:General Events
END:VEVENT
END:VCALENDAR