BEGIN:VCALENDAR
VERSION:2.0
PRODID:-//Lancashire and South Cumbria Training Hub - ECPv6.15.20//NONSGML v1.0//EN
CALSCALE:GREGORIAN
METHOD:PUBLISH
X-WR-CALNAME:Lancashire and South Cumbria Training Hub
X-ORIGINAL-URL:https://lscthub.co.uk
X-WR-CALDESC:Events for Lancashire and South Cumbria Training Hub
REFRESH-INTERVAL;VALUE=DURATION:PT1H
X-Robots-Tag:noindex
X-PUBLISHED-TTL:PT1H
BEGIN:VTIMEZONE
TZID:UTC
BEGIN:STANDARD
TZOFFSETFROM:+0000
TZOFFSETTO:+0000
TZNAME:UTC
DTSTART:20220101T000000
END:STANDARD
END:VTIMEZONE
BEGIN:VEVENT
DTSTART;VALUE=DATE:20230911
DTEND;VALUE=DATE:20230912
DTSTAMP:20260423T195804
CREATED:20230815T133232Z
LAST-MODIFIED:20230815T133232Z
UID:35645-1694390400-1694476799@lscthub.co.uk
SUMMARY:NHS NW Leadership Academy Festival of Leadership 2023
DESCRIPTION:The Festival of Leadership  offers a space for you to connect\, share and learn with colleagues from across the region at a time of transformation and recovery. The full day event will bring to life ‘Our Leadership Way’ and foster networking\, spread learning and encourage transformative leadership. \nThrough a blend of local inspirational leadership speakers\, diverse workshop sessions\, and a range of networking opportunities\, you will be provided with tools and fresh thinking to stimulate new perspectives and help drive your organisation and system forward. You will: \n\nExplore and discover challenges and opportunities to shape leadership\nShare and learn how best practice is achieved\nLeave with tools to implement\, support and embed transformative leadership\n\nTo find out more about the Festival of Leadership\, please visit our website. You can also join our online community and follow the conversation with  #NWFoL.
URL:https://lscthub.co.uk/events/nhs-nw-leadership-academy-festival-of-leadership-2023/
CATEGORIES:General Events
END:VEVENT
END:VCALENDAR