BEGIN:VCALENDAR
VERSION:2.0
PRODID:-//Lancashire and South Cumbria Training Hub - ECPv6.15.20//NONSGML v1.0//EN
CALSCALE:GREGORIAN
METHOD:PUBLISH
X-WR-CALNAME:Lancashire and South Cumbria Training Hub
X-ORIGINAL-URL:https://lscthub.co.uk
X-WR-CALDESC:Events for Lancashire and South Cumbria Training Hub
REFRESH-INTERVAL;VALUE=DURATION:PT1H
X-Robots-Tag:noindex
X-PUBLISHED-TTL:PT1H
BEGIN:VTIMEZONE
TZID:UTC
BEGIN:STANDARD
TZOFFSETFROM:+0000
TZOFFSETTO:+0000
TZNAME:UTC
DTSTART:20220101T000000
END:STANDARD
END:VTIMEZONE
BEGIN:VEVENT
DTSTART;VALUE=DATE:20230908
DTEND;VALUE=DATE:20230910
DTSTAMP:20260423T181432
CREATED:20230713T071836Z
LAST-MODIFIED:20230713T071836Z
UID:34685-1694131200-1694303999@lscthub.co.uk
SUMMARY:Advancing Practice Conference
DESCRIPTION:This November join NHSE on 8 and 9 November for our annual Centre for Advancing Practice Conference. \nTaking place online\, the Centre for Advancing Practice Conference will include a blend of inspiring and thought-provoking speakers\, networking and a range of leaders from the community. \nThe theme for this year: A Future Worth Advancing \nWhy attend?\nBe inspired: Rediscover essential skills\, view good practices\, and trends from inspiring speakers from across England and beyond in 30+ hours of conference sessions; delivered in a range of formats that draw out unique insights. \nGain actionable insights: Hear from leading experts and experienced practitioners. Providing you with advice and tools to tackle the key challenges facing advancing practice today. \nBuild your network: Our national conference helps build support relationships.  Together we can generate new ideas and share experiences in the engagement zones. \nConference details\nDate: Wednesday 8 November 2023 and Thursday 9 November 2023 \nLocation: Online/Virtual \nHashtag: #AdvancingPractice2023 \n\nRegistration Opens Soon
URL:https://lscthub.co.uk/events/advancing-practice-conference/
CATEGORIES:General Events
END:VEVENT
END:VCALENDAR