BEGIN:VCALENDAR
VERSION:2.0
PRODID:-//Lancashire and South Cumbria Training Hub - ECPv6.15.20//NONSGML v1.0//EN
CALSCALE:GREGORIAN
METHOD:PUBLISH
X-WR-CALNAME:Lancashire and South Cumbria Training Hub
X-ORIGINAL-URL:https://lscthub.co.uk
X-WR-CALDESC:Events for Lancashire and South Cumbria Training Hub
REFRESH-INTERVAL;VALUE=DURATION:PT1H
X-Robots-Tag:noindex
X-PUBLISHED-TTL:PT1H
BEGIN:VTIMEZONE
TZID:UTC
BEGIN:STANDARD
TZOFFSETFROM:+0000
TZOFFSETTO:+0000
TZNAME:UTC
DTSTART:20220101T000000
END:STANDARD
END:VTIMEZONE
BEGIN:VEVENT
DTSTART;TZID=UTC:20230904T130000
DTEND;TZID=UTC:20230904T150000
DTSTAMP:20260423T163251
CREATED:20230808T093946Z
LAST-MODIFIED:20230808T093946Z
UID:35495-1693832400-1693839600@lscthub.co.uk
SUMMARY:Mental Health Practitioner Forum
DESCRIPTION:Want an update on Mental Health Practitioner developments in your Lancashire and South Cumbria region and a place to share your ideas with MHP peers ? \nThis is a shared ownership forum for Primary Care MHP’s to access peer support\, supervision\, CPD\, training and discussion of best practice updates. \nFocus: Dementia/memory assessment in primary care \nCPD session with guest speaker\, Danielle Bradley\, Mental Health ACP (MAS)\, to include: \n\nMemory Assessment\nAssociated Mental Health Conditions\nRequirements for onward referral\nMedications used in dementia\n\nSave the date! Join our MHP forum!
URL:https://lscthub.co.uk/events/mental-health-practitioner-forum-2/
CATEGORIES:General Events
END:VEVENT
END:VCALENDAR