BEGIN:VCALENDAR
VERSION:2.0
PRODID:-//Lancashire and South Cumbria Training Hub - ECPv6.15.20//NONSGML v1.0//EN
CALSCALE:GREGORIAN
METHOD:PUBLISH
X-WR-CALNAME:Lancashire and South Cumbria Training Hub
X-ORIGINAL-URL:https://lscthub.co.uk
X-WR-CALDESC:Events for Lancashire and South Cumbria Training Hub
REFRESH-INTERVAL;VALUE=DURATION:PT1H
X-Robots-Tag:noindex
X-PUBLISHED-TTL:PT1H
BEGIN:VTIMEZONE
TZID:UTC
BEGIN:STANDARD
TZOFFSETFROM:+0000
TZOFFSETTO:+0000
TZNAME:UTC
DTSTART:20220101T000000
END:STANDARD
END:VTIMEZONE
BEGIN:VEVENT
DTSTART;TZID=UTC:20230831T120000
DTEND;TZID=UTC:20230831T130000
DTSTAMP:20260423T163132
CREATED:20230821T102944Z
LAST-MODIFIED:20230821T102944Z
UID:35750-1693483200-1693486800@lscthub.co.uk
SUMMARY:Sharing best practice: Make Every Contact Count (MECC) and Transition to Practice for pre-registered learners at T&G ICFT
DESCRIPTION:In this webinar colleagues from Tameside and Glossop Integrated Care NHS Foundation Trust will be showcasing best practice in terms of their Make Every Contact Count (MECC) and Transition to Practice interventions for pre-registered learners. \n\nMake Every Contact Count (MECC) enables the delivery of concise mental health and wellbeing information and encourages individuals to be more confident to engage in conversations about their health and the health of others. The MECC approach recognises that staff who have significant contact with others are ideally placed to support their own health and wellbeing as well as that of other individuals.\nTransition to Practice sessions allow an easier transition from being a learner to becoming a qualified member of staff. The aim is to alleviate the learners’ anxiety and to provide them with more information to become more confident\n\nClick here to register for this webinar 
URL:https://lscthub.co.uk/events/sharing-best-practice-make-every-contact-count-mecc-and-transition-to-practice-for-pre-registered-learners-at-tg-icft/
CATEGORIES:General Events
END:VEVENT
END:VCALENDAR