BEGIN:VCALENDAR
VERSION:2.0
PRODID:-//Lancashire and South Cumbria Training Hub - ECPv6.15.20//NONSGML v1.0//EN
CALSCALE:GREGORIAN
METHOD:PUBLISH
X-WR-CALNAME:Lancashire and South Cumbria Training Hub
X-ORIGINAL-URL:https://lscthub.co.uk
X-WR-CALDESC:Events for Lancashire and South Cumbria Training Hub
REFRESH-INTERVAL;VALUE=DURATION:PT1H
X-Robots-Tag:noindex
X-PUBLISHED-TTL:PT1H
BEGIN:VTIMEZONE
TZID:UTC
BEGIN:STANDARD
TZOFFSETFROM:+0000
TZOFFSETTO:+0000
TZNAME:UTC
DTSTART:20220101T000000
END:STANDARD
END:VTIMEZONE
BEGIN:VEVENT
DTSTART;TZID=UTC:20230718T093000
DTEND;TZID=UTC:20230718T103000
DTSTAMP:20260424T160338
CREATED:20230222T101934Z
LAST-MODIFIED:20230222T101934Z
UID:30484-1689672600-1689676200@lscthub.co.uk
SUMMARY:Stepping into a Management Position
DESCRIPTION:Stepping into a management position – this one hour session explores the challenges when stepping into management for the first time and looks at the principles and strategies of effective management​ \nThis is a fully interactive session- please ensure you have a camera and microphone \nYou will receive a certificate post training for your attendance. Places are limited\, if you have booked a place\, please ensure you attend.If you are no longer able to attend\, please cancel your place via Eventbrite. \nIf you are struggling with booking or cancelling your place\, please contact us on mbpcc.lscthub@nhs.net
URL:https://lscthub.co.uk/events/stepping-into-a-management-position-3/
CATEGORIES:General Events
END:VEVENT
BEGIN:VEVENT
DTSTART;TZID=UTC:20230718T150000
DTEND;TZID=UTC:20230718T160000
DTSTAMP:20260424T160338
CREATED:20230222T101958Z
LAST-MODIFIED:20230222T101958Z
UID:30482-1689692400-1689696000@lscthub.co.uk
SUMMARY:Stepping into a Management Position
DESCRIPTION:Stepping into a management position – this one hour session explores the challenges when stepping into management for the first time and looks at the principles and strategies of effective management​ \nThis is a fully interactive session- please ensure you have a camera and microphone \nYou will receive a certificate post training for your attendance. Places are limited\, if you have booked a place\, please ensure you attend.If you are no longer able to attend\, please cancel your place via Eventbrite. \nIf you are struggling with booking or cancelling your place\, please contact us on mbpcc.lscthub@nhs.net
URL:https://lscthub.co.uk/events/stepping-into-a-management-position-4/
CATEGORIES:General Events
END:VEVENT
END:VCALENDAR