BEGIN:VCALENDAR
VERSION:2.0
PRODID:-//Lancashire and South Cumbria Training Hub - ECPv6.15.20//NONSGML v1.0//EN
CALSCALE:GREGORIAN
METHOD:PUBLISH
X-WR-CALNAME:Lancashire and South Cumbria Training Hub
X-ORIGINAL-URL:https://lscthub.co.uk
X-WR-CALDESC:Events for Lancashire and South Cumbria Training Hub
REFRESH-INTERVAL;VALUE=DURATION:PT1H
X-Robots-Tag:noindex
X-PUBLISHED-TTL:PT1H
BEGIN:VTIMEZONE
TZID:UTC
BEGIN:STANDARD
TZOFFSETFROM:+0000
TZOFFSETTO:+0000
TZNAME:UTC
DTSTART:20220101T000000
END:STANDARD
END:VTIMEZONE
BEGIN:VEVENT
DTSTART;TZID=UTC:20230706T000000
DTEND;TZID=UTC:20230706T130000
DTSTAMP:20260424T160344
CREATED:20230621T071213Z
LAST-MODIFIED:20230621T071213Z
UID:34081-1688601600-1688648400@lscthub.co.uk
SUMMARY:Best Practice - Population Health Respiratory Project
DESCRIPTION:Naomi will be talking about the population health approach taken in Central Lancashire for residents living with respiratory conditions such as COPD and asthma. \nNaomi will demonstrate how the Respiratory Resilience Over Winter project has helped to support our most vulnerable residents with respiratory conditions\, helping them to manage their conditions; supporting them through clinical as well as social prescribing interventions to assess the deeper determinates of health\, and enabling them to stay well over winter. \nEveryone is welcome that has an interest in population health\, COPD and CORE20PLUS5 and working to improve health outcomes and reduce inequity. \nPlease join us for what promises to be both an interesting but also much needed session on this important topic as now is the time to start making plans for winter respiratory care.
URL:https://lscthub.co.uk/events/best-practice-population-health-respiratory-project/
CATEGORIES:General Events
END:VEVENT
END:VCALENDAR