BEGIN:VCALENDAR
VERSION:2.0
PRODID:-//Lancashire and South Cumbria Training Hub - ECPv6.15.20//NONSGML v1.0//EN
CALSCALE:GREGORIAN
METHOD:PUBLISH
X-ORIGINAL-URL:https://lscthub.co.uk
X-WR-CALDESC:Events for Lancashire and South Cumbria Training Hub
REFRESH-INTERVAL;VALUE=DURATION:PT1H
X-Robots-Tag:noindex
X-PUBLISHED-TTL:PT1H
BEGIN:VTIMEZONE
TZID:UTC
BEGIN:STANDARD
TZOFFSETFROM:+0000
TZOFFSETTO:+0000
TZNAME:UTC
DTSTART:20220101T000000
END:STANDARD
END:VTIMEZONE
BEGIN:VEVENT
DTSTART;TZID=UTC:20230705T120000
DTEND;TZID=UTC:20230705T130000
DTSTAMP:20260424T172258
CREATED:20230602T094104Z
LAST-MODIFIED:20230602T094209Z
UID:33281-1688558400-1688562000@lscthub.co.uk
SUMMARY:Safely Managing Common Ailments at Home - Become Self-Care Aware
DESCRIPTION:About this event\n\n\n\n\nJoin us for this free self-care aware webinar where you will find out about self-care and what it means for safely managing common health conditions at home. Come along and let us help you to help yourself. \nThe webinar will be presented by experts in self-care and is being hosted by the Self Care Forum\, a charity helping people take care of themselves. \nThe session will increase your knowledge and understanding of key aspects of self-care giving you the skills and confidence you need to better manage your health and support those around you. \nLearning outcomes: \n\nUnderstand what is meant by self-care\nAppreciate why self-care is important to the wider health and care system\nIdentify symptoms of common ailments and how long they normally last\nKnow when to seek professional health advice and where to go for that advice\nConsider what makes us adopt certain health behaviours\n\nTopics covered: \nThe health topic covered during the webinar will be based on some of our self-care aware fact sheets which can be accessed here. (https://www.selfcareforum.org/fact-sheets/) \n  \nFor more information about the Self Care Forum go to the website (www.selfcareforum.org) or contact: selfcare@selfcareforum.org.
URL:https://lscthub.co.uk/events/safely-managing-common-ailments-at-home-become-self-care-aware/
CATEGORIES:General Events
END:VEVENT
BEGIN:VEVENT
DTSTART;TZID=UTC:20230705T120000
DTEND;TZID=UTC:20230705T130000
DTSTAMP:20260424T172258
CREATED:20230609T095911Z
LAST-MODIFIED:20230609T095957Z
UID:33665-1688558400-1688562000@lscthub.co.uk
SUMMARY:Safely Managing Common Ailments at Home - Become Self-Care Aware
DESCRIPTION:Join us for this free self-care aware webinar where you will find out about self-care and what it means for safely managing common health conditions at home. Come along and let us help you to help yourself. \nThe webinar will be presented by experts in self-care and is being hosted by the Self Care Forum\, a charity helping people take care of themselves. \nThe session will increase your knowledge and understanding of key aspects of self-care giving you the skills and confidence you need to better manage your health and support those around you. \nLearning outcomes: \n\nUnderstand what is meant by self-care\nAppreciate why self-care is important to the wider health and care system\nIdentify symptoms of common ailments and how long they normally last\nKnow when to seek professional health advice and where to go for that advice\nConsider what makes us adopt certain health behaviours\n\nTopics covered: \nThe health topic covered during the webinar will be based on some of our self-care aware fact sheets which can be accessed here. (https://www.selfcareforum.org/fact-sheets/) \n  \nFor more information about the Self Care Forum go to the website (www.selfcareforum.org) or contact: selfcare@selfcareforum.org.
URL:https://lscthub.co.uk/events/safely-managing-common-ailments-at-home-become-self-care-aware-2/
CATEGORIES:General Events
END:VEVENT
BEGIN:VEVENT
DTSTART;TZID=UTC:20230705T120000
DTEND;TZID=UTC:20230705T130000
DTSTAMP:20260424T172258
CREATED:20230621T072016Z
LAST-MODIFIED:20230621T072016Z
UID:34091-1688558400-1688562000@lscthub.co.uk
SUMMARY:Managing common ailments at home - Become self-care aware
DESCRIPTION:
URL:https://lscthub.co.uk/events/managing-common-ailments-at-home-become-self-care-aware/
CATEGORIES:General Events
END:VEVENT
END:VCALENDAR