BEGIN:VCALENDAR
VERSION:2.0
PRODID:-//Lancashire and South Cumbria Training Hub - ECPv6.15.20//NONSGML v1.0//EN
CALSCALE:GREGORIAN
METHOD:PUBLISH
X-WR-CALNAME:Lancashire and South Cumbria Training Hub
X-ORIGINAL-URL:https://lscthub.co.uk
X-WR-CALDESC:Events for Lancashire and South Cumbria Training Hub
REFRESH-INTERVAL;VALUE=DURATION:PT1H
X-Robots-Tag:noindex
X-PUBLISHED-TTL:PT1H
BEGIN:VTIMEZONE
TZID:UTC
BEGIN:STANDARD
TZOFFSETFROM:+0000
TZOFFSETTO:+0000
TZNAME:UTC
DTSTART:20220101T000000
END:STANDARD
END:VTIMEZONE
BEGIN:VEVENT
DTSTART;TZID=UTC:20230629T090000
DTEND;TZID=UTC:20230629T110000
DTSTAMP:20260424T160341
CREATED:20230623T072647Z
LAST-MODIFIED:20230623T072721Z
UID:34186-1688029200-1688036400@lscthub.co.uk
SUMMARY:UCLan Listening Event - AHPs\, Nursing & Midwifery Educators
DESCRIPTION:Our learners benefit from high levels of personal support from our practice partners throughout their development as Healthcare professionals with UCLan providing well established high quality wrap around support for our learners which is well used when students are in University. \nWe are embarking on a project to develop improved access for our practice partners to key information relating to programmes and regulations. \nPlease join us to help shape this development. Let us know what is missing\, when have you found yourself needing information but struggling to find it\, do you know what to do when a student is in difficulty? \nThe more voices we hear\, the more we can shape our development to be fit for your needs as our partners in education.
URL:https://lscthub.co.uk/events/uclan-listening-event-ahps-nursing-midwifery-educators/
LOCATION:University of Central Lancashire\, Brook Building 016 Fylde Road Preston PR1 2HE\, University of Central Lancashire\, Brook Building 016 Fylde Road Preston PR1 2HE
CATEGORIES:General Events
END:VEVENT
BEGIN:VEVENT
DTSTART;TZID=UTC:20230629T100000
DTEND;TZID=UTC:20230629T130000
DTSTAMP:20260424T160341
CREATED:20230303T120835Z
LAST-MODIFIED:20230303T120835Z
UID:30844-1688032800-1688043600@lscthub.co.uk
SUMMARY:Clinical Skills Practice Workshop Lytham
DESCRIPTION:New for 2023 Lancashire and South Cumbria Training Hub are offering Clinical Skills Practice Workshops! Available throughout the year at different locations you will be able to experience a hands on approach with the support of a clinical educator! \n  \nTopics covered in the sessions are: \n\nVenepuncture\nObtaining a Manual Blood pressure\nInjection Technique\nCervical Sample Taking\n\n  \nThe workshops welcome General Practice Nurses\, Health Care Assistants\, Nursing Associates\, Trainee Nursing Associates\, Advanced Nurse Practitioners\, Student Nurses\, Student Nurse Paramedics\, Physician Associates… anyone with a clinical role within Primary Care that is already trained in the topics above. \nNew to practice and want to have some hands-on experience with a mannequin to gain skills and confidence or if you are an experienced practitioner and want to refresh your skills then this is the workshop for you! \n  \nWe have equipment available in the workshops to enable you to practice your skills and get hands on experience with the support of a friendly clinical educator plus a practical handbook to guide you through. \n– Please note that these workshops are not a formal training session and the purpose is to support delegates in building on knowledge and skills already learnt from previous formal training. \nDelegates must join the session from the start time and leave once they feel they have gained enough from the workshop: there is no requirement to stay for the full 3 hours. In addition\, delegates may attend to access one of the pieces of equipment or all of them! This is a great opportunity to get hands on and have a play with the mannequins to help improve your practice! \nIf you have any additional needs or requirements to attend these sessions\, then please contact the training hub on mbpcc.lscthub@nhs.net \nPlease ensure you bring your own lunch/snacks if required. \n 
URL:https://lscthub.co.uk/events/clinical-skills-practice-workshop-lytham-2/
LOCATION:Lytham Primary Care Centre Victoria Street Lytham FY8 5DZ\, Lytham Primary Care Centre Victoria Street Lytham FY8 5DZ
CATEGORIES:General Events
END:VEVENT
END:VCALENDAR