BEGIN:VCALENDAR
VERSION:2.0
PRODID:-//Lancashire and South Cumbria Training Hub - ECPv6.15.20//NONSGML v1.0//EN
CALSCALE:GREGORIAN
METHOD:PUBLISH
X-ORIGINAL-URL:https://lscthub.co.uk
X-WR-CALDESC:Events for Lancashire and South Cumbria Training Hub
REFRESH-INTERVAL;VALUE=DURATION:PT1H
X-Robots-Tag:noindex
X-PUBLISHED-TTL:PT1H
BEGIN:VTIMEZONE
TZID:UTC
BEGIN:STANDARD
TZOFFSETFROM:+0000
TZOFFSETTO:+0000
TZNAME:UTC
DTSTART:20220101T000000
END:STANDARD
END:VTIMEZONE
BEGIN:VEVENT
DTSTART;TZID=UTC:20230614T160000
DTEND;TZID=UTC:20230626T163000
DTSTAMP:20260424T020837
CREATED:20230602T081418Z
LAST-MODIFIED:20230602T081729Z
UID:33267-1686758400-1687797000@lscthub.co.uk
SUMMARY:Primary Care workforce development support drop-in
DESCRIPTION:For PCN Managers/Practice Manager/Clinical Directors/GPs/all primary care staff and anyone who supports the recruitment and retention of PCN and Practice staff. \nHave a question about ARRS roles? Need support with workforce planning and development ? Looking for opportunities to share your job vacancies? Interested in job matching services and linking in with local job seekers? Your local PCN Workforce Development Managers are here to help!
URL:https://lscthub.co.uk/events/primary-care-workforce-development-support-drop-in-2/
CATEGORIES:General Events
END:VEVENT
END:VCALENDAR