BEGIN:VCALENDAR
VERSION:2.0
PRODID:-//Lancashire and South Cumbria Training Hub - ECPv6.15.20//NONSGML v1.0//EN
CALSCALE:GREGORIAN
METHOD:PUBLISH
X-WR-CALNAME:Lancashire and South Cumbria Training Hub
X-ORIGINAL-URL:https://lscthub.co.uk
X-WR-CALDESC:Events for Lancashire and South Cumbria Training Hub
REFRESH-INTERVAL;VALUE=DURATION:PT1H
X-Robots-Tag:noindex
X-PUBLISHED-TTL:PT1H
BEGIN:VTIMEZONE
TZID:UTC
BEGIN:STANDARD
TZOFFSETFROM:+0000
TZOFFSETTO:+0000
TZNAME:UTC
DTSTART:20220101T000000
END:STANDARD
END:VTIMEZONE
BEGIN:VEVENT
DTSTART;TZID=UTC:20230614T160000
DTEND;TZID=UTC:20230626T163000
DTSTAMP:20260424T205203
CREATED:20230602T081418Z
LAST-MODIFIED:20230602T081729Z
UID:33267-1686758400-1687797000@lscthub.co.uk
SUMMARY:Primary Care workforce development support drop-in
DESCRIPTION:For PCN Managers/Practice Manager/Clinical Directors/GPs/all primary care staff and anyone who supports the recruitment and retention of PCN and Practice staff. \nHave a question about ARRS roles? Need support with workforce planning and development ? Looking for opportunities to share your job vacancies? Interested in job matching services and linking in with local job seekers? Your local PCN Workforce Development Managers are here to help!
URL:https://lscthub.co.uk/events/primary-care-workforce-development-support-drop-in-2/
CATEGORIES:General Events
END:VEVENT
BEGIN:VEVENT
DTSTART;TZID=UTC:20230620T090000
DTEND;TZID=UTC:20230620T100000
DTSTAMP:20260424T205203
CREATED:20230222T101155Z
LAST-MODIFIED:20230222T101155Z
UID:30470-1687251600-1687255200@lscthub.co.uk
SUMMARY:The Art of Delegation
DESCRIPTION:This one-hour session explores the difference between abdication/delegation and micromanagement and provides the necessary tools to delegate effectively \nThis is a fully interactive session- please ensure you have a camera and microphone \nYou will receive a certificate post training for your attendance. Places are limited\, if you have booked a place\, please ensure you attend.If you are no longer able to attend\, please cancel your place via Eventbrite. \nIf you are struggling with booking or cancelling your place\, please contact us on mbpcc.lscthub@nhs.net
URL:https://lscthub.co.uk/events/the-art-of-delegation-5/
CATEGORIES:General Events
END:VEVENT
BEGIN:VEVENT
DTSTART;TZID=UTC:20230620T120000
DTEND;TZID=UTC:20230620T130000
DTSTAMP:20260424T205203
CREATED:20230222T101222Z
LAST-MODIFIED:20230222T101222Z
UID:30469-1687262400-1687266000@lscthub.co.uk
SUMMARY:The Art of Delegation
DESCRIPTION:This one-hour session explores the difference between abdication/delegation and micromanagement and provides the necessary tools to delegate effectively \nThis is a fully interactive session- please ensure you have a camera and microphone \nYou will receive a certificate post training for your attendance. Places are limited\, if you have booked a place\, please ensure you attend.If you are no longer able to attend\, please cancel your place via Eventbrite. \nIf you are struggling with booking or cancelling your place\, please contact us on mbpcc.lscthub@nhs.net
URL:https://lscthub.co.uk/events/the-art-of-delegation-6/
CATEGORIES:General Events
END:VEVENT
BEGIN:VEVENT
DTSTART;TZID=UTC:20230620T130000
DTEND;TZID=UTC:20230620T140000
DTSTAMP:20260424T205203
CREATED:20230602T080832Z
LAST-MODIFIED:20230602T080939Z
UID:33264-1687266000-1687269600@lscthub.co.uk
SUMMARY:Parkinson’s disease in primary care
DESCRIPTION:Location\nOnline via WebEx at 13:00 – 14:00 \nAbout the event\nThis on the couch conversation will provide the opportunity for an honest conversation about why primary care pharmacy colleagues may hesitate to make or suggest changes to Parkinson’s medicines and how they can develop the confidence to make a difference in the lives of these patients. \nWhy it’s important\nThere is no cure for Parkinson’s and currently no medications which impact disease progression. People with Parkinson’s rely on the medications they take every day to control their symptoms and need individualised care to achieve this. Pharmacy staff in primary care can make a huge difference through support for medication review and optimisation in Parkinson’s.  This webinar will share information and ideas to show how the pharmacy team can add value to the care of these patients. \nWhat will be covered\n\nA consultant pharmacist’s perspective on how the pharmacy team can contribute to optimising medicines in Parkinson’s\nExamples of primary care pharmacy interventions and contributions\n\nSpeakers\nA range of speakers from SPS and other organisations will run this event. \nNon-SPS Speakers\nShelley Jones\nConsultant Pharmacist\, Neurosciences\, King’s College Hospital\, London \nKaren Kite\nLead Clinical Pharmacist\, Solihull Rural PCN \nSPS Speakers\n  \nThe session will be hosted by Barry Jubraj\, supported by Nicola Wake. You can learn more about them by following the links below. \n\nBarry Jubraj\nNicola Wake\n\nRegister\nRegistration is now open. Once registered you will receive confirmation and a link for your diary. \nNote: Our webinars are provided for colleagues providing NHS services so please register with your NHS or work-based email address. If you don’t provide NHS services or are a charity\, please drop us a line to clarify your interest in this webinar. \nCheck your access before the event\nCheck that you are able to access WebEx prior to the event. \nWe recommend installing the Cisco WebEx app\, or\, alternatively\, accessing the meeting via Google Chrome. If you are still having difficulty\, you may need to contact your IT department to assist you in opening the application (you’ll only have to do this once). \nJoining on the day\nListen through your computer or mobile phone. \nThe webinar will start promptly at 13:00 so join at least 10 minutes earlier so you don’t miss important information. \nDial in\nIf you experience trouble accessing the meeting from your computer\, you can always dial in and listen through your phone. \nCall: 0203 478 5289 (Standard UK rates apply)\nAccess code: 2373 039 0824\nPasscode: 288363 \nResources\nThe event will be recorded and this will be available on the SPS website a few days later. \nSlides may not routinely be used in these webinars. If they are\, they will be available after the event. \nContact us\nPlease contact the Admin Team if you have any questions.
URL:https://lscthub.co.uk/events/parkinsons-disease-in-primary-care/
CATEGORIES:General Events
END:VEVENT
END:VCALENDAR