BEGIN:VCALENDAR
VERSION:2.0
PRODID:-//Lancashire and South Cumbria Training Hub - ECPv6.15.20//NONSGML v1.0//EN
CALSCALE:GREGORIAN
METHOD:PUBLISH
X-ORIGINAL-URL:https://lscthub.co.uk
X-WR-CALDESC:Events for Lancashire and South Cumbria Training Hub
REFRESH-INTERVAL;VALUE=DURATION:PT1H
X-Robots-Tag:noindex
X-PUBLISHED-TTL:PT1H
BEGIN:VTIMEZONE
TZID:UTC
BEGIN:STANDARD
TZOFFSETFROM:+0000
TZOFFSETTO:+0000
TZNAME:UTC
DTSTART:20220101T000000
END:STANDARD
END:VTIMEZONE
BEGIN:VEVENT
DTSTART;TZID=UTC:20230614T160000
DTEND;TZID=UTC:20230626T163000
DTSTAMP:20260424T211142
CREATED:20230602T081418Z
LAST-MODIFIED:20230602T081729Z
UID:33267-1686758400-1687797000@lscthub.co.uk
SUMMARY:Primary Care workforce development support drop-in
DESCRIPTION:For PCN Managers/Practice Manager/Clinical Directors/GPs/all primary care staff and anyone who supports the recruitment and retention of PCN and Practice staff. \nHave a question about ARRS roles? Need support with workforce planning and development ? Looking for opportunities to share your job vacancies? Interested in job matching services and linking in with local job seekers? Your local PCN Workforce Development Managers are here to help!
URL:https://lscthub.co.uk/events/primary-care-workforce-development-support-drop-in-2/
CATEGORIES:General Events
END:VEVENT
BEGIN:VEVENT
DTSTART;TZID=UTC:20230616T090000
DTEND;TZID=UTC:20230616T100000
DTSTAMP:20260424T211142
CREATED:20230517T075914Z
LAST-MODIFIED:20230517T080933Z
UID:32910-1686906000-1686909600@lscthub.co.uk
SUMMARY:Wellbeing Conversations Training
DESCRIPTION:Managers and Leaders: Join us for a L&SC PCTH Wellbeing Conversation Session! \n  \nWhat is a wellbeing conversation? \nThe NHS People Plan 2020-21 sets out an ambition: “From September 2020\, every member of the NHS should have a health and wellbeing conversation and develop a personalised plan. These conversations may fit within an appraisal\, job plan or one-to-one line management discussion\, and should be reviewed at least annually. As part of this conversation\, line managers will be expected to discuss the individual’s health and wellbeing\, and any flexible working requirements\, as well as equality\, diversity and inclusion.” \n  \nVision for the wellbeing conversations \nHealth and wellbeing conversations are intended to be regular\, supportive\, coaching-style one to one conversations that focus on the wellbeing of our NHS people. \nBy encouraging organisations to embed wellbeing conversations across their system\, we aim to create cultures where people feel heard and valued\, and in which diversity is respected. This should\, in turn\, encourage us all to pass care and compassion on to each other\, to patients and to our families. \nWellbeing conversations should consider the whole wellbeing of an individual (e.g. physical\, mental\, emotional\, social\, financial\, lifestyle\, safety) and identify areas where the individual may need support\, signpost them to that support\, and regularly monitor their wellbeing over time. \n  \nIf you are no longer able to attend\, please cancel your place via Eventbrite. If you are struggling with booking or cancelling your place\, please contact us on mbpcc.lscthub@nhs.net \nBy signing up you agree for your information to be stored and by the Training hub and shared with NHSE and HEE\, for the delivery of this training\, monitoring\, reporting and certification purposes only.
URL:https://lscthub.co.uk/events/wellbeing-conversations-training-18/
CATEGORIES:General Events
END:VEVENT
BEGIN:VEVENT
DTSTART;TZID=UTC:20230616T130000
DTEND;TZID=UTC:20230616T140000
DTSTAMP:20260424T211142
CREATED:20230608T072057Z
LAST-MODIFIED:20230608T072322Z
UID:33560-1686920400-1686924000@lscthub.co.uk
SUMMARY:Research speed-meeting virtual event
DESCRIPTION:
URL:https://lscthub.co.uk/events/research-speed-meeting-virtual-event/
CATEGORIES:General Events
END:VEVENT
END:VCALENDAR