BEGIN:VCALENDAR
VERSION:2.0
PRODID:-//Lancashire and South Cumbria Training Hub - ECPv6.15.20//NONSGML v1.0//EN
CALSCALE:GREGORIAN
METHOD:PUBLISH
X-WR-CALNAME:Lancashire and South Cumbria Training Hub
X-ORIGINAL-URL:https://lscthub.co.uk
X-WR-CALDESC:Events for Lancashire and South Cumbria Training Hub
REFRESH-INTERVAL;VALUE=DURATION:PT1H
X-Robots-Tag:noindex
X-PUBLISHED-TTL:PT1H
BEGIN:VTIMEZONE
TZID:UTC
BEGIN:STANDARD
TZOFFSETFROM:+0000
TZOFFSETTO:+0000
TZNAME:UTC
DTSTART:20220101T000000
END:STANDARD
END:VTIMEZONE
BEGIN:VEVENT
DTSTART;TZID=UTC:20230608T080000
DTEND;TZID=UTC:20230608T163000
DTSTAMP:20260425T024218
CREATED:20230518T120803Z
LAST-MODIFIED:20230518T120846Z
UID:33040-1686211200-1686241800@lscthub.co.uk
SUMMARY:NHS Population Health Management conference
DESCRIPTION:NHS Population Health Management conference\, will be held on June 8th\, 2023\, at ETC Venues in Manchester. This conference is designed to provide senior managers and leaders in the NHS with the opportunity to learn about the latest developments\, best practices\, and challenges in managing population health.Confirmed speakers for the conference include:• Dr Maslah Amin\, National Clinical Advisor & Associate Director\, NHS England• Professor Edward Kunonga\, Director of Population Health Management and Public Health Consultant\, North England Care System Support (NECS)• Andi Orlowski\, Director\, Health Economics Unit• Dr Hatim Abdulhussein\, National Clinical Lead for AI and Digital Workforce and Medical Director\, NHS England and Kent Surrey Sussex Academic Health Science NetworkThese experts in the field will share their insights and lead interactive sessions that will provide you with a unique opportunity to engage with your peers and explore new ideas.Attendance\, food\, and drinks reception are free of charge for NHS attendees\, but registration is mandatory. Please email the team at info@convenzis.co.uk to secure your seat. We believe that this conference will be a valuable experience for you\, and we look forward to your participation.When & Where: 08:00 – 16:30 | 8th June | 2023 | etc.venues\, 11 Portland St\, Manchester M1 3HU \nRegister here: https://www.convenzis.co.uk/events/nhs-population-health-management-conference-2023
URL:https://lscthub.co.uk/events/nhs-population-health-management-conference/
CATEGORIES:General Events
END:VEVENT
END:VCALENDAR