BEGIN:VCALENDAR
VERSION:2.0
PRODID:-//Lancashire and South Cumbria Training Hub - ECPv6.15.20//NONSGML v1.0//EN
CALSCALE:GREGORIAN
METHOD:PUBLISH
X-ORIGINAL-URL:https://lscthub.co.uk
X-WR-CALDESC:Events for Lancashire and South Cumbria Training Hub
REFRESH-INTERVAL;VALUE=DURATION:PT1H
X-Robots-Tag:noindex
X-PUBLISHED-TTL:PT1H
BEGIN:VTIMEZONE
TZID:UTC
BEGIN:STANDARD
TZOFFSETFROM:+0000
TZOFFSETTO:+0000
TZNAME:UTC
DTSTART:20220101T000000
END:STANDARD
END:VTIMEZONE
BEGIN:VEVENT
DTSTART;TZID=UTC:20230607T100000
DTEND;TZID=UTC:20230607T110000
DTSTAMP:20260425T041033
CREATED:20230418T150821Z
LAST-MODIFIED:20230418T150821Z
UID:32084-1686132000-1686135600@lscthub.co.uk
SUMMARY:Take a virtual tour of the Adult Social Care Workforce Data Set (ASC-WDS)
DESCRIPTION:Join us as we draw back the curtain and take a tour of the ASC-WDS service! This session is designed to give social care providers who do not yet have an ASC-WDS account a demonstration of how the service works. It will show you first-hand the features which are already being used by over 20\,000 care providers. \nASC-WDS can help you save thousands of pounds for your organisations and provides access to a range of benefits including: \n\n\n\nEligibility to claim from the Workforce Development Fund.\nRecord key information about your staff.\nManage your training records.\nDefine mandatory training for each role.\nReceive alerts when training is expired or expiring soon.\nBenchmark your service against similar providers.\nAccess discounts and offers from Skills for Care and endorsed training providers.\nAllow us to create vital intelligence which is used by sector stakeholders and decision makers.\n\n\n\nThis Webinar will be run on Zoom.
URL:https://lscthub.co.uk/events/take-a-virtual-tour-of-the-adult-social-care-workforce-data-set-asc-wds/
CATEGORIES:General Events
END:VEVENT
BEGIN:VEVENT
DTSTART;TZID=UTC:20230607T130000
DTEND;TZID=UTC:20230607T150000
DTSTAMP:20260425T041033
CREATED:20230605T123439Z
LAST-MODIFIED:20230605T123537Z
UID:33347-1686142800-1686150000@lscthub.co.uk
SUMMARY:Flexible Working Network Event
DESCRIPTION:Colleagues are invited to join the NHS England Flexible Working Network\, and to attend their first network event. The network aims to allow for engaging discussion\, the sharing of ideas\, and exploring the ‘wicked issues’ and challenges facing the implementation of flexibility across the NHS. \n1pm – 2.30pm: Lets Talk about Flex; Lancashire and South Cumbria FTs Flexible Working Training Workshop – Kelly Morrison\, People Promise Manager \nA Taster Session: An opportunity to experience first-hand their fantastic ‘Let’s Talk about Flex’ training workshop which explores: \n· What Flexible Working is and isn’t \n· The Operational challenges of Flexible Working \n· The benefits to the individual and the organisation \n· Creative solutions to supporting Flexible Working \n· The importance of conversations with staff members about Flexible Working (Compassionate Leadership) \n· With an opportunity to ask safe questions at the end of the session. \n\n2.30pm – 3pm – Setting the direction\, Jess Done\, Flexible Lead\, Flexible Working \nAn interactive and collaborative session where together will explore key questions around the Flexible Working Network\, providing the Flexible Working Team with an understanding of what you\, the network members need and want from us and what would be the most helpful focus for this Network moving forwards. \nDraft purpose for the network; \n· Communicate any national updates in relation to flexible working and associated definitions\, guidance and tools \n· Share good practice around establishing a flexible working culture \n· Share good practice around embedding flexible working and the tools and behaviours to enable this \n· Provide opportunities for peer to peer support \n· Act as a platform to enable innovation\, problem solving and reflection in relation to flexible working \n\nBook here
URL:https://lscthub.co.uk/events/flexible-working-network-event/
CATEGORIES:General Events
END:VEVENT
END:VCALENDAR