BEGIN:VCALENDAR
VERSION:2.0
PRODID:-//Lancashire and South Cumbria Training Hub - ECPv6.15.20//NONSGML v1.0//EN
CALSCALE:GREGORIAN
METHOD:PUBLISH
X-WR-CALNAME:Lancashire and South Cumbria Training Hub
X-ORIGINAL-URL:https://lscthub.co.uk
X-WR-CALDESC:Events for Lancashire and South Cumbria Training Hub
REFRESH-INTERVAL;VALUE=DURATION:PT1H
X-Robots-Tag:noindex
X-PUBLISHED-TTL:PT1H
BEGIN:VTIMEZONE
TZID:UTC
BEGIN:STANDARD
TZOFFSETFROM:+0000
TZOFFSETTO:+0000
TZNAME:UTC
DTSTART:20220101T000000
END:STANDARD
END:VTIMEZONE
BEGIN:VEVENT
DTSTART;TZID=UTC:20230606T093000
DTEND;TZID=UTC:20230606T103000
DTSTAMP:20260425T022107
CREATED:20230222T100839Z
LAST-MODIFIED:20230222T100839Z
UID:30468-1686043800-1686047400@lscthub.co.uk
SUMMARY:The Art of Delegation
DESCRIPTION:This one-hour session explores the difference between abdication/delegation and micromanagement and provides the necessary tools to delegate effectively \nThis is a fully interactive session- please ensure you have a camera and microphone \nYou will receive a certificate post training for your attendance. Places are limited\, if you have booked a place\, please ensure you attend.If you are no longer able to attend\, please cancel your place via Eventbrite. \nIf you are struggling with booking or cancelling your place\, please contact us on mbpcc.lscthub@nhs.net
URL:https://lscthub.co.uk/events/the-art-of-delegation/
CATEGORIES:General Events
END:VEVENT
BEGIN:VEVENT
DTSTART;TZID=UTC:20230606T120000
DTEND;TZID=UTC:20230606T130000
DTSTAMP:20260425T022107
CREATED:20230222T100909Z
LAST-MODIFIED:20230222T100909Z
UID:30473-1686052800-1686056400@lscthub.co.uk
SUMMARY:The Art of Delegation
DESCRIPTION:This one-hour session explores the difference between abdication/delegation and micromanagement and provides the necessary tools to delegate effectively \nThis is a fully interactive session- please ensure you have a camera and microphone \nYou will receive a certificate post training for your attendance. Places are limited\, if you have booked a place\, please ensure you attend.If you are no longer able to attend\, please cancel your place via Eventbrite. \nIf you are struggling with booking or cancelling your place\, please contact us on mbpcc.lscthub@nhs.net
URL:https://lscthub.co.uk/events/the-art-of-delegation-2/
CATEGORIES:General Events
END:VEVENT
END:VCALENDAR