BEGIN:VCALENDAR
VERSION:2.0
PRODID:-//Lancashire and South Cumbria Training Hub - ECPv6.15.20//NONSGML v1.0//EN
CALSCALE:GREGORIAN
METHOD:PUBLISH
X-ORIGINAL-URL:https://lscthub.co.uk
X-WR-CALDESC:Events for Lancashire and South Cumbria Training Hub
REFRESH-INTERVAL;VALUE=DURATION:PT1H
X-Robots-Tag:noindex
X-PUBLISHED-TTL:PT1H
BEGIN:VTIMEZONE
TZID:UTC
BEGIN:STANDARD
TZOFFSETFROM:+0000
TZOFFSETTO:+0000
TZNAME:UTC
DTSTART:20220101T000000
END:STANDARD
END:VTIMEZONE
BEGIN:VEVENT
DTSTART;TZID=UTC:20230509T093000
DTEND;TZID=UTC:20230509T103000
DTSTAMP:20260425T002609
CREATED:20230222T100425Z
LAST-MODIFIED:20230222T100425Z
UID:30459-1683624600-1683628200@lscthub.co.uk
SUMMARY:How to have a challenging conversation
DESCRIPTION:This one hour session provides the tools to tackle those difficult situations effectively and removes the fear/reluctance \n  \nThis is a fully interactive session- please ensure you have a camera and microphone \nYou will receive a certificate post training for your attendance. Places are limited\, if you have booked a place\, please ensure you attend.
URL:https://lscthub.co.uk/events/how-to-have-a-challenging-conversation-3/
CATEGORIES:General Events
END:VEVENT
BEGIN:VEVENT
DTSTART;TZID=UTC:20230509T120000
DTEND;TZID=UTC:20230509T130000
DTSTAMP:20260425T002609
CREATED:20230222T100500Z
LAST-MODIFIED:20230222T100500Z
UID:30460-1683633600-1683637200@lscthub.co.uk
SUMMARY:How to have a challenging conversation
DESCRIPTION:This one hour session provides the tools to tackle those difficult situations effectively and removes the fear/reluctance \n  \nThis is a fully interactive session- please ensure you have a camera and microphone \nYou will receive a certificate post training for your attendance. Places are limited\, if you have booked a place\, please ensure you attend.
URL:https://lscthub.co.uk/events/how-to-have-a-challenging-conversation-4/
CATEGORIES:General Events
END:VEVENT
END:VCALENDAR