BEGIN:VCALENDAR
VERSION:2.0
PRODID:-//Lancashire and South Cumbria Training Hub - ECPv6.15.20//NONSGML v1.0//EN
CALSCALE:GREGORIAN
METHOD:PUBLISH
X-WR-CALNAME:Lancashire and South Cumbria Training Hub
X-ORIGINAL-URL:https://lscthub.co.uk
X-WR-CALDESC:Events for Lancashire and South Cumbria Training Hub
REFRESH-INTERVAL;VALUE=DURATION:PT1H
X-Robots-Tag:noindex
X-PUBLISHED-TTL:PT1H
BEGIN:VTIMEZONE
TZID:UTC
BEGIN:STANDARD
TZOFFSETFROM:+0000
TZOFFSETTO:+0000
TZNAME:UTC
DTSTART:20220101T000000
END:STANDARD
END:VTIMEZONE
BEGIN:VEVENT
DTSTART;TZID=UTC:20230504T100000
DTEND;TZID=UTC:20230504T130000
DTSTAMP:20260424T223641
CREATED:20230303T120723Z
LAST-MODIFIED:20230303T120943Z
UID:30842-1683194400-1683205200@lscthub.co.uk
SUMMARY:Clinical Skills Practice Workshop Lytham
DESCRIPTION:New for 2023 Lancashire and South Cumbria Training Hub are offering Clinical Skills Practice Workshops! Available throughout the year at different locations you will be able to experience a hands on approach with the support of a clinical educator! \n  \nTopics covered in the sessions are: \n\nVenepuncture\nObtaining a Manual Blood pressure\nInjection Technique\nCervical Sample Taking\n\n  \nThe workshops welcome General Practice Nurses\, Health Care Assistants\, Nursing Associates\, Trainee Nursing Associates\, Advanced Nurse Practitioners\, Student Nurses\, Student Nurse Paramedics\, Physician Associates… anyone with a clinical role within Primary Care that is already trained in the topics above. \nNew to practice and want to have some hands-on experience with a mannequin to gain skills and confidence or if you are an experienced practitioner and want to refresh your skills then this is the workshop for you! \n  \nWe have equipment available in the workshops to enable you to practice your skills and get hands on experience with the support of a friendly clinical educator plus a practical handbook to guide you through. \n– Please note that these workshops are not a formal training session and the purpose is to support delegates in building on knowledge and skills already learnt from previous formal training. \nDelegates must join the session from the start time and leave once they feel they have gained enough from the workshop: there is no requirement to stay for the full 3 hours. In addition\, delegates may attend to access one of the pieces of equipment or all of them! This is a great opportunity to get hands on and have a play with the mannequins to help improve your practice! \nIf you have any additional needs or requirements to attend these sessions\, then please contact the training hub on mbpcc.lscthub@nhs.net \n  \nPlease ensure you bring your own lunch/snacks if required. \nIf you are no longer able to attend\, please cancel your place via Eventbrite. If you are struggling with booking or cancelling your place\, please contact us on mbpcc.lscthub@nhs.net \nBy signing up you agree for your information to be stored and shared by the Training hub and with the Training Provider\, NHSE and HEE\, for the delivery of this training\, monitoring\, reporting and certification purposes only.
URL:https://lscthub.co.uk/events/clinical-skills-practice-workshop-lytham/
LOCATION:Lytham Primary Care Centre Victoria Street Lytham FY8 5DZ\, Lytham Primary Care Centre Victoria Street Lytham FY8 5DZ
CATEGORIES:General Events
END:VEVENT
BEGIN:VEVENT
DTSTART;TZID=UTC:20230504T170000
DTEND;TZID=UTC:20230504T180000
DTSTAMP:20260424T223641
CREATED:20230405T101324Z
LAST-MODIFIED:20230405T101324Z
UID:31862-1683219600-1683223200@lscthub.co.uk
SUMMARY:General Practice Webinar
DESCRIPTION:There will be no GP webinar on the 6th April – the next GP webinar will take place on Thursday 4th May from 5-6pm. \nPlease join us for the next of our regular General Practice webinars with information and updates on the latest policy around general practice. \nTo attend\, please ensure you register by 1pm on Wednesday 3rd May 2023. If you registered for our last webinar\, you do not need to register again. \nThe webinar will take place through MS Teams Live and all registered attendees will be emailed a joining link closer to the time of the event taking place. If you haven’t received your joining link\, please first check your junk/spam folders as the email may end up there\, before contacting us by email. \nA recording of the webinar (and all previous webinars) will be available on Future NHS. \nPlease note: this is a closed webinar for those working in or with general practice. Please register using your official NHS or professional email address to help us to confirm your place.  \nQuestions about this event?\nName: Primary Care Team \nEmail:england.pccomms@nhs.net
URL:https://lscthub.co.uk/events/general-practice-webinar-13/
CATEGORIES:General Events
END:VEVENT
END:VCALENDAR