BEGIN:VCALENDAR
VERSION:2.0
PRODID:-//Lancashire and South Cumbria Training Hub - ECPv6.15.20//NONSGML v1.0//EN
CALSCALE:GREGORIAN
METHOD:PUBLISH
X-WR-CALNAME:Lancashire and South Cumbria Training Hub
X-ORIGINAL-URL:https://lscthub.co.uk
X-WR-CALDESC:Events for Lancashire and South Cumbria Training Hub
REFRESH-INTERVAL;VALUE=DURATION:PT1H
X-Robots-Tag:noindex
X-PUBLISHED-TTL:PT1H
BEGIN:VTIMEZONE
TZID:Europe/London
BEGIN:DAYLIGHT
TZOFFSETFROM:+0000
TZOFFSETTO:+0100
TZNAME:BST
DTSTART:20230326T010000
END:DAYLIGHT
BEGIN:STANDARD
TZOFFSETFROM:+0100
TZOFFSETTO:+0000
TZNAME:GMT
DTSTART:20231029T010000
END:STANDARD
BEGIN:DAYLIGHT
TZOFFSETFROM:+0000
TZOFFSETTO:+0100
TZNAME:BST
DTSTART:20240331T010000
END:DAYLIGHT
BEGIN:STANDARD
TZOFFSETFROM:+0100
TZOFFSETTO:+0000
TZNAME:GMT
DTSTART:20241027T010000
END:STANDARD
BEGIN:DAYLIGHT
TZOFFSETFROM:+0000
TZOFFSETTO:+0100
TZNAME:BST
DTSTART:20250330T010000
END:DAYLIGHT
BEGIN:STANDARD
TZOFFSETFROM:+0100
TZOFFSETTO:+0000
TZNAME:GMT
DTSTART:20251026T010000
END:STANDARD
END:VTIMEZONE
BEGIN:VEVENT
DTSTART;TZID=Europe/London:20240813T123000
DTEND;TZID=Europe/London:20240813T140000
DTSTAMP:20260422T005429
CREATED:20240207T182536Z
LAST-MODIFIED:20240207T182536Z
UID:41195-1723552200-1723557600@lscthub.co.uk
SUMMARY:Learning Disability Awareness and AHC’s: A Whole Practice Approach
DESCRIPTION:Who should attend:\nAny staff member who is involved in and/or has an interest in supporting people with learning disabilities (PWLD) to have annual health checks. \n\nDescription of training:\n\nTraining sessions will cover what a learning disability is/is not\, and the characteristics seen within different levels of LD\nOverview of LD inclusion tool to identify patients\, when and how to use\nOverview of LeDeR – purpose and statistics of preventable deaths in PWLD\nImportance of Annual Health Checks and common health issues in PWLD\nMental Capacity in relation to healthcare for PWLD\nBarriers to accessing equitable healthcare for PWLD\nAHC and health action plans – what should be considered\, how to develop an effective HAP\nEffective strategies to support successful AHC’s\nService aims and objectives of the Health Facilitation Team to support GP practices\nLearning Disability Champion proposal\nVideo’s from PWLD – explanation of their experiences of health checks\n\n\n\nThis is an interactive session and you will be expected to interact. Please ensure you have a camera and microphone available to attend the meeting.
URL:https://lscthub.co.uk/events/learning-disability-awareness-and-ahcs-a-whole-practice-approach-28/
CATEGORIES:General Events
END:VEVENT
BEGIN:VEVENT
DTSTART;TZID=Europe/London:20240814T120000
DTEND;TZID=Europe/London:20240814T133000
DTSTAMP:20260422T005429
CREATED:20231208T090211Z
LAST-MODIFIED:20231208T090211Z
UID:38854-1723636800-1723642200@lscthub.co.uk
SUMMARY:Learning Environment Educator Development and Update Workshops
DESCRIPTION:This workshop is for all Educators who support pre-registration learners\, Allied Health Professionals\, Physician Associates\, General Practitioners\, NMC Assessors and Supervisors.\nThis is an interactive discussion on the learning environment\, HEE Quality Framework (2021)\, assessment and supervision process\, the learners and an overview of NMC standards and the requirements of the above professions. \n\nYou will receive an email prior to the workshop with the required pre-reading attached for this session.\nYou can also find the pre-reading here: https://lscthub.co.uk/learning-environment-educator-development-workshop/\n\n\n\nYou will receive a certificate post-training for your attendance. Places are limited\, if you have booked a place\, please ensure you attend.\nIf you are no longer able to attend\, please cancel your place. If you are struggling with booking or cancelling your place\, please contact us.\nBy signing up you agree for your information to be stored and shared by the Training hub and with the Training Provider\, NHSE and HEE\, for the delivery of this training\, monitoring\, reporting and certification purposes only.
URL:https://lscthub.co.uk/events/learning-environment-educator-development-and-update-workshops-25/
CATEGORIES:General Events
END:VEVENT
BEGIN:VEVENT
DTSTART;TZID=Europe/London:20240820T120000
DTEND;TZID=Europe/London:20240820T123000
DTSTAMP:20260422T005429
CREATED:20231207T095654Z
LAST-MODIFIED:20231207T095654Z
UID:38793-1724155200-1724157000@lscthub.co.uk
SUMMARY:Non-Medical Prescribing (NMP): Education & Training Session
DESCRIPTION:Topic: TBC \nPresenter(s): TBC \nThe ICB NMP Leads and L&SC PCTH are pleased to share with you a 12-month Education and Training programme. The programme is to support Non-Medical Prescribers in key topic/therapeutic areas and encourage peer discussions and networking. \nThe bitesize education and training sessions will be held for 30 minutes via Microsoft Teams\, every third Tuesday of the month between 12noon and 12.30pm. \nThe following link can be used to access the online sessions and a timetable of sessions programmed in for the first six months can be found (see doc) \nTo access the sessions please: Click here to join the meeting \nNon-Medical Prescribing Education and Training Sessions Timetable
URL:https://lscthub.co.uk/events/non-medical-prescribing-nmp-education-training-session-9/
CATEGORIES:General Events
END:VEVENT
BEGIN:VEVENT
DTSTART;TZID=Europe/London:20240821T160000
DTEND;TZID=Europe/London:20240821T170000
DTSTAMP:20260422T005429
CREATED:20240304T095226Z
LAST-MODIFIED:20240304T095226Z
UID:41621-1724256000-1724259600@lscthub.co.uk
SUMMARY:Mentor Peer Support Session - Learning Styles
DESCRIPTION:Learning styles have only briefly been explored in the ILM L3 course\, therefore this session will focus on further exploring in more depth one’s own learning style and how that may influence work with your coaches.  Led by Derren Bailey and Yvonne Thomson \n\nThis is an interactive session and you will be expected to interact. Please ensure you have a camera and microphone available to attend the meeting.\n\n\nPlaces are limited\, if you have booked a place\, please ensure you attend.\nIf you are no longer able to attend\, please cancel your place. If you are struggling with booking or cancelling your place\, please contact us.\nBy signing up you agree for your information to be stored and shared by the Training hub and with the Training Provider\, NHSE and HEE\, for the delivery of this training\, monitoring\, reporting and certification purposes only.
URL:https://lscthub.co.uk/events/mentor-peer-support-session-learning-styles/
CATEGORIES:General Events
END:VEVENT
BEGIN:VEVENT
DTSTART;TZID=Europe/London:20240822T120000
DTEND;TZID=Europe/London:20240822T130000
DTSTAMP:20260422T005429
CREATED:20240118T135548Z
LAST-MODIFIED:20240118T135548Z
UID:40074-1724328000-1724331600@lscthub.co.uk
SUMMARY:ACP Forum
DESCRIPTION:Want an update on ACP developments in your Lancashire and South Cumbria region and a place to share your ideas with ACP peers? \nSave the date! Join our ACP forum! \nFocus: HEE – Portfolio or Masters route\, with updates \nThis is an interactive session and you will be expected to interact. Please ensure you have a camera and microphone available to attend the meeting.
URL:https://lscthub.co.uk/events/acp-forum-21/
CATEGORIES:General Events
END:VEVENT
END:VCALENDAR