BEGIN:VCALENDAR
VERSION:2.0
PRODID:-//Lancashire and South Cumbria Training Hub - ECPv6.15.20//NONSGML v1.0//EN
CALSCALE:GREGORIAN
METHOD:PUBLISH
X-WR-CALNAME:Lancashire and South Cumbria Training Hub
X-ORIGINAL-URL:https://lscthub.co.uk
X-WR-CALDESC:Events for Lancashire and South Cumbria Training Hub
REFRESH-INTERVAL;VALUE=DURATION:PT1H
X-Robots-Tag:noindex
X-PUBLISHED-TTL:PT1H
BEGIN:VTIMEZONE
TZID:Europe/London
BEGIN:DAYLIGHT
TZOFFSETFROM:+0000
TZOFFSETTO:+0100
TZNAME:BST
DTSTART:20230326T010000
END:DAYLIGHT
BEGIN:STANDARD
TZOFFSETFROM:+0100
TZOFFSETTO:+0000
TZNAME:GMT
DTSTART:20231029T010000
END:STANDARD
BEGIN:DAYLIGHT
TZOFFSETFROM:+0000
TZOFFSETTO:+0100
TZNAME:BST
DTSTART:20240331T010000
END:DAYLIGHT
BEGIN:STANDARD
TZOFFSETFROM:+0100
TZOFFSETTO:+0000
TZNAME:GMT
DTSTART:20241027T010000
END:STANDARD
BEGIN:DAYLIGHT
TZOFFSETFROM:+0000
TZOFFSETTO:+0100
TZNAME:BST
DTSTART:20250330T010000
END:DAYLIGHT
BEGIN:STANDARD
TZOFFSETFROM:+0100
TZOFFSETTO:+0000
TZNAME:GMT
DTSTART:20251026T010000
END:STANDARD
END:VTIMEZONE
BEGIN:VEVENT
DTSTART;TZID=Europe/London:20240702T090000
DTEND;TZID=Europe/London:20240702T170000
DTSTAMP:20260422T064446
CREATED:20240507T153535Z
LAST-MODIFIED:20240507T153846Z
UID:43066-1719910800-1719939600@lscthub.co.uk
SUMMARY:The Annual General Practice Nurses & Allied Health Professionals Conference
DESCRIPTION:SAVE THE DATE! Join us on our 2023 conference for Nurses and AHPs in Primary Care within Lancashire & South Cumbria Primary Care!\n\n\nFree refreshments and lunch will be provided. \nLocation: University of Central Lancashire\, Harrington Lecture Theatre Fylde Road Preston PR1 2HE\n \n\nThroughout the day you will hear from fantastic guest speakers and celebrate awards with colleagues. The day is a great way to connect with peers\, discover new opportunities and offers\, share learning experiences\, and network.\n\nGuest Speakers and topics such as; Diabetes and Nurses and AHP Training Opportunities- hosted by the L&SC PCTH \n\n\nWe are also celebrating those shortlisted for our Conference Awards. To find out more on how to nominate\, contact us! \n\nStalls include but are not limited to:\n\nHigher Education Institutes\nThe Queens Nursing Institute\nNHS Resolutions\nRoyal College of Nursing (RCN)\nLancashire Mind and The Orange Button Scheme\nHospices (St Johns\, St Catherines)\nHealth and Wellbeing\nApprenticeships and Placements\nDiabetes UK\nTalking Therapies\nRedmoor\nClinical Skills and Education\nPreceptorship\nLocal Hospices\, such as; St Johns Hospice\n\n\n\nYou will receive a printed CPD certificate on the day for your attendance. Places are limited\, if you have booked a place\, please ensure you attend.\n\n\nIf you are no longer able to attend\, please cancel your place. If you are struggling with booking or cancelling your place\, please contact us. \nPlease note pictures and videos will be taken throughout the day and the conference will be recorded. If you have any queries regarding this\, please contact us. \n\nBy signing up you agree for your information to be stored and shared by the Training hub and with the Training Provider\, NHSE and the ICB\, for the delivery of this training\, monitoring\, reporting and certification purposes only.
URL:https://lscthub.co.uk/events/the-annual-general-practice-nurses-allied-health-professionals-conference/
CATEGORIES:General Events
END:VEVENT
BEGIN:VEVENT
DTSTART;TZID=Europe/London:20240703T130000
DTEND;TZID=Europe/London:20240703T140000
DTSTAMP:20260422T064446
CREATED:20240326T114430Z
LAST-MODIFIED:20240326T114430Z
UID:42202-1720011600-1720015200@lscthub.co.uk
SUMMARY:NHS Resolution NW Primary care | Dispelling the myth-towards safer practice
DESCRIPTION:The final session of four events to support NW primary care practitioners with safe practice & knowledge of the GP indemnity scheme. \nNHS Resolution’s Safety and Learning team in collaboration with the NW panel law firms\, are hosting a virtual forum series on learning from claims to promote reflection and improve patient care. \nThe purpose is to raise awareness of the support offered by NHS Resolution and as your General Practice indemnifier along with the North West panel firms; Weightmans\, Hempsons and Hill Dickinson. This will be of interest to both clinical and non-clinical staff involved in patient care across primary and urgent care . \nThe format is interactive\, with presentations followed by questions and panel discussion. \nSession 4: Pitfalls to prescribing better care \nEvent programme: \n\nThe invaluable role of pharmacists\nCommon medicine error claims\nrecommendations\nQ&A panel discussion\n\nContributors: \n• Joanne Hughes- Partner | Hill Dickinson \n• Dr Anwar Khan – Senior Clinical Advisor for General Practice |NHS Resolution \n\n\n\n\n\n\n\n\n\n\n\n\n\n\nThe event will be recorded with slides made available on the NHS Resolution website. Continue to register or follow NHS Resolution on Linkedin to be notified when the recording has been published.
URL:https://lscthub.co.uk/events/nhs-resolution-nw-primary-care-dispelling-the-myth-towards-safer-practice-4/
CATEGORIES:General Events
END:VEVENT
BEGIN:VEVENT
DTSTART;TZID=Europe/London:20240710T130000
DTEND;TZID=Europe/London:20240710T140000
DTSTAMP:20260422T064446
CREATED:20231228T085754Z
LAST-MODIFIED:20231228T085754Z
UID:39389-1720616400-1720620000@lscthub.co.uk
SUMMARY:Clinical Supervision Sessions for GPNs
DESCRIPTION:We have arranged four clinical supervision sessions for GPNs for 2024 \nEach session will cover a different topic \n5th March 1-2pm Topic is Diabetes and lifestyle \n\n5th June 1-2pm Topic is Asthma Management\n\n10th July 1-2pm Topic is Women’s Health Campaigns\n\n12th November 1-2pm Topic is End of Life\n\nThere are some attachments that require your attention \nPlease read through the group clinical supervision agreement. By attending the clinical supervision session you are confirming you agree to this\n\n\n Download Group clinical Supervision agreement .docx122 KB\n Download Personal Characteristics.docx138 KB\n Download clinical group supervision .pptx333 KB\n Download individual_clinical_supervision_record_keeping_template[1].docx116 KB\nThis is an interactive session and you will be expected to interact. Please ensure you have a camera and microphone available to attend the meeting.\n\nYou will receive a certificate post training for your attendance. Places are limited\, if you have booked a place\, please ensure you attend.\nIf you are no longer able to attend\, please cancel your place. If you are struggling with booking or cancelling your place\, please contact us.\nBy signing up you agree for your information to be stored and shared by the Training hub and with the Training Provider\, NHSE and HEE\, for the delivery of this training\, monitoring\, reporting and certification purposes only.
URL:https://lscthub.co.uk/events/clinical-supervision-sessions-for-gpns-2/
CATEGORIES:General Events
END:VEVENT
BEGIN:VEVENT
DTSTART;TZID=Europe/London:20240716T120000
DTEND;TZID=Europe/London:20240716T123000
DTSTAMP:20260422T064446
CREATED:20231207T095645Z
LAST-MODIFIED:20231207T095645Z
UID:38792-1721131200-1721133000@lscthub.co.uk
SUMMARY:Non-Medical Prescribing (NMP): Education & Training Session
DESCRIPTION:Topic: TBC \nPresenter(s): TBC \nThe ICB NMP Leads and L&SC PCTH are pleased to share with you a 12-month Education and Training programme. The programme is to support Non-Medical Prescribers in key topic/therapeutic areas and encourage peer discussions and networking. \nThe bitesize education and training sessions will be held for 30 minutes via Microsoft Teams\, every third Tuesday of the month between 12noon and 12.30pm. \nThe following link can be used to access the online sessions and a timetable of sessions programmed in for the first six months can be found (see doc) \nTo access the sessions please: Click here to join the meeting \nNon-Medical Prescribing Education and Training Sessions Timetable
URL:https://lscthub.co.uk/events/non-medical-prescribing-nmp-education-training-session-8/
CATEGORIES:General Events
END:VEVENT
BEGIN:VEVENT
DTSTART;TZID=Europe/London:20240716T123000
DTEND;TZID=Europe/London:20240716T140000
DTSTAMP:20260422T064446
CREATED:20240207T182512Z
LAST-MODIFIED:20240207T182512Z
UID:41194-1721133000-1721138400@lscthub.co.uk
SUMMARY:Learning Disability Awareness and AHC’s: A Whole Practice Approach
DESCRIPTION:Who should attend:\nAny staff member who is involved in and/or has an interest in supporting people with learning disabilities (PWLD) to have annual health checks. \n\nDescription of training:\n\nTraining sessions will cover what a learning disability is/is not\, and the characteristics seen within different levels of LD\nOverview of LD inclusion tool to identify patients\, when and how to use\nOverview of LeDeR – purpose and statistics of preventable deaths in PWLD\nImportance of Annual Health Checks and common health issues in PWLD\nMental Capacity in relation to healthcare for PWLD\nBarriers to accessing equitable healthcare for PWLD\nAHC and health action plans – what should be considered\, how to develop an effective HAP\nEffective strategies to support successful AHC’s\nService aims and objectives of the Health Facilitation Team to support GP practices\nLearning Disability Champion proposal\nVideo’s from PWLD – explanation of their experiences of health checks\n\n\n\nThis is an interactive session and you will be expected to interact. Please ensure you have a camera and microphone available to attend the meeting.
URL:https://lscthub.co.uk/events/learning-disability-awareness-and-ahcs-a-whole-practice-approach-27/
CATEGORIES:General Events
END:VEVENT
BEGIN:VEVENT
DTSTART;TZID=Europe/London:20240717T120000
DTEND;TZID=Europe/London:20240717T133000
DTSTAMP:20260422T064446
CREATED:20231208T090205Z
LAST-MODIFIED:20231208T090205Z
UID:38853-1721217600-1721223000@lscthub.co.uk
SUMMARY:Learning Environment Educator Development and Update Workshops
DESCRIPTION:This workshop is for all Educators who support pre-registration learners\, Allied Health Professionals\, Physician Associates\, General Practitioners\, NMC Assessors and Supervisors.\nThis is an interactive discussion on the learning environment\, HEE Quality Framework (2021)\, assessment and supervision process\, the learners and an overview of NMC standards and the requirements of the above professions. \n\nYou will receive an email prior to the workshop with the required pre-reading attached for this session.\nYou can also find the pre-reading here: https://lscthub.co.uk/learning-environment-educator-development-workshop/\n\n\n\nYou will receive a certificate post-training for your attendance. Places are limited\, if you have booked a place\, please ensure you attend.\nIf you are no longer able to attend\, please cancel your place. If you are struggling with booking or cancelling your place\, please contact us.\nBy signing up you agree for your information to be stored and shared by the Training hub and with the Training Provider\, NHSE and HEE\, for the delivery of this training\, monitoring\, reporting and certification purposes only.
URL:https://lscthub.co.uk/events/learning-environment-educator-development-and-update-workshops-24/
CATEGORIES:General Events
END:VEVENT
BEGIN:VEVENT
DTSTART;TZID=Europe/London:20240718T130000
DTEND;TZID=Europe/London:20240718T134500
DTSTAMP:20260422T064446
CREATED:20240708T113848Z
LAST-MODIFIED:20240708T113848Z
UID:44725-1721307600-1721310300@lscthub.co.uk
SUMMARY:Community pharmacy technician advancing your role information webinar
DESCRIPTION:Extended until March 2025\, the CPPE Community pharmacy technician: advancing your role is a fully funded learning programme designed to help community pharmacy technicians develop the skills and confidence to support the delivery of effective clinical services in community pharmacy.  It guides pharmacy technicians to reflect upon their existing transferable skills and identify development needs to support the readiness for advancing their role in practice to support service delivery.\n\nCPPE are running a live webinar to provide more information and answer any questions you may have on the Community pharmacy technician: advancing your role programme\n\n\nRegister in advance for this webinar:\nhttps://cppe.zoom.us/webinar/register/WN_ppnktJDTQMavxEJXE8NCpg\n\nIf you have any questions\, please email info@cppe.ac.uk\n\n\n\n\n\nThe webinar is being directed at pharmacy technicians\, however\, supporting pharmacists\, line managers and employers may also wish to attend.
URL:https://lscthub.co.uk/events/community-pharmacy-technician-advancing-your-role-information-webinar/
LOCATION:Online event
CATEGORIES:General Events
END:VEVENT
BEGIN:VEVENT
DTSTART;TZID=Europe/London:20240724T083000
DTEND;TZID=Europe/London:20240724T093000
DTSTAMP:20260422T064446
CREATED:20240304T095631Z
LAST-MODIFIED:20240304T095631Z
UID:41623-1721809800-1721813400@lscthub.co.uk
SUMMARY:Mentor Peer Support Session - Scope of Practice
DESCRIPTION:This session will explore ethical practice and considerations led by Derren Bailey and Yvonne Thomson \n\nThis is an interactive session and you will be expected to interact. Please ensure you have a camera and microphone available to attend the meeting.\n\n\nPlaces are limited\, if you have booked a place\, please ensure you attend.\nIf you are no longer able to attend\, please cancel your place. If you are struggling with booking or cancelling your place\, please contact us.\nBy signing up you agree for your information to be stored and shared by the Training hub and with the Training Provider\, NHSE and HEE\, for the delivery of this training\, monitoring\, reporting and certification purposes only.
URL:https://lscthub.co.uk/events/mentor-peer-support-session-scope-of-practice/
CATEGORIES:General Events
END:VEVENT
BEGIN:VEVENT
DTSTART;TZID=Europe/London:20240724T120000
DTEND;TZID=Europe/London:20240724T130000
DTSTAMP:20260422T064446
CREATED:20240118T135452Z
LAST-MODIFIED:20240118T135452Z
UID:40072-1721822400-1721826000@lscthub.co.uk
SUMMARY:ACP Forum
DESCRIPTION:Want an update on ACP developments in your Lancashire and South Cumbria region and a place to share your ideas with ACP peers? \nSave the date! Join our ACP forum! \nTopic: Gold standards frame work/Advanced planning \nThis is an interactive session and you will be expected to interact. Please ensure you have a camera and microphone available to attend the meeting.
URL:https://lscthub.co.uk/events/acp-forum-20/
CATEGORIES:General Events
END:VEVENT
END:VCALENDAR