BEGIN:VCALENDAR
VERSION:2.0
PRODID:-//Lancashire and South Cumbria Training Hub - ECPv6.15.20//NONSGML v1.0//EN
CALSCALE:GREGORIAN
METHOD:PUBLISH
X-WR-CALNAME:Lancashire and South Cumbria Training Hub
X-ORIGINAL-URL:https://lscthub.co.uk
X-WR-CALDESC:Events for Lancashire and South Cumbria Training Hub
REFRESH-INTERVAL;VALUE=DURATION:PT1H
X-Robots-Tag:noindex
X-PUBLISHED-TTL:PT1H
BEGIN:VTIMEZONE
TZID:UTC
BEGIN:STANDARD
TZOFFSETFROM:+0000
TZOFFSETTO:+0000
TZNAME:UTC
DTSTART:20220101T000000
END:STANDARD
END:VTIMEZONE
BEGIN:VEVENT
DTSTART;TZID=UTC:20230502T093000
DTEND;TZID=UTC:20230502T103000
DTSTAMP:20260424T205057
CREATED:20230222T100422Z
LAST-MODIFIED:20230222T100422Z
UID:30456-1683019800-1683023400@lscthub.co.uk
SUMMARY:How to have a challenging conversation
DESCRIPTION:This one hour session provides the tools to tackle those difficult situations effectively and removes the fear/reluctance \n  \nThis is a fully interactive session- please ensure you have a camera and microphone \nYou will receive a certificate post training for your attendance. Places are limited\, if you have booked a place\, please ensure you attend.
URL:https://lscthub.co.uk/events/how-to-have-a-challenging-conversation-2/
CATEGORIES:General Events
END:VEVENT
BEGIN:VEVENT
DTSTART;TZID=UTC:20230502T120000
DTEND;TZID=UTC:20230502T130000
DTSTAMP:20260424T205057
CREATED:20230222T100341Z
LAST-MODIFIED:20230222T100341Z
UID:30457-1683028800-1683032400@lscthub.co.uk
SUMMARY:How to have a challenging conversation
DESCRIPTION:This one hour session provides the tools to tackle those difficult situations effectively and removes the fear/reluctance \n  \nThis is a fully interactive session- please ensure you have a camera and microphone \nYou will receive a certificate post training for your attendance. Places are limited\, if you have booked a place\, please ensure you attend.
URL:https://lscthub.co.uk/events/how-to-have-a-challenging-conversation/
CATEGORIES:General Events
END:VEVENT
BEGIN:VEVENT
DTSTART;TZID=UTC:20230504T100000
DTEND;TZID=UTC:20230504T130000
DTSTAMP:20260424T205057
CREATED:20230303T120723Z
LAST-MODIFIED:20230303T120943Z
UID:30842-1683194400-1683205200@lscthub.co.uk
SUMMARY:Clinical Skills Practice Workshop Lytham
DESCRIPTION:New for 2023 Lancashire and South Cumbria Training Hub are offering Clinical Skills Practice Workshops! Available throughout the year at different locations you will be able to experience a hands on approach with the support of a clinical educator! \n  \nTopics covered in the sessions are: \n\nVenepuncture\nObtaining a Manual Blood pressure\nInjection Technique\nCervical Sample Taking\n\n  \nThe workshops welcome General Practice Nurses\, Health Care Assistants\, Nursing Associates\, Trainee Nursing Associates\, Advanced Nurse Practitioners\, Student Nurses\, Student Nurse Paramedics\, Physician Associates… anyone with a clinical role within Primary Care that is already trained in the topics above. \nNew to practice and want to have some hands-on experience with a mannequin to gain skills and confidence or if you are an experienced practitioner and want to refresh your skills then this is the workshop for you! \n  \nWe have equipment available in the workshops to enable you to practice your skills and get hands on experience with the support of a friendly clinical educator plus a practical handbook to guide you through. \n– Please note that these workshops are not a formal training session and the purpose is to support delegates in building on knowledge and skills already learnt from previous formal training. \nDelegates must join the session from the start time and leave once they feel they have gained enough from the workshop: there is no requirement to stay for the full 3 hours. In addition\, delegates may attend to access one of the pieces of equipment or all of them! This is a great opportunity to get hands on and have a play with the mannequins to help improve your practice! \nIf you have any additional needs or requirements to attend these sessions\, then please contact the training hub on mbpcc.lscthub@nhs.net \n  \nPlease ensure you bring your own lunch/snacks if required. \nIf you are no longer able to attend\, please cancel your place via Eventbrite. If you are struggling with booking or cancelling your place\, please contact us on mbpcc.lscthub@nhs.net \nBy signing up you agree for your information to be stored and shared by the Training hub and with the Training Provider\, NHSE and HEE\, for the delivery of this training\, monitoring\, reporting and certification purposes only.
URL:https://lscthub.co.uk/events/clinical-skills-practice-workshop-lytham/
LOCATION:Lytham Primary Care Centre Victoria Street Lytham FY8 5DZ\, Lytham Primary Care Centre Victoria Street Lytham FY8 5DZ
CATEGORIES:General Events
END:VEVENT
BEGIN:VEVENT
DTSTART;TZID=UTC:20230504T170000
DTEND;TZID=UTC:20230504T180000
DTSTAMP:20260424T205057
CREATED:20230405T101324Z
LAST-MODIFIED:20230405T101324Z
UID:31862-1683219600-1683223200@lscthub.co.uk
SUMMARY:General Practice Webinar
DESCRIPTION:There will be no GP webinar on the 6th April – the next GP webinar will take place on Thursday 4th May from 5-6pm. \nPlease join us for the next of our regular General Practice webinars with information and updates on the latest policy around general practice. \nTo attend\, please ensure you register by 1pm on Wednesday 3rd May 2023. If you registered for our last webinar\, you do not need to register again. \nThe webinar will take place through MS Teams Live and all registered attendees will be emailed a joining link closer to the time of the event taking place. If you haven’t received your joining link\, please first check your junk/spam folders as the email may end up there\, before contacting us by email. \nA recording of the webinar (and all previous webinars) will be available on Future NHS. \nPlease note: this is a closed webinar for those working in or with general practice. Please register using your official NHS or professional email address to help us to confirm your place.  \nQuestions about this event?\nName: Primary Care Team \nEmail:england.pccomms@nhs.net
URL:https://lscthub.co.uk/events/general-practice-webinar-13/
CATEGORIES:General Events
END:VEVENT
BEGIN:VEVENT
DTSTART;TZID=UTC:20230509T093000
DTEND;TZID=UTC:20230509T103000
DTSTAMP:20260424T205057
CREATED:20230222T100425Z
LAST-MODIFIED:20230222T100425Z
UID:30459-1683624600-1683628200@lscthub.co.uk
SUMMARY:How to have a challenging conversation
DESCRIPTION:This one hour session provides the tools to tackle those difficult situations effectively and removes the fear/reluctance \n  \nThis is a fully interactive session- please ensure you have a camera and microphone \nYou will receive a certificate post training for your attendance. Places are limited\, if you have booked a place\, please ensure you attend.
URL:https://lscthub.co.uk/events/how-to-have-a-challenging-conversation-3/
CATEGORIES:General Events
END:VEVENT
BEGIN:VEVENT
DTSTART;TZID=UTC:20230509T120000
DTEND;TZID=UTC:20230509T130000
DTSTAMP:20260424T205057
CREATED:20230222T100500Z
LAST-MODIFIED:20230222T100500Z
UID:30460-1683633600-1683637200@lscthub.co.uk
SUMMARY:How to have a challenging conversation
DESCRIPTION:This one hour session provides the tools to tackle those difficult situations effectively and removes the fear/reluctance \n  \nThis is a fully interactive session- please ensure you have a camera and microphone \nYou will receive a certificate post training for your attendance. Places are limited\, if you have booked a place\, please ensure you attend.
URL:https://lscthub.co.uk/events/how-to-have-a-challenging-conversation-4/
CATEGORIES:General Events
END:VEVENT
BEGIN:VEVENT
DTSTART;TZID=UTC:20230510T083000
DTEND;TZID=UTC:20230510T140000
DTSTAMP:20260424T205057
CREATED:20230418T091118Z
LAST-MODIFIED:20230418T091118Z
UID:32069-1683707400-1683727200@lscthub.co.uk
SUMMARY:Edge Hill Training and Development Spring Conference
DESCRIPTION:(registration from 8:30am\, lunch 1pm-2pm) \n\n\n\n\nThe sessions will include: \n\nAn update on the undergraduate programmes\n Questions and discussions with members of the team\nActive learning sets for improving teaching and learning\nPhysician Associate training and sharing of good practice\nRegulatory body assessment updates\nSafeguarding training\nEducational supervisor training/updates\n\nKeynote Speaker is Dr David Unwin.\nDavid is a local GP who was made a UK Royal College of General Practitioners expert clinical advisor in 2015 for his dedicated efforts in patient communication and type 2 diabetes. His work has been covered by the BBC\, New Scientist\, The Times and the BMJ. \nThe opportunity to book onto a tour of the Clinical Skills and simulation building will made available nearer to the conference. \n\n\n\n\nTo be held on EHU’s Ormskirk campus \nSpring Training Conference Flyer
URL:https://lscthub.co.uk/events/edge-hill-training-and-development-spring-conference/
CATEGORIES:General Events
END:VEVENT
BEGIN:VEVENT
DTSTART;TZID=UTC:20230510T113000
DTEND;TZID=UTC:20230510T123000
DTSTAMP:20260424T205057
CREATED:20230324T160400Z
LAST-MODIFIED:20230324T160400Z
UID:31458-1683718200-1683721800@lscthub.co.uk
SUMMARY:ACP & NMP Nurses Clinical Supervision Session
DESCRIPTION:This training event will enable you to reflect on and further develop your knowledge and skills necessary to your role as a clinical supervisor. \nFocus: NMP clinical supervision session on NW regional NMP updates / developments and what you can do around NMP development / progress from Joanna Tate – NW NMP HEE cooperative manager
URL:https://lscthub.co.uk/events/acp-nmp-nurses-clinical-supervision-session/
CATEGORIES:General Events
END:VEVENT
BEGIN:VEVENT
DTSTART;TZID=UTC:20230511T110000
DTEND;TZID=UTC:20230511T140000
DTSTAMP:20260424T205057
CREATED:20230306T112134Z
LAST-MODIFIED:20230306T112134Z
UID:30852-1683802800-1683813600@lscthub.co.uk
SUMMARY:Clinical Skills Practice Workshop Lancaster
DESCRIPTION:New for 2023 Lancashire and South Cumbria Training Hub are offering Clinical Skills Practice Workshops! Available throughout the year at different locations you will be able to experience a hands on approach with the support of a clinical educator! \n\nTopics covered in the sessions are: \n\nVenepuncture\nObtaining a Manual Blood pressure\nInjection Technique\nCervical Sample Taking\n\n\nThe workshops welcome General Practice Nurses\, Health Care Assistants\, Nursing Associates\, Trainee Nursing Associates\, Advanced Nurse Practitioners\, Student Nurses\, Student Nurse Paramedics\, Physician Associates… anyone with a clinical role within Primary Care that is already trained in the topics above. \nNew to practice and want to have some hands-on experience with a mannequin to gain skills and confidence or if you are an experienced practitioner and want to refresh your skills then this is the workshop for you! \n\nWe have equipment available in the workshops to enable you to practice your skills and get hands on experience with the support of a friendly clinical educator plus a practical handbook to guide you through. \n– Please note that these workshops are not a formal training session and the purpose is to support delegates in building on knowledge and skills already learnt from previous formal training. \nDelegates must join the session from the start time and leave once they feel they have gained enough from the workshop: there is no requirement to stay for the full 3 hours. In addition\, delegates may attend to access one of the pieces of equipment or all of them! This is a great opportunity to get hands on and have a play with the mannequins to help improve your practice! \nIf you have any additional needs or requirements to attend these sessions\, then please contact the training hub on mbpcc.lscthub@nhs.net
URL:https://lscthub.co.uk/events/clinical-skills-practice-workshop-lancaster-2/
LOCATION:NHS Moor Lane Mills\, Moor Ln\, Lancaster LA1 1QD\, NHS Moor Lane Mills\, Moor Ln\, Lancaster\, Lancashire\, LA1 1QD\, United Kingdom
CATEGORIES:General Events
END:VEVENT
BEGIN:VEVENT
DTSTART;TZID=UTC:20230517T113000
DTEND;TZID=UTC:20230517T123000
DTSTAMP:20260424T205057
CREATED:20230324T160545Z
LAST-MODIFIED:20230324T160545Z
UID:31460-1684323000-1684326600@lscthub.co.uk
SUMMARY:Nurse and ACP Forum
DESCRIPTION:Want an update on Nurse and ACP developments in your Lancashire and South Cumbria region and a place to share your ideas with peers ? \nFocus: We have the ICB chief nurse attending Professor Sarah O Brien attending\, giving a strategic update on what’s happening at ICB level nursing\, and ACP development
URL:https://lscthub.co.uk/events/nurse-and-acp-forum/
CATEGORIES:General Events
END:VEVENT
BEGIN:VEVENT
DTSTART;TZID=UTC:20230517T123000
DTEND;TZID=UTC:20230517T163000
DTSTAMP:20260424T205057
CREATED:20230510T212553Z
LAST-MODIFIED:20230510T212759Z
UID:32868-1684326600-1684341000@lscthub.co.uk
SUMMARY:Indicator Conditions in HIV Education Event
DESCRIPTION:Indicator Conditions in HIV Education Event (Wed\, 17 May) at the Marriott Hotel\, Garstang Road\, Preston\, PR3 5JB. Arrival for 12:30\, finish at 16:30 \nThis is an education event for Primary Care Doctors\, Nurses\, Pharmacists and other healthcare professionals. Lunch will be provided on arrival. The event will be chaired by Dr John Sweeney\, Consultant in Genito-urinary & HIV Medicine from Blackpool Teaching Hospital. \nTo attend the session please email Kathryn.carroll@gilead.com with your name\, organisation\, role\, email address and any dietary requirements.
URL:https://lscthub.co.uk/events/indicator-conditions-in-hiv-education-event/
LOCATION:The Marriot Hotel\, The Marriot Hotel\, Garstang Road\, Preston\, PR3 5JB\, United Kingdom
CATEGORIES:General Events
END:VEVENT
BEGIN:VEVENT
DTSTART;TZID=UTC:20230519T120000
DTEND;TZID=UTC:20230519T130000
DTSTAMP:20260424T205057
CREATED:20221214T122417Z
LAST-MODIFIED:20221214T122417Z
UID:28160-1684497600-1684501200@lscthub.co.uk
SUMMARY:Learning Environment Educator Development and Update Workshops
DESCRIPTION:This workshop is for all Educators who support pre-registration learners\, Allied Health Professional\, Physician Associates\, General Practitioners\, NMC Assessors and Supervisors \n  \nThis is an interactive discussion on the learning environment\, HEE Quality Framework (2021)\, assessment and supervision process\, the learners and an overview of NMC standards and the requirements of the above professions. \n  \nYou will receive an email prior to the workshop with the required pre reading attached for this session. \n  \nYou can also find the pre-reading here: https://lscthub.co.uk/learning-environment-educator-development-workshop/ \n  \nIf you are no longer able to attend\, please cancel your place via Eventbrite. If you are struggling with booking or cancelling your place\, please contact us on mbpcc.lscthub@nhs.net \n  \nBy signing up you agree for your information to be stored and by the Training hub and shared with the Trainer\, NHSE and HEE\, for the delivery of this training\, monitoring\, reporting and certification purposes only.
URL:https://lscthub.co.uk/events/learning-environment-educator-development-and-update-workshops-12/
CATEGORIES:General Events
END:VEVENT
BEGIN:VEVENT
DTSTART;TZID=UTC:20230523T093000
DTEND;TZID=UTC:20230523T103000
DTSTAMP:20260424T205057
CREATED:20230222T100527Z
LAST-MODIFIED:20230222T100527Z
UID:30458-1684834200-1684837800@lscthub.co.uk
SUMMARY:How to have a challenging conversation
DESCRIPTION:This one hour session provides the tools to tackle those difficult situations effectively and removes the fear/reluctance \n  \nThis is a fully interactive session- please ensure you have a camera and microphone \nYou will receive a certificate post training for your attendance. Places are limited\, if you have booked a place\, please ensure you attend.
URL:https://lscthub.co.uk/events/how-to-have-a-challenging-conversation-5/
CATEGORIES:General Events
END:VEVENT
BEGIN:VEVENT
DTSTART;TZID=UTC:20230523T100000
DTEND;TZID=UTC:20230523T130000
DTSTAMP:20260424T205057
CREATED:20230306T112415Z
LAST-MODIFIED:20230306T112415Z
UID:30853-1684836000-1684846800@lscthub.co.uk
SUMMARY:Clinical Skills Practice Workshop Preston
DESCRIPTION:New for 2023 Lancashire and South Cumbria Training Hub are offering Clinical Skills Practice Workshops! Available throughout the year at different locations you will be able to experience a hands on approach with the support of a clinical educator! \n\nTopics covered in the sessions are: \n\nVenepuncture\nObtaining a Manual Blood pressure\nInjection Technique\nCervical Sample Taking\n\n\nThe workshops welcome General Practice Nurses\, Health Care Assistants\, Nursing Associates\, Trainee Nursing Associates\, Advanced Nurse Practitioners\, Student Nurses\, Student Nurse Paramedics\, Physician Associates… anyone with a clinical role within Primary Care that is already trained in the topics above. \nNew to practice and want to have some hands-on experience with a mannequin to gain skills and confidence or if you are an experienced practitioner and want to refresh your skills then this is the workshop for you! \n\nWe have equipment available in the workshops to enable you to practice your skills and get hands on experience with the support of a friendly clinical educator plus a practical handbook to guide you through. \n– Please note that these workshops are not a formal training session and the purpose is to support delegates in building on knowledge and skills already learnt from previous formal training. \nDelegates must join the session from the start time and leave once they feel they have gained enough from the workshop: there is no requirement to stay for the full 3 hours. In addition\, delegates may attend to access one of the pieces of equipment or all of them! This is a great opportunity to get hands on and have a play with the mannequins to help improve your practice! \nIf you have any additional needs or requirements to attend these sessions\, then please contact the training hub on mbpcc.lscthub@nhs.net
URL:https://lscthub.co.uk/events/clinical-skills-practice-workshop-preston/
LOCATION:Fatima Health Centre\, 228 Garstang Rd\, Fulwood\, Preston PR2 9RB\, Fatima Health Centre\, 228 Garstang Rd\, Fulwood\, Preston\, Lancashire\, PR2 9RB\, United Kingdom
CATEGORIES:General Events
END:VEVENT
BEGIN:VEVENT
DTSTART;TZID=UTC:20230523T100000
DTEND;TZID=UTC:20230523T140000
DTSTAMP:20260424T205057
CREATED:20221212T115700Z
LAST-MODIFIED:20221212T115700Z
UID:28075-1684836000-1684850400@lscthub.co.uk
SUMMARY:Northwest Multi-Professional Preceptorship Community of Practice Group
DESCRIPTION:[embeddoc url=”https://lscthub.co.uk/wp-content/uploads/2022/12/2023-CoP-Meeting-Poster-AHP.docx” download=”all” viewer=”microsoft”]
URL:https://lscthub.co.uk/events/northwest-multi-professional-preceptorship-community-of-practice-group-3/
CATEGORIES:General Events
END:VEVENT
BEGIN:VEVENT
DTSTART;TZID=UTC:20230523T120000
DTEND;TZID=UTC:20230523T130000
DTSTAMP:20260424T205057
CREATED:20230222T100607Z
LAST-MODIFIED:20230222T100607Z
UID:30461-1684843200-1684846800@lscthub.co.uk
SUMMARY:How to have a challenging conversation
DESCRIPTION:This one hour session provides the tools to tackle those difficult situations effectively and removes the fear/reluctance \n  \nThis is a fully interactive session- please ensure you have a camera and microphone \nYou will receive a certificate post training for your attendance. Places are limited\, if you have booked a place\, please ensure you attend.
URL:https://lscthub.co.uk/events/how-to-have-a-challenging-conversation-6/
CATEGORIES:General Events
END:VEVENT
BEGIN:VEVENT
DTSTART;TZID=UTC:20230524T100000
DTEND;TZID=UTC:20230524T130000
DTSTAMP:20260424T205057
CREATED:20230209T104326Z
LAST-MODIFIED:20230209T104326Z
UID:29756-1684922400-1684933200@lscthub.co.uk
SUMMARY:Mentor Training and Support
DESCRIPTION:For current\, new and potential Mentors and Coaches\, this workshop covers basic mentor training for those who have not yet started ILM\, alongside follow up support\, for those who are undertaking their ILM3 award. \n  \nAt this session we will cover the following: \n\nOverview of New to Practice and Physician Associate Preceptorship programmes (for clinical staff supporting the NTP Fellowship/Preceptorship Programmes)\n\n\nCoaching Skills Workshop (for clinical and non-clinical mentors)\n\n  \nThere will be plenty of opportunities within the workshop for questions and discussion. \nWe would will be providing further information and coaching skills workshops over the year.
URL:https://lscthub.co.uk/events/mentor-training-and-support-2/
CATEGORIES:General Events
END:VEVENT
BEGIN:VEVENT
DTSTART;TZID=UTC:20230524T120000
DTEND;TZID=UTC:20230524T130000
DTSTAMP:20260424T205057
CREATED:20230518T114517Z
LAST-MODIFIED:20230518T114607Z
UID:33023-1684929600-1684933200@lscthub.co.uk
SUMMARY:Population Health and Health Equity Academy Best Practice May Event
DESCRIPTION:Flyde Coast homeless health hub with Tracy Whitfield (ICB population health team)  is now ready to book \nTracy will be talking through the what\, why and how of working with those experiencing severe multiple disadvantage\, using the Fylde Coast Homeless Health Hub as an example of multi-agency integration.  Everyone is welcome that has an interest in population health and social inclusion. This session will hopefully provide ideas and support to others that are working/want to work with socially excluded groups to narrow the gap on health inequalities and social injustice. \nPlease join NHS ICB for what promises to be both an interesting but also much needed session on this important topic and also to celebrate our Fylde coast colleagues’ work and share the learning. \n 
URL:https://lscthub.co.uk/events/population-health-and-health-equity-academy-best-practice-may-event/
CATEGORIES:General Events
END:VEVENT
BEGIN:VEVENT
DTSTART;TZID=UTC:20230524T120000
DTEND;TZID=UTC:20230524T130000
DTSTAMP:20260424T205057
CREATED:20230518T120938Z
LAST-MODIFIED:20230518T121017Z
UID:33042-1684929600-1684933200@lscthub.co.uk
SUMMARY:Equality\, Diversity\, and Inclusion: Centring the Experience of Learners
DESCRIPTION:ConnectEDcare is a GM Integrated Care Partnership funded pilot project creating psychologically informed Equality\, Diversity and Inclusion training for cancer professionals in Greater Manchester.This session\, delivered by Programme Manager David Brierley and EDI Health Educator Leone Alexander\, will explore the development and impact of the programme\, which aimed to create space for healthcare professionals supporting people with cancer to consider the ways their personal and professional identities intersect in order to develop greater self-awareness\, identify and challenge bias\, and strengthen clinical practice and workplace culture.The session will cover reflections from the first cohorts and recommendations for future work to support NHS GM’s EDI objectives. \nClick here to register
URL:https://lscthub.co.uk/events/equality-diversity-and-inclusion-centring-the-experience-of-learners/
CATEGORIES:General Events
END:VEVENT
BEGIN:VEVENT
DTSTART;TZID=UTC:20230524T130000
DTEND;TZID=UTC:20230524T140000
DTSTAMP:20260424T205057
CREATED:20230518T121026Z
LAST-MODIFIED:20230518T121117Z
UID:33044-1684933200-1684936800@lscthub.co.uk
SUMMARY:SLICE – LD (Learning Disability)
DESCRIPTION:Humber and North Yorkshire Learning Environments Assessments and Placements (LEAP) are launching SLICE (Student Led Integrated Care Environment) – Learning Disability. \nIn this session Gemma Hodge and Dr Debbie Cross will reflect on the experience of implementing a model of supervision which aims to expand practice for 3rd year Learning Disability (LD) student nurses by delivering Annual Health Checks in primary care. \nThe main aims were to: \n\nIncrease confidence\, and self-efficacy in preparing students and practice assessors for utilising a long arm approach to supervision.\nCreate autonomous practice.\nIntegrate the scope of LD specialism within primary care.\n\nclick here to register
URL:https://lscthub.co.uk/events/slice-ld-learning-disability/
CATEGORIES:General Events
END:VEVENT
BEGIN:VEVENT
DTSTART;TZID=UTC:20230530T100000
DTEND;TZID=UTC:20230530T110000
DTSTAMP:20260424T205057
CREATED:20230427T180742Z
LAST-MODIFIED:20230427T180816Z
UID:32763-1685440800-1685444400@lscthub.co.uk
SUMMARY:National Preceptorship Programme Update
DESCRIPTION:This short session will provide an update on the National Preceptorship Programme\, share new and existing resources to support implementation and outline our plans going forward over the summer. This event is open to all involved in the organisation and delivery of preceptorship within organisations. \nJoin us to find out more about #NationalPreceptorship
URL:https://lscthub.co.uk/events/national-preceptorship-programme-update/
CATEGORIES:General Events
END:VEVENT
END:VCALENDAR