BEGIN:VCALENDAR
VERSION:2.0
PRODID:-//Lancashire and South Cumbria Training Hub - ECPv6.15.20//NONSGML v1.0//EN
CALSCALE:GREGORIAN
METHOD:PUBLISH
X-ORIGINAL-URL:https://lscthub.co.uk
X-WR-CALDESC:Events for Lancashire and South Cumbria Training Hub
REFRESH-INTERVAL;VALUE=DURATION:PT1H
X-Robots-Tag:noindex
X-PUBLISHED-TTL:PT1H
BEGIN:VTIMEZONE
TZID:Europe/London
BEGIN:DAYLIGHT
TZOFFSETFROM:+0000
TZOFFSETTO:+0100
TZNAME:BST
DTSTART:20240331T010000
END:DAYLIGHT
BEGIN:STANDARD
TZOFFSETFROM:+0100
TZOFFSETTO:+0000
TZNAME:GMT
DTSTART:20241027T010000
END:STANDARD
BEGIN:DAYLIGHT
TZOFFSETFROM:+0000
TZOFFSETTO:+0100
TZNAME:BST
DTSTART:20250330T010000
END:DAYLIGHT
BEGIN:STANDARD
TZOFFSETFROM:+0100
TZOFFSETTO:+0000
TZNAME:GMT
DTSTART:20251026T010000
END:STANDARD
BEGIN:DAYLIGHT
TZOFFSETFROM:+0000
TZOFFSETTO:+0100
TZNAME:BST
DTSTART:20260329T010000
END:DAYLIGHT
BEGIN:STANDARD
TZOFFSETFROM:+0100
TZOFFSETTO:+0000
TZNAME:GMT
DTSTART:20261025T010000
END:STANDARD
END:VTIMEZONE
BEGIN:VEVENT
DTSTART;TZID=Europe/London:20251113T093000
DTEND;TZID=Europe/London:20251113T123000
DTSTAMP:20260419T161850
CREATED:20251020T101423Z
LAST-MODIFIED:20251020T101423Z
UID:54806-1763026200-1763037000@lscthub.co.uk
SUMMARY:Performing Adult Spirometry
DESCRIPTION:This is a 3 hour Teams session with Tracy Kirk for general practice staff. \nThese sessions are fully funded for staff working in General Practice in Lancashire and South Cumbria. If you work outside of this area\, please select a ‘Non funded ticket’ option. \nAll bookings are subject to a 14-day cancellation policy. Please see the listing for details of the cancellation policy and cancellation fees. \nPlease note there is pre-reading to complete prior to each session which will take approximately 3 hours and post session there will be some e-learning to complete which will take between 6 and 10 hours. Please ensure you book time to complete this prior to the session. The pre-reading will be released approximately 12 days prior to the session. \nIf you have any additional needs or requirements to attend these sessions\, then please contact us.\n\n\nYou will receive a certificate post-training for your attendance. \nIf you have any additional needs or requirements to attend this session\, please contact us at mbpcc.lscthub@nhs.net \n\nBy signing up you agree for your information to be stored and shared by the Training Hub and with the Training Provider\, NHSE and NHS ICB\, for the delivery of this training\, monitoring\, reporting and certification purposes only.
URL:https://lscthub.co.uk/events/performing-adult-spirometry/
CATEGORIES:Clinical nurse training
END:VEVENT
BEGIN:VEVENT
DTSTART;TZID=Europe/London:20251111T123000
DTEND;TZID=Europe/London:20251111T133000
DTSTAMP:20260419T161850
CREATED:20251015T095016Z
LAST-MODIFIED:20251015T095016Z
UID:54700-1762864200-1762867800@lscthub.co.uk
SUMMARY:COPD Session
DESCRIPTION:Angela Ormrod (ANP) will talk through COPD – this session is ideal for Practice Nurses new to reviewing COPD. \nAngela is a very experienced ANP. She will talk through COPD and link this to QOF. \nThe session will cover how a diagnosis is made\, QOF requirements\, differential diagnosis\, MRC and CAT score.
URL:https://lscthub.co.uk/events/copd-session/
CATEGORIES:Clinical nurse training
ORGANIZER;CN="Lancashire and South Cumbria Primary Care Training Hub":MAILTO:mbpcc.lscthub@nhs.net
END:VEVENT
BEGIN:VEVENT
DTSTART;TZID=Europe/London:20251111T100000
DTEND;TZID=Europe/London:20251111T130000
DTSTAMP:20260419T161850
CREATED:20250408T151107Z
LAST-MODIFIED:20250408T151107Z
UID:51554-1762855200-1762866000@lscthub.co.uk
SUMMARY:Clinical Skills Practice Workshop - Preston
DESCRIPTION:Clinical Skills Practice Workshop for Primary Care staff in Lancashire and South Cumbria \nAvailable throughout the year at different locations you will be able to experience a hands on approach with the support of a clinical educator! \nLocation: Fatima Health Centre\, 228 Garstang Rd\, Fulwood\, Preston PR2 9QB (1st Floor) \n\nWe have added some extra skills onto our sessions to broaden your experience.\n\nTopics covered in the sessions are:\n\nPractice taking a smear\nManual blood pressures plus looking at normal parameters and targets\nInjection Technique\nVenepuncture\nInhaler technique\nPeak flow technique\nBlood oxygen levels using a pulse oximeter\n\n\nThe workshops welcome General Practice Nurses\, Health Care Assistants\, Nursing Associates\, Trainee Nursing Associates\, Advanced Nurse Practitioners\, Student Nurses\, Student Nurse Paramedics\, Physician Associates… anyone with a clinical role within Primary Care that is already trained in the topics above. \n\nNew to practice and want to have some hands-on experience with a mannequin to gain skills and confidence or if you are an experienced practitioner and want to refresh your skills then this is the workshop for you!\nWe have equipment available in the workshops to enable you to practice your skills and get hands-on experience with the support of a friendly clinical educator plus a practical handbook to guide you through. \n\n\nPlease note that these workshops are not a formal training session and the purpose is to support delegates in building on knowledge and skills already learnt from previous formal training.\n\nDelegates must join the session from the start time and leave once they feel they have gained enough from the workshop: there is no requirement to stay for the full 3 hours. In addition\, delegates may attend to access one of the pieces of equipment or all of them! This is a great opportunity to get hands-on and have a play with the mannequins to help improve your practice! \n\nIf you have any additional needs or requirements to attend these sessions\, then please contact us.\n\n\nYou will receive a certificate post-training for your attendance. Places are limited\, if you have booked a place\, please ensure you attend.\nIf you are no longer able to attend\, please cancel your place. If you are struggling with booking or cancelling your place\, please contact us.\n\nBy signing up you agree for your information to be stored and shared by the Training hub and with the Training Provider\, NHSE and HEE\, for the delivery of this training\, monitoring\, reporting and certification purposes only.
URL:https://lscthub.co.uk/events/clinical-skills-practice-workshop-preston-9/
LOCATION:Fatima Health Centre\, Garstang Road\, Fulwood\, Preston\, UK
CATEGORIES:Clinical nurse training
ORGANIZER;CN="Lancashire and South Cumbria Primary Care Training Hub":MAILTO:mbpcc.lscthub@nhs.net
END:VEVENT
BEGIN:VEVENT
DTSTART;TZID=Europe/London:20251106T093000
DTEND;TZID=Europe/London:20251106T123000
DTSTAMP:20260419T161850
CREATED:20251020T101610Z
LAST-MODIFIED:20251020T101610Z
UID:54810-1762421400-1762432200@lscthub.co.uk
SUMMARY:Performing Paediatric Spirometry
DESCRIPTION:This is a 3 hour Teams session with Tracy Kirk for general practice staff. \nThese sessions are fully funded for staff working in General Practice in Lancashire and South Cumbria. If you work outside of this area\, please select a ‘Non funded ticket’ option. \nAll bookings are subject to a 14-day cancellation policy. Please see the listing for details of the cancellation policy and cancellation fees. \nPlease note there is pre-reading to complete prior to each session which will take approximately 3 hours and post session there will be some e-learning to complete which will take between 6 and 10 hours. Please ensure you book time to complete this prior to the session. The pre-reading will be released approximately 12 days prior to the session. \nIf you have any additional needs or requirements to attend these sessions\, then please contact us.\n\n\nYou will receive a certificate post-training for your attendance. \nIf you have any additional needs or requirements to attend this session\, please contact us at mbpcc.lscthub@nhs.net \n\nBy signing up you agree for your information to be stored and shared by the Training Hub and with the Training Provider\, NHSE and NHS ICB\, for the delivery of this training\, monitoring\, reporting and certification purposes only.
URL:https://lscthub.co.uk/events/performing-paediatric-spirometry/
CATEGORIES:Clinical nurse training
END:VEVENT
BEGIN:VEVENT
DTSTART;TZID=Europe/London:20251105T123000
DTEND;TZID=Europe/London:20251105T133000
DTSTAMP:20260419T161850
CREATED:20250924T090710Z
LAST-MODIFIED:20250924T090710Z
UID:54261-1762345800-1762349400@lscthub.co.uk
SUMMARY:Ring Pessary Training
DESCRIPTION:Event Description\n\n\nThis is a virtual session to run through\n\nProlapse assessment​\nKnowledge of indication and management involved in pessary care​\nRemoval and fitting of pessaries for routine changes​\nKnowledge of how to manage complications of ring pessaries​\nAssessment for ring pessary fitting​\nKnowledge on alternatives to pessaries ​\nPessary self-management\n\n\nThis is an interactive session and you will be expected to interact. Please ensure you have a camera and microphone available to attend the meeting.\n\nYou will receive a certificate post training for your attendance. Places are limited\, if you have booked a place\, please ensure you attend.\nIf you are no longer able to attend\, please cancel your place. If you are struggling with booking or cancelling your place\, please contact us.\nBy signing up you agree for your information to be stored and shared by the Training hub and with the Training Provider\, NHSE and HEE\, for the delivery of this training\, monitoring\, reporting and certification purposes only.\n\nPrerequisites\n\n\nPlease read the group clinical supervision agreement document which is attached to this event.\nBy attending the session you automatically consent to this agreement
URL:https://lscthub.co.uk/events/ring-pessary-training-3/
LOCATION:Online event
CATEGORIES:Clinical nurse training
END:VEVENT
BEGIN:VEVENT
DTSTART;TZID=Europe/London:20251104T123000
DTEND;TZID=Europe/London:20251104T133000
DTSTAMP:20260419T161850
CREATED:20250908T092434Z
LAST-MODIFIED:20250908T092434Z
UID:54004-1762259400-1762263000@lscthub.co.uk
SUMMARY:Ring Pessary Training
DESCRIPTION:This is a virtual session to run through\n\nProlapse assessment​\nKnowledge of indication and management involved in pessary care​\nRemoval and fitting of pessaries for routine changes​\nKnowledge of how to manage complications of ring pessaries​\nAssessment for ring pessary fitting​\nKnowledge on alternatives to pessaries ​\nPessary self-management\n\n\nThis is an interactive session and you will be expected to interact. Please ensure you have a camera and microphone available to attend the meeting.\n\nYou will receive a certificate post training for your attendance. Places are limited\, if you have booked a place\, please ensure you attend.\nIf you are no longer able to attend\, please cancel your place. If you are struggling with booking or cancelling your place\, please contact us.\nBy signing up you agree for your information to be stored and shared by the Training hub and with the Training Provider\, NHSE and HEE\, for the delivery of this training\, monitoring\, reporting and certification purposes only.
URL:https://lscthub.co.uk/events/ring-pessary-training-2/
CATEGORIES:Clinical nurse training
END:VEVENT
BEGIN:VEVENT
DTSTART;TZID=Europe/London:20251021T123000
DTEND;TZID=Europe/London:20251021T133000
DTSTAMP:20260419T161850
CREATED:20250908T092311Z
LAST-MODIFIED:20250908T092311Z
UID:54002-1761049800-1761053400@lscthub.co.uk
SUMMARY:Ring Pessary Training
DESCRIPTION:This is a virtual session to run through\n\nProlapse assessment​\nKnowledge of indication and management involved in pessary care​\nRemoval and fitting of pessaries for routine changes​\nKnowledge of how to manage complications of ring pessaries​\nAssessment for ring pessary fitting​\nKnowledge on alternatives to pessaries ​\nPessary self-management\n\n\nThis is an interactive session and you will be expected to interact. Please ensure you have a camera and microphone available to attend the meeting.\n\nYou will receive a certificate post training for your attendance. Places are limited\, if you have booked a place\, please ensure you attend.\nIf you are no longer able to attend\, please cancel your place. If you are struggling with booking or cancelling your place\, please contact us.\nBy signing up you agree for your information to be stored and shared by the Training hub and with the Training Provider\, NHSE and HEE\, for the delivery of this training\, monitoring\, reporting and certification purposes only.
URL:https://lscthub.co.uk/events/ring-pessary-training/
CATEGORIES:Clinical nurse training
END:VEVENT
BEGIN:VEVENT
DTSTART;TZID=Europe/London:20250930T123000
DTEND;TZID=Europe/London:20250930T133000
DTSTAMP:20260419T161850
CREATED:20250611T125312Z
LAST-MODIFIED:20250611T125312Z
UID:52723-1759235400-1759239000@lscthub.co.uk
SUMMARY:NICE Guidance update for CYP Asthma
DESCRIPTION:Claire and Georgina are two specialist asthma nurses working for Lancashire and South Cumbria ICB.  The training includes an update on the new NICE guidance published in November 2024; how to optimise an asthma review for children and young people and how to identify children and young people at highest risk of asthma exacerbation. \n\n\nIf you are no longer able to attend\, please cancel your place. If you are struggling with booking or cancelling your place\, please contact us on mbpcc.lscthub@nhs.net\n\nBy signing up you agree for your information to be stored and shared by the Training hub and with the Training Provider\, NHSE and the ICB\, for the delivery of this training\, monitoring\, reporting and certification purposes only.
URL:https://lscthub.co.uk/events/nice-guidance-update-for-cyp-asthma-5/
CATEGORIES:Clinical nurse training
ORGANIZER;CN="Lancashire and South Cumbria Primary Care Training Hub":MAILTO:mbpcc.lscthub@nhs.net
END:VEVENT
BEGIN:VEVENT
DTSTART;TZID=Europe/London:20250923T123000
DTEND;TZID=Europe/London:20250923T133000
DTSTAMP:20260419T161850
CREATED:20250730T082532Z
LAST-MODIFIED:20250730T082532Z
UID:53481-1758630600-1758634200@lscthub.co.uk
SUMMARY:Asthma Reviews
DESCRIPTION:Angela is a very experienced ANP. She will talk through asthma reviews and link this to QOF.\n\nIf you are no longer able to attend\, please cancel your place. If you are struggling with booking or cancelling your place\, please contact us on mbpcc.lscthub@nhs.net\n\nBy signing up you agree for your information to be stored and shared by the Training hub and with the Training Provider\, NHSE and the ICB\, for the delivery of this training\, monitoring\, reporting and certification purposes only.
URL:https://lscthub.co.uk/events/asthma-reviews/
CATEGORIES:Clinical nurse training
END:VEVENT
BEGIN:VEVENT
DTSTART;TZID=Europe/London:20250917T090000
DTEND;TZID=Europe/London:20250917T163000
DTSTAMP:20260419T161850
CREATED:20250707T153907Z
LAST-MODIFIED:20250707T153907Z
UID:53217-1758099600-1758126600@lscthub.co.uk
SUMMARY:Annual General Practice Nurse and Allied Health Professional Conference 17th September 2025- Churchills Conference Room at Mill Farm\, (Home of AFC Fylde) Coronation Way WESHAM\, PRESTON\, PR4 3JZ
DESCRIPTION:Join us at our 2025 conference for Nurses and AHPs in Primary Care within Lancashire & South Cumbria. Please note the change of venue!
URL:https://lscthub.co.uk/events/annual-general-practice-nurse-and-allied-health-professional-conference-17th-september-2025-churchills-conference-room-at-mill-farm-home-of-afc-fylde-coronation-way-wesham-preston-pr4-3jz/
LOCATION:Churchills Conference Room at Mill Farm\, (Home of AFC Fylde) Coronation Way WESHAM\, PRESTON\, PR4 3JZ\, United Kingdom
CATEGORIES:Clinical nurse training,General Events
END:VEVENT
BEGIN:VEVENT
DTSTART;TZID=Europe/London:20250820T123000
DTEND;TZID=Europe/London:20250820T133000
DTSTAMP:20260419T161850
CREATED:20250611T125044Z
LAST-MODIFIED:20250611T125044Z
UID:52721-1755693000-1755696600@lscthub.co.uk
SUMMARY:NICE Guidance update for CYP Asthma
DESCRIPTION:Claire and Georgina are two specialist asthma nurses working for Lancashire and South Cumbria ICB.  The training includes an update on the new NICE guidance published in November 2024; how to optimise an asthma review for children and young people and how to identify children and young people at highest risk of asthma exacerbation. \n\n\nIf you are no longer able to attend\, please cancel your place. If you are struggling with booking or cancelling your place\, please contact us on mbpcc.lscthub@nhs.net\n\nBy signing up you agree for your information to be stored and shared by the Training hub and with the Training Provider\, NHSE and the ICB\, for the delivery of this training\, monitoring\, reporting and certification purposes only.\n 
URL:https://lscthub.co.uk/events/nice-guidance-update-for-cyp-asthma-4/
CATEGORIES:Clinical nurse training
ORGANIZER;CN="Lancashire and South Cumbria Primary Care Training Hub":MAILTO:mbpcc.lscthub@nhs.net
END:VEVENT
BEGIN:VEVENT
DTSTART;TZID=Europe/London:20250617T133000
DTEND;TZID=Europe/London:20250617T150000
DTSTAMP:20260419T161850
CREATED:20250409T160056Z
LAST-MODIFIED:20250409T160056Z
UID:51629-1750167000-1750172400@lscthub.co.uk
SUMMARY:NICE Guidance update for CYP Asthma
DESCRIPTION:Claire and Georgina are two specialist asthma nurses working for Lancashire and South Cumbria ICB.  The training includes an update on the new NICE guidance published in November 2024; how to optimise an asthma review for children and young people and how to identify children and young people at highest risk of asthma exacerbation. \nWhilst the dates below are allocated to specific localities\, everyone is welcome to book on and attend: \nApril 2nd \nApril 3rd\nApril 8th\nApril 24th\nMay 13th\nJune 17th\n\nIf you are no longer able to attend\, please cancel your place. If you are struggling with booking or cancelling your place\, please contact us on mbpcc.lscthub@nhs.net\n\nBy signing up you agree for your information to be stored and shared by the Training hub and with the Training Provider\, NHSE and the ICB\, for the delivery of this training\, monitoring\, reporting and certification purposes only.
URL:https://lscthub.co.uk/events/nice-guidance-update-for-cyp-asthma-3/
CATEGORIES:Clinical nurse training
ORGANIZER;CN="Lancashire and South Cumbria Primary Care Training Hub":MAILTO:mbpcc.lscthub@nhs.net
END:VEVENT
BEGIN:VEVENT
DTSTART;TZID=Europe/London:20250612T100000
DTEND;TZID=Europe/London:20250612T130000
DTSTAMP:20260419T161850
CREATED:20250408T150439Z
LAST-MODIFIED:20250408T150439Z
UID:51552-1749722400-1749733200@lscthub.co.uk
SUMMARY:Clinical Skills Practice Workshop - Darwen
DESCRIPTION:Available throughout the year at different locations you will be able to experience a hands on approach with the support of a clinical educator! \nLocation: Room SF89\, Darwen Health Centre\, James St W\, Darwen BB3. \nWe have added some extra skills onto our sessions to broaden your experience. \n\nTopics covered in the sessions are:\n\nPractice taking a smear\nManual blood pressures plus looking at normal parameters and targets\nInjection Technique\nVenepuncture\nInhaler technique\nPeak flow technique\nBlood oxygen levels using a pulse oximeter.\n\n\nThe workshops welcome General Practice Nurses\, Health Care Assistants\, Nursing Associates\, Trainee Nursing Associates\, Advanced Nurse Practitioners\, Student Nurses\, Student Nurse Paramedics\, Physician Associates… anyone with a clinical role within Primary Care that is already trained in the topics above. \n\nNew to practice and want to have some hands-on experience with a mannequin to gain skills and confidence or if you are an experienced practitioner and want to refresh your skills then this is the workshop for you!\nWe have equipment available in the workshops to enable you to practice your skills and get hands-on experience with the support of a friendly clinical educator plus a practical handbook to guide you through. \n\n\nPlease note that these workshops are not a formal training session and the purpose is to support delegates in building on knowledge and skills already learnt from previous formal training.\n\nDelegates must join the session from the start time and leave once they feel they have gained enough from the workshop: there is no requirement to stay for the full 3 hours. In addition\, delegates may attend to access one of the pieces of equipment or all of them! This is a great opportunity to get hands-on and have a play with the mannequins to help improve your practice! \n\nIf you have any additional needs or requirements to attend these sessions\, then please contact us.
URL:https://lscthub.co.uk/events/clinical-skills-practice-workshop-darwen-6/
LOCATION:Darwen Health Centre\, James Street West\, Lancaster BB3 1PY Lancaster\, United Kingdom
CATEGORIES:Clinical nurse training
ORGANIZER;CN="Lancashire and South Cumbria Primary Care Training Hub":MAILTO:mbpcc.lscthub@nhs.net
END:VEVENT
BEGIN:VEVENT
DTSTART;TZID=Europe/London:20250513T133000
DTEND;TZID=Europe/London:20250513T150000
DTSTAMP:20260419T161850
CREATED:20250409T155930Z
LAST-MODIFIED:20250409T155930Z
UID:51627-1747143000-1747148400@lscthub.co.uk
SUMMARY:NICE Guidance update for CYP Asthma
DESCRIPTION:Claire and Georgina are two specialist asthma nurses working for Lancashire and South Cumbria ICB.  The training includes an update on the new NICE guidance published in November 2024; how to optimise an asthma review for children and young people and how to identify children and young people at highest risk of asthma exacerbation. \nWhilst the dates below are allocated to specific localities\, everyone is welcome to book on and attend: \nApril 2nd \nApril 3rd\nApril 8th\nApril 24th\nMay 13th\nJune 17th\n\nIf you are no longer able to attend\, please cancel your place. If you are struggling with booking or cancelling your place\, please contact us on mbpcc.lscthub@nhs.net\n\nBy signing up you agree for your information to be stored and shared by the Training hub and with the Training Provider\, NHSE and the ICB\, for the delivery of this training\, monitoring\, reporting and certification purposes only.
URL:https://lscthub.co.uk/events/nice-guidance-update-for-cyp-asthma-2/
CATEGORIES:Clinical nurse training
ORGANIZER;CN="Lancashire and South Cumbria Primary Care Training Hub":MAILTO:mbpcc.lscthub@nhs.net
END:VEVENT
BEGIN:VEVENT
DTSTART;TZID=Europe/London:20250424T130000
DTEND;TZID=Europe/London:20250424T150000
DTSTAMP:20260419T161850
CREATED:20250409T155755Z
LAST-MODIFIED:20250409T155755Z
UID:51625-1745499600-1745506800@lscthub.co.uk
SUMMARY:NICE Guidance update for CYP Asthma
DESCRIPTION:Claire and Georgina are two specialist asthma nurses working for Lancashire and South Cumbria ICB.  The training includes an update on the new NICE guidance published in November 2024; how to optimise an asthma review for children and young people and how to identify children and young people at highest risk of asthma exacerbation. \nWhilst the dates below are allocated to specific localities\, everyone is welcome to book on and attend: \nApril 2nd \nApril 3rd\nApril 8th\nApril 24th\nMay 13th\nJune 17th\n\nIf you are no longer able to attend\, please cancel your place. If you are struggling with booking or cancelling your place\, please contact us on mbpcc.lscthub@nhs.net\n\nBy signing up you agree for your information to be stored and shared by the Training hub and with the Training Provider\, NHSE and the ICB\, for the delivery of this training\, monitoring\, reporting and certification purposes only.\n  \n 
URL:https://lscthub.co.uk/events/nice-guidance-update-for-cyp-asthma/
CATEGORIES:Clinical nurse training
ORGANIZER;CN="Lancashire and South Cumbria Primary Care Training Hub":MAILTO:mbpcc.lscthub@nhs.net
END:VEVENT
END:VCALENDAR