BEGIN:VCALENDAR
VERSION:2.0
PRODID:-//Lancashire and South Cumbria Training Hub - ECPv6.15.20//NONSGML v1.0//EN
CALSCALE:GREGORIAN
METHOD:PUBLISH
X-ORIGINAL-URL:https://lscthub.co.uk
X-WR-CALDESC:Events for Lancashire and South Cumbria Training Hub
REFRESH-INTERVAL;VALUE=DURATION:PT1H
X-Robots-Tag:noindex
X-PUBLISHED-TTL:PT1H
BEGIN:VTIMEZONE
TZID:Europe/London
BEGIN:DAYLIGHT
TZOFFSETFROM:+0000
TZOFFSETTO:+0100
TZNAME:BST
DTSTART:20230326T010000
END:DAYLIGHT
BEGIN:STANDARD
TZOFFSETFROM:+0100
TZOFFSETTO:+0000
TZNAME:GMT
DTSTART:20231029T010000
END:STANDARD
BEGIN:DAYLIGHT
TZOFFSETFROM:+0000
TZOFFSETTO:+0100
TZNAME:BST
DTSTART:20240331T010000
END:DAYLIGHT
BEGIN:STANDARD
TZOFFSETFROM:+0100
TZOFFSETTO:+0000
TZNAME:GMT
DTSTART:20241027T010000
END:STANDARD
BEGIN:DAYLIGHT
TZOFFSETFROM:+0000
TZOFFSETTO:+0100
TZNAME:BST
DTSTART:20250330T010000
END:DAYLIGHT
BEGIN:STANDARD
TZOFFSETFROM:+0100
TZOFFSETTO:+0000
TZNAME:GMT
DTSTART:20251026T010000
END:STANDARD
END:VTIMEZONE
BEGIN:VEVENT
DTSTART;TZID=Europe/London:20240328T150000
DTEND;TZID=Europe/London:20240328T163000
DTSTAMP:20260421T105830
CREATED:20240314T142340Z
LAST-MODIFIED:20240314T142340Z
UID:41976-1711638000-1711643400@lscthub.co.uk
SUMMARY:Quality in Nursing Apprenticeships Webinars with NHSE\, NMC\, Ofsted & UVAC
DESCRIPTION:This webinar is open to all to hear more best practice about delivering high quality nursing apprenticeships and have the chance to ask your questions to NMC & Ofsted. Event details and Booking link available here . If you can’t attend the live webinar\, please still register so you can receive the slides and recording afterwards.
URL:https://lscthub.co.uk/events/quality-in-nursing-apprenticeships-webinars-with-nhse-nmc-ofsted-uvac/
CATEGORIES:Apprenticeships
END:VEVENT
END:VCALENDAR