BEGIN:VCALENDAR
VERSION:2.0
PRODID:-//Lancashire and South Cumbria Training Hub - ECPv6.15.20//NONSGML v1.0//EN
CALSCALE:GREGORIAN
METHOD:PUBLISH
X-WR-CALNAME:Lancashire and South Cumbria Training Hub
X-ORIGINAL-URL:https://lscthub.co.uk
X-WR-CALDESC:Events for Lancashire and South Cumbria Training Hub
REFRESH-INTERVAL;VALUE=DURATION:PT1H
X-Robots-Tag:noindex
X-PUBLISHED-TTL:PT1H
BEGIN:VTIMEZONE
TZID:UTC
BEGIN:STANDARD
TZOFFSETFROM:+0000
TZOFFSETTO:+0000
TZNAME:UTC
DTSTART:20220101T000000
END:STANDARD
END:VTIMEZONE
BEGIN:VEVENT
DTSTART;TZID=UTC:20230814T183000
DTEND;TZID=UTC:20230814T193000
DTSTAMP:20260419T231752
CREATED:20230710T085826Z
LAST-MODIFIED:20230710T085826Z
UID:34568-1692037800-1692041400@lscthub.co.uk
SUMMARY:Nursing Apprenticeship with University of Bolton
DESCRIPTION:University of Bolton are holding information webinars on Wednesday 19th July 18:30 and Thursday 14th September 18:30 (both sessions will be the same). These are for potential apprentices and employers to find out about the Nursing Apprenticeship programme followed by a chance to ask any questions. Please email Kath UoB’s Nursing Course Lead to confirm that you wish to attend k.newlands@bolton.ac.uk Please save the following link in your diary and use the link to join the Zoom webinar on the relevant date and time.  \nhttps://bolton.zoom.us/j/92342870691?pwd=UnFqcGtPekU1dGFjekx0clNBekN4dz09 \nMeeting ID: 923 4287 0691   Passcode: 264875
URL:https://lscthub.co.uk/events/nursing-apprenticeship-with-university-of-bolton/
CATEGORIES:Apprenticeships
END:VEVENT
END:VCALENDAR