BEGIN:VCALENDAR
VERSION:2.0
PRODID:-//Lancashire and South Cumbria Training Hub - ECPv6.15.20//NONSGML v1.0//EN
CALSCALE:GREGORIAN
METHOD:PUBLISH
X-ORIGINAL-URL:https://lscthub.co.uk
X-WR-CALDESC:Events for Lancashire and South Cumbria Training Hub
REFRESH-INTERVAL;VALUE=DURATION:PT1H
X-Robots-Tag:noindex
X-PUBLISHED-TTL:PT1H
BEGIN:VTIMEZONE
TZID:UTC
BEGIN:STANDARD
TZOFFSETFROM:+0000
TZOFFSETTO:+0000
TZNAME:UTC
DTSTART:20220101T000000
END:STANDARD
END:VTIMEZONE
BEGIN:VEVENT
DTSTART;TZID=UTC:20230713T090000
DTEND;TZID=UTC:20230713T093000
DTSTAMP:20260420T005825
CREATED:20230710T085445Z
LAST-MODIFIED:20230710T085445Z
UID:34566-1689238800-1689240600@lscthub.co.uk
SUMMARY:Community Health and Wellbeing Worker Apprenticeship with Training 2000
DESCRIPTION:Training 2000 are running information webinars for employers to find out about this apprenticeship. Their next webinar is taking place Thursday 13th July 9:00 – 9:30. Please see attached Social Prescribing Course to find out more and for booking instructions. If you can’t make this event\, please do contact Training 2000 who will be happy to arrange a meeting with you.
URL:https://lscthub.co.uk/events/community-health-and-wellbeing-worker-apprenticeship-with-training-2000/
CATEGORIES:Apprenticeships
END:VEVENT
END:VCALENDAR