BEGIN:VCALENDAR
VERSION:2.0
PRODID:-//Lancashire and South Cumbria Training Hub - ECPv6.15.20//NONSGML v1.0//EN
CALSCALE:GREGORIAN
METHOD:PUBLISH
X-ORIGINAL-URL:https://lscthub.co.uk
X-WR-CALDESC:Events for Lancashire and South Cumbria Training Hub
REFRESH-INTERVAL;VALUE=DURATION:PT1H
X-Robots-Tag:noindex
X-PUBLISHED-TTL:PT1H
BEGIN:VTIMEZONE
TZID:UTC
BEGIN:STANDARD
TZOFFSETFROM:+0000
TZOFFSETTO:+0000
TZNAME:UTC
DTSTART:20220101T000000
END:STANDARD
END:VTIMEZONE
BEGIN:VEVENT
DTSTART;TZID=UTC:20230704T150000
DTEND;TZID=UTC:20230704T160000
DTSTAMP:20260420T005800
CREATED:20230306T172519Z
LAST-MODIFIED:20230308T085838Z
UID:30938-1688482800-1688486400@lscthub.co.uk
SUMMARY:Apprenticeship Training 2000
DESCRIPTION:This webinar has been created for Social Care & Primary Care employers within Lancashire and South\nCumbria\, to find out about Training 2000’s Apprenticeship Programmes.\nCommunity Health and Wellbeing Worker Level 3 Apprenticeship\nBusiness Administration (Level 3)\nILM Team Leader Level 3\nILM Operations Manager Level 5\nIt will be delivered by Vicky Fort\, Training 2000\, who will discuss the following\nDelivery model – How will it work\nEntry requirements – What requirement are needed to enrol\nExpectations of each programme – Any additional requirements\nCost – What will it cost you\nQ&A session at the end – Your opportunity to find out more\nTo access the link or for any questions about the webinar contact mbpcc.lscsocialcare@nhs.net \n[embeddoc url=”https://lscthub.co.uk/wp-content/uploads/2023/03/T2000-2023-Webinar-flyer-297-×-210px.pdf” download=”all”]
URL:https://lscthub.co.uk/events/training-2000-webinar-2/
CATEGORIES:Apprenticeships
END:VEVENT
END:VCALENDAR