BEGIN:VCALENDAR
VERSION:2.0
PRODID:-//Lancashire and South Cumbria Training Hub - ECPv6.15.20//NONSGML v1.0//EN
CALSCALE:GREGORIAN
METHOD:PUBLISH
X-ORIGINAL-URL:https://lscthub.co.uk
X-WR-CALDESC:Events for Lancashire and South Cumbria Training Hub
REFRESH-INTERVAL;VALUE=DURATION:PT1H
X-Robots-Tag:noindex
X-PUBLISHED-TTL:PT1H
BEGIN:VTIMEZONE
TZID:UTC
BEGIN:STANDARD
TZOFFSETFROM:+0000
TZOFFSETTO:+0000
TZNAME:UTC
DTSTART:20220101T000000
END:STANDARD
END:VTIMEZONE
BEGIN:VEVENT
DTSTART;TZID=UTC:20230905T103000
DTEND;TZID=UTC:20230905T113000
DTSTAMP:20260419T200254
CREATED:20230824T073428Z
LAST-MODIFIED:20230824T073428Z
UID:35924-1693909800-1693913400@lscthub.co.uk
SUMMARY:Primary Care Roles: Apprenticeship Resource Launch
DESCRIPTION:NHSE NW Widening Participation\, Careers and Apprenticeships team would like to invite all to the launch of their Primary Care Apprenticeship Resource. The interactive resource explores different apprenticeship pathways available within Primary Care. It showcases 22 apprenticeships approved for delivery within GP practices\, dental practices\, optical services and pharmacies (preview here: HTTPS://FANCIFICATION.COM/RPCC-09/). More details and webinar booking instructions are found here
URL:https://lscthub.co.uk/events/primary-care-roles-apprenticeship-resource-launch/
CATEGORIES:Apprenticeships
END:VEVENT
BEGIN:VEVENT
DTSTART;TZID=UTC:20230928T120000
DTEND;TZID=UTC:20230928T130000
DTSTAMP:20260419T200254
CREATED:20230803T075059Z
LAST-MODIFIED:20230803T075059Z
UID:35420-1695902400-1695906000@lscthub.co.uk
SUMMARY:PMA Apprenticeships Webinar
DESCRIPTION:The Training Hub Apprenticeship Team and PMA will be delivering an information webinar for employers to find out about a variety of online apprenticeship programmes available with PMA. We will focus on; Business Admin\, Community Health and Wellbeing Worker\, Healthcare Support Worker\, Senior Healthcare Support Worker\, Team Leader\, and Business Analyst.  The steps and support provided for recruiting an apprentice will also be included. Please find out more and book your place via the Eventbrite page 
URL:https://lscthub.co.uk/events/pma-apprenticeships-webinar/
CATEGORIES:Apprenticeships
END:VEVENT
END:VCALENDAR