BEGIN:VCALENDAR
VERSION:2.0
PRODID:-//Lancashire and South Cumbria Training Hub - ECPv6.15.20//NONSGML v1.0//EN
CALSCALE:GREGORIAN
METHOD:PUBLISH
X-WR-CALNAME:Lancashire and South Cumbria Training Hub
X-ORIGINAL-URL:https://lscthub.co.uk
X-WR-CALDESC:Events for Lancashire and South Cumbria Training Hub
REFRESH-INTERVAL;VALUE=DURATION:PT1H
X-Robots-Tag:noindex
X-PUBLISHED-TTL:PT1H
BEGIN:VTIMEZONE
TZID:Europe/London
BEGIN:DAYLIGHT
TZOFFSETFROM:+0000
TZOFFSETTO:+0100
TZNAME:BST
DTSTART:20250330T010000
END:DAYLIGHT
BEGIN:STANDARD
TZOFFSETFROM:+0100
TZOFFSETTO:+0000
TZNAME:GMT
DTSTART:20251026T010000
END:STANDARD
BEGIN:DAYLIGHT
TZOFFSETFROM:+0000
TZOFFSETTO:+0100
TZNAME:BST
DTSTART:20260329T010000
END:DAYLIGHT
BEGIN:STANDARD
TZOFFSETFROM:+0100
TZOFFSETTO:+0000
TZNAME:GMT
DTSTART:20261025T010000
END:STANDARD
BEGIN:DAYLIGHT
TZOFFSETFROM:+0000
TZOFFSETTO:+0100
TZNAME:BST
DTSTART:20270328T010000
END:DAYLIGHT
BEGIN:STANDARD
TZOFFSETFROM:+0100
TZOFFSETTO:+0000
TZNAME:GMT
DTSTART:20271031T010000
END:STANDARD
END:VTIMEZONE
BEGIN:VEVENT
DTSTART;TZID=Europe/London:20260515T093000
DTEND;TZID=Europe/London:20260515T113000
DTSTAMP:20260419T142415
CREATED:20260119T150603Z
LAST-MODIFIED:20260119T150603Z
UID:56433-1778837400-1778844600@lscthub.co.uk
SUMMARY:NHS Travel Vaccinations Update Training
DESCRIPTION:This NHS travel vaccinations update course provided by L&SC Training Hub is to update HCPs already experienced in providing the vaccinations available on the NHS as part of the Crown Scheme for travel. This training is not suitable for those who have not undertaken the Full Travel immunisation training course.\nL&SC training hub do NOT provide the Travel foundation course and therefore alternative providers must be sought. Please see  https://janechiodini.learnupon.com/store/1248909-1-introduction-to-travel-health-course for guidance however other courses are available.\nThis is as recommended by the Faculty of Travel Medicine of the Royal College of Physicians and Surgeons of Glasgow https://rcpsg.ac.uk/documents/publications/1535-tm-guidancedoc-1020-final-hires-singlepages/file whilst using the RCN competency framework https://www.rcn.org.uk/Professional-Development/publications/rcn-travel-health-nursing-uk-pub-010-573\nThe training does not cover anaphylaxis or basic life support or travel vaccinations provided as a private service. This must be completed separately.\n\n\n\nThis is an interactive session and you will be expected to interact. Please ensure you have a camera and microphone available to attend the meeting.\n\n\nYou will receive a certificate post training for your attendance. Places are limited\, if you have booked a place\, please ensure you attend.\nIf you have any additional needs or requirements to attend this session\, please contact us at mbpcc.lscthub@nhs.net\nBy signing up you agree for your information to be stored and shared by the Training Hub and with the Training Provider\, NHSE and NHS ICB\, for the delivery of this training\, monitoring\, reporting and certification purposes only.
URL:https://lscthub.co.uk/events/nhs-travel-vaccinations-update-training-12/
CATEGORIES:Imms & Vaccs Training
ORGANIZER;CN="Lancashire and South Cumbria Primary Care Training Hub":MAILTO:mbpcc.lscthub@nhs.net
END:VEVENT
BEGIN:VEVENT
DTSTART;TZID=Europe/London:20260515T093000
DTEND;TZID=Europe/London:20260515T153000
DTSTAMP:20260419T142415
CREATED:20260216T145624Z
LAST-MODIFIED:20260216T145624Z
UID:57176-1778837400-1778859000@lscthub.co.uk
SUMMARY:Basic Wound Care (part 1 of 2) Virtual session via Teams
DESCRIPTION:This virtual session is a full day 9.30- 4pm with 30 mins break for lunch. \nThe session is delivered by our basic wound care supertrainer Abigail Holman \nThe day will cover:\nAM\nA&P of the structure and function of the skin recap\nStages of wound healing\nDefining and classifying wounds\nWound Healing\nPatient Assessment\nWound assessment and documentation\nWound management and debridement\nExudate management and cleansing\nWound infection and dressing selection\nFactors affecting wound healing\nPM\nSkin tears\nSimple lacerations\nSimple skin burns\nMalignancy flags\nSutures and clip removal\nSafeguarding \nYou MUST have a camera and microphone to join this session \nThe second face to face half day must be booked separately and must be completed to achieve certification
URL:https://lscthub.co.uk/events/basic-wound-care-part-1-of-2-virtual-session-via-teams-6/
CATEGORIES:Clinical nurse training
ORGANIZER;CN="Lancashire and South Cumbria Primary Care Training Hub":MAILTO:mbpcc.lscthub@nhs.net
END:VEVENT
BEGIN:VEVENT
DTSTART;TZID=Europe/London:20260515T130000
DTEND;TZID=Europe/London:20260515T140000
DTSTAMP:20260419T142415
CREATED:20260119T145810Z
LAST-MODIFIED:20260119T145810Z
UID:56423-1778850000-1778853600@lscthub.co.uk
SUMMARY:Immunisations and Vaccinations- Increasing Uptake and Vaccine Hesitancy 2026
DESCRIPTION:This 1 hour virtual training session is for all Healthcare Practitioners registered and non registered involved in the delivery of the national routine immunisation programme to support practice and help promote vaccine uptake amongst eligible individuals. This is non -mandatory and is additional to the mandatory annual update. \nContent – \n Vaccine Hesitance​\n Common Concerns​\nBrief overview of Vaccine preventable diseases\nImproving Uptake​\nSignposting​/ Resources​\nQuestion Time\n\nTime – 1 hour\n\n\nThis is an interactive session and you will be expected to interact. Please ensure you have a camera and microphone available to attend the meeting.\n\nIf you have any additional needs or requirements to attend this session\, please contact us at mbpcc.lscthub@nhs.net \nYou will receive a certificate post training for your attendance.\n\nBy signing up you agree for your information to be stored and shared by the Training Hub and with the Training Provider\, NHSE and NHS ICB\, for the delivery of this training\, monitoring\, reporting and certification purposes only.
URL:https://lscthub.co.uk/events/immunisations-and-vaccinations-increasing-uptake-and-vaccine-hesitancy-2026/
CATEGORIES:Imms & Vaccs Training
ORGANIZER;CN="Lancashire and South Cumbria Primary Care Training Hub":MAILTO:mbpcc.lscthub@nhs.net
END:VEVENT
END:VCALENDAR